BEGIN:VCALENDAR
VERSION:2.0
PRODID:-//Williamson, Inc. - ECPv6.15.18//NONSGML v1.0//EN
CALSCALE:GREGORIAN
METHOD:PUBLISH
X-WR-CALNAME:Williamson, Inc.
X-ORIGINAL-URL:https://williamsonchamber.com
X-WR-CALDESC:Events for Williamson, Inc.
REFRESH-INTERVAL;VALUE=DURATION:PT1H
X-Robots-Tag:noindex
X-PUBLISHED-TTL:PT1H
BEGIN:VTIMEZONE
TZID:America/Chicago
BEGIN:DAYLIGHT
TZOFFSETFROM:-0600
TZOFFSETTO:-0500
TZNAME:CDT
DTSTART:20240310T080000
END:DAYLIGHT
BEGIN:STANDARD
TZOFFSETFROM:-0500
TZOFFSETTO:-0600
TZNAME:CST
DTSTART:20241103T070000
END:STANDARD
BEGIN:DAYLIGHT
TZOFFSETFROM:-0600
TZOFFSETTO:-0500
TZNAME:CDT
DTSTART:20250309T080000
END:DAYLIGHT
BEGIN:STANDARD
TZOFFSETFROM:-0500
TZOFFSETTO:-0600
TZNAME:CST
DTSTART:20251102T070000
END:STANDARD
BEGIN:DAYLIGHT
TZOFFSETFROM:-0600
TZOFFSETTO:-0500
TZNAME:CDT
DTSTART:20260308T080000
END:DAYLIGHT
BEGIN:STANDARD
TZOFFSETFROM:-0500
TZOFFSETTO:-0600
TZNAME:CST
DTSTART:20261101T070000
END:STANDARD
END:VTIMEZONE
BEGIN:VEVENT
DTSTART;TZID=America/Chicago:20250901T063000
DTEND;TZID=America/Chicago:20250901T100000
DTSTAMP:20260425T152136
CREATED:20250527T194930Z
LAST-MODIFIED:20250527T194930Z
UID:10002990-1756708200-1756720800@williamsonchamber.com
SUMMARY:Mercy's Franklin Classic
DESCRIPTION:Thank you for making Mercy’s 25th Anniversary of hosting the Franklin Classic our biggest race yet! Join us again this year on Labor Day\, September 1\, 2025. The Franklin Classic is a 5K\, 10K\, 15K combo and 1K Kids Run. We start and finish on the historic Franklin Square with the final sprint down Main Street.
URL:https://williamsonchamber.com/member-event/mercys-franklin-classic/
LOCATION:Franklin Public Square
ATTACH;FMTTYPE=image/jpeg:https://williamsonchamber.com/wp-content/uploads/2025/05/FC-Logo.jpg
ORGANIZER;CN="Mercy Community Healthcare":MAILTO:marketing
END:VEVENT
BEGIN:VEVENT
DTSTART;TZID=America/Chicago:20250901T193000
DTEND;TZID=America/Chicago:20250901T193000
DTSTAMP:20260425T152136
CREATED:20240214T211057Z
LAST-MODIFIED:20241007T155753Z
UID:10001173-1756755000-1756755000@williamsonchamber.com
SUMMARY:Oddity Improv Monday Night Shows
DESCRIPTION:Oddity Improv is a non-profit theatre company based in Franklin\, TN on a mission to empower and build confidence through the joy of improv and sketch-comedy. Every Monday night we perform clean-ish improv shows at the Mockingbird Theatre! Our talented performers will deliver unique performances keeping you entertained with their quick wit and hilarious antics. Bring your friends and family for a fun-filled evening you won’t forget! Tickets are available for purchase online at www.oddityimprov.com. Bar opens at 6pm; doors at 7pm. Ideal for ages 13 and up – see you there!
URL:https://williamsonchamber.com/member-event/oddity-improv-monday-night-shows/2025-09-01/
LOCATION:The Mockingbird Theatre\, 230 Franklin Rd\, Franklin\, 37064
ATTACH;FMTTYPE=image/jpeg:https://williamsonchamber.com/wp-content/uploads/2024/02/Main-Poster-2024-scaled.jpg
END:VEVENT
END:VCALENDAR