BEGIN:VCALENDAR
VERSION:2.0
PRODID:-//Williamson, Inc. - ECPv6.15.18//NONSGML v1.0//EN
CALSCALE:GREGORIAN
METHOD:PUBLISH
X-WR-CALNAME:Williamson, Inc.
X-ORIGINAL-URL:https://williamsonchamber.com
X-WR-CALDESC:Events for Williamson, Inc.
REFRESH-INTERVAL;VALUE=DURATION:PT1H
X-Robots-Tag:noindex
X-PUBLISHED-TTL:PT1H
BEGIN:VTIMEZONE
TZID:America/Chicago
BEGIN:DAYLIGHT
TZOFFSETFROM:-0600
TZOFFSETTO:-0500
TZNAME:CDT
DTSTART:20240310T080000
END:DAYLIGHT
BEGIN:STANDARD
TZOFFSETFROM:-0500
TZOFFSETTO:-0600
TZNAME:CST
DTSTART:20241103T070000
END:STANDARD
BEGIN:DAYLIGHT
TZOFFSETFROM:-0600
TZOFFSETTO:-0500
TZNAME:CDT
DTSTART:20250309T080000
END:DAYLIGHT
BEGIN:STANDARD
TZOFFSETFROM:-0500
TZOFFSETTO:-0600
TZNAME:CST
DTSTART:20251102T070000
END:STANDARD
BEGIN:DAYLIGHT
TZOFFSETFROM:-0600
TZOFFSETTO:-0500
TZNAME:CDT
DTSTART:20260308T080000
END:DAYLIGHT
BEGIN:STANDARD
TZOFFSETFROM:-0500
TZOFFSETTO:-0600
TZNAME:CST
DTSTART:20261101T070000
END:STANDARD
END:VTIMEZONE
BEGIN:VEVENT
DTSTART;TZID=America/Chicago:20250908T070000
DTEND;TZID=America/Chicago:20250908T143000
DTSTAMP:20260425T152200
CREATED:20250722T182400Z
LAST-MODIFIED:20250722T182400Z
UID:10003044-1757314800-1757341800@williamsonchamber.com
SUMMARY:5th Annual Refuge Invitational
DESCRIPTION:The Refuge Center for Counseling will host their 5th Annual Golf Invitational\, Monday\, September 8\, 2025\, at Westhaven Golf Course in Franklin\, Tennessee. This year’s title sponsor will be Atmos Energy. Now in its fifth year\, this event brings together golf enthusiasts\, community leaders\, and supporters of mental health initiatives for a day on the greens- raising critical funds for The Refuge Center’s counseling programs. This tournament is one of the primary avenues through which Refuge raises the funds to serve over 4200 kids\, teens\, adults\, couples and families through more than 41\,000 counseling sessions each year. This is all done on a sliding scale based on annual income so everyone has access to the same excellent\, accessible\, and affordable counseling services regardless of socio-economic status. \nThe tournament welcomes both individual players and teams\, offering a fantastic chance to network with others while supporting mental health services. Participants will enjoy a morning of golf\, on-course contests\, prizes\, and a post-round lunch buffet and awards reception. For more info\, you can go to refugecenter.org/golf \nFor inquiries\, sponsorship interest\, or ticket details\, please contact:\nTammy Myrick\, Development Coordinator at tammy.myrick@therefugecenter.org\nor go to refugecenter.org/golf\nFor additional media inquiries\, contact Tate Foster\, Marketing Manager at tate.foster@therefugecenter.org
URL:https://williamsonchamber.com/member-event/5th-annual-refuge-invitational/
LOCATION:Westhaven Golf Club\, 4000 Golf Club Ln\, Franklin\, 37064
ATTACH;FMTTYPE=image/jpeg:https://williamsonchamber.com/wp-content/uploads/2025/07/5th-annual-refuge-golf-invitational-V3-07_25.jpg
END:VEVENT
BEGIN:VEVENT
DTSTART;TZID=America/Chicago:20250908T190000
DTEND;TZID=America/Chicago:20250908T203000
DTSTAMP:20260425T152200
CREATED:20230228T161028Z
LAST-MODIFIED:20230228T161028Z
UID:10000069-1757358000-1757363400@williamsonchamber.com
SUMMARY:PFLAG Franklin LGBT Support Group
DESCRIPTION:A support meeting for LGBT individuals\, their families\, friends\, and allies. Confidential gathering and all are welcome. Not a political or religious organization.
URL:https://williamsonchamber.com/member-event/pflag-franklin-lgbt-support-group/2025-09-08/
LOCATION:St. Paul’s Episcopal Church\, 501 W. Main Street\, Franklin\, TN\, 37064\, United States
ATTACH;FMTTYPE=image/jpeg:https://williamsonchamber.com/wp-content/uploads/2023/02/franklin-2000x1500-1.jpg
ORGANIZER;CN="PFLAG Franklin":MAILTO:info@pflagfranklintn.org
END:VEVENT
BEGIN:VEVENT
DTSTART;TZID=America/Chicago:20250908T193000
DTEND;TZID=America/Chicago:20250908T193000
DTSTAMP:20260425T152200
CREATED:20240214T211057Z
LAST-MODIFIED:20241007T155753Z
UID:10001174-1757359800-1757359800@williamsonchamber.com
SUMMARY:Oddity Improv Monday Night Shows
DESCRIPTION:Oddity Improv is a non-profit theatre company based in Franklin\, TN on a mission to empower and build confidence through the joy of improv and sketch-comedy. Every Monday night we perform clean-ish improv shows at the Mockingbird Theatre! Our talented performers will deliver unique performances keeping you entertained with their quick wit and hilarious antics. Bring your friends and family for a fun-filled evening you won’t forget! Tickets are available for purchase online at www.oddityimprov.com. Bar opens at 6pm; doors at 7pm. Ideal for ages 13 and up – see you there!
URL:https://williamsonchamber.com/member-event/oddity-improv-monday-night-shows/2025-09-08/
LOCATION:The Mockingbird Theatre\, 230 Franklin Rd\, Franklin\, 37064
ATTACH;FMTTYPE=image/jpeg:https://williamsonchamber.com/wp-content/uploads/2024/02/Main-Poster-2024-scaled.jpg
END:VEVENT
END:VCALENDAR