BEGIN:VCALENDAR
VERSION:2.0
PRODID:-//Williamson, Inc. - ECPv6.15.18//NONSGML v1.0//EN
CALSCALE:GREGORIAN
METHOD:PUBLISH
X-ORIGINAL-URL:https://williamsonchamber.com
X-WR-CALDESC:Events for Williamson, Inc.
REFRESH-INTERVAL;VALUE=DURATION:PT1H
X-Robots-Tag:noindex
X-PUBLISHED-TTL:PT1H
BEGIN:VTIMEZONE
TZID:America/Chicago
BEGIN:DAYLIGHT
TZOFFSETFROM:-0600
TZOFFSETTO:-0500
TZNAME:CDT
DTSTART:20240310T080000
END:DAYLIGHT
BEGIN:STANDARD
TZOFFSETFROM:-0500
TZOFFSETTO:-0600
TZNAME:CST
DTSTART:20241103T070000
END:STANDARD
BEGIN:DAYLIGHT
TZOFFSETFROM:-0600
TZOFFSETTO:-0500
TZNAME:CDT
DTSTART:20250309T080000
END:DAYLIGHT
BEGIN:STANDARD
TZOFFSETFROM:-0500
TZOFFSETTO:-0600
TZNAME:CST
DTSTART:20251102T070000
END:STANDARD
BEGIN:DAYLIGHT
TZOFFSETFROM:-0600
TZOFFSETTO:-0500
TZNAME:CDT
DTSTART:20260308T080000
END:DAYLIGHT
BEGIN:STANDARD
TZOFFSETFROM:-0500
TZOFFSETTO:-0600
TZNAME:CST
DTSTART:20261101T070000
END:STANDARD
END:VTIMEZONE
BEGIN:VEVENT
DTSTART;TZID=America/Chicago:20250914T140000
DTEND;TZID=America/Chicago:20250914T153000
DTSTAMP:20260425T171528
CREATED:20250806T183710Z
LAST-MODIFIED:20250806T183710Z
UID:10003060-1757858400-1757863800@williamsonchamber.com
SUMMARY:WCPR Children’s Theatre’s Star Bright Players present HADESTOWN
DESCRIPTION:WCPR Children’s Theatre’s Star Bright Players present Hadestown: Teen Edition\, the full-length adaptation of Anaïs Mitchell’s Hadestown\, modified for performance by teen actors for family audiences. This intriguing and beautiful folk opera delivers a deeply resonant and defiantly hopeful theatrical experience. Following two intertwining love stories – that of young dreamers Orpheus and Eurydice\, and that of immortal King Hades and lady Persephone – Hadestown invites audiences on a hell-raising journey to the underworld and back. Inspired by traditions of classic American folk music and vintage New Orleans jazz\, Mitchell’s beguiling sung-through musical pits industry against nature\, doubt against faith\, and fear against love. (This production is rated PG-13.)\nHadestown: Teen Edition is presented by arrangement with Concord Theatricals. www.ConcordTheatricals.com  \nFriday\, September 12 at 7pm\nSaturday\, September 13 at 2pm\nSaturday\, September 13 at 7pm\nSunday\, September 14 at 2pm \nRun Time: 90 Minutes
URL:https://williamsonchamber.com/member-event/wcpr-childrens-theatres-star-bright-players-present-hadestown/2025-09-14/
LOCATION:Williamson County Performing Arts Center\, 112 Everbright Avenue\, Franklin\, TN\, 37064
ATTACH;FMTTYPE=image/jpeg:https://williamsonchamber.com/wp-content/uploads/2025/08/hadestown-sept-2025.jpg
END:VEVENT
BEGIN:VEVENT
DTSTART;TZID=America/Chicago:20250914T170000
DTEND;TZID=America/Chicago:20250914T203000
DTSTAMP:20260425T171528
CREATED:20250505T155732Z
LAST-MODIFIED:20250505T155732Z
UID:10002918-1757869200-1757881800@williamsonchamber.com
SUMMARY:Dinner in the Forest at Owl's Hill Nature Sanctuary
DESCRIPTION:Join us on Sunday\, September 14\, 2025\, for Dinner in the Forest at Owl’s Hill Nature Sanctuary. This unique outdoor event celebrates the beauty and serenity of Owl’s Hill\, featuring cocktails\, farm-to-fork fare\, and more. \nSponsorship Opportunities Available! \nDinner in the Forest is our annual\, exclusive dinner event. This one-of-a-kind event has limited seating and sells out quickly. Our event sponsors receive advance ticket opportunities\, before tickets go on sale to the public. Your sponsorship reserves your tickets for the event\, as well as ensures the continued excellence of our facility and programs. With thousands of members\, patrons\, students and families participating in Owl’s Hill’s programs every year\, your sponsorship shows our community your support and commitment to preserving one of Middle Tennessee’s most beautiful habitats. \nBy sponsoring Dinner in the Forest\, your gift provides:\nA protected home for more than 2\,000 species of local flora and fauna that thrive in the hills\, forests\, creeks\, ponds\, and meadows of our 300-acre sanctuary.\nNature-based programming such as Marshmallow Hikes\, Owl Day\, and Knee-High Naturalist\,\nEducational enrichment programs for school field trips\, outreach and teacher training\,\nTN Naturalist Training\, bluebird nest box building\, creative writing workshops\,\nCritical national wildlife research programs for bird banding\, bird counts\, butterfly counts\, and monarch larvae studies.
URL:https://williamsonchamber.com/member-event/dinner-in-the-forest-at-owls-hill-nature-sanctuary/
LOCATION:Owl’s Hill Nature Sanctuary\, 545 Beech Creek Rd S\, Brentwood\, TN\, 37027\, United States
ATTACH;FMTTYPE=image/jpeg:https://williamsonchamber.com/wp-content/uploads/2025/05/Table-set-Copy.jpg
ORGANIZER;CN="Owl's Hill Nature Sanctuary":MAILTO:info@owlshill.org
END:VEVENT
END:VCALENDAR