BEGIN:VCALENDAR
VERSION:2.0
PRODID:-//Williamson, Inc. - ECPv6.15.18//NONSGML v1.0//EN
CALSCALE:GREGORIAN
METHOD:PUBLISH
X-WR-CALNAME:Williamson, Inc.
X-ORIGINAL-URL:https://williamsonchamber.com
X-WR-CALDESC:Events for Williamson, Inc.
REFRESH-INTERVAL;VALUE=DURATION:PT1H
X-Robots-Tag:noindex
X-PUBLISHED-TTL:PT1H
BEGIN:VTIMEZONE
TZID:America/Chicago
BEGIN:DAYLIGHT
TZOFFSETFROM:-0600
TZOFFSETTO:-0500
TZNAME:CDT
DTSTART:20240310T080000
END:DAYLIGHT
BEGIN:STANDARD
TZOFFSETFROM:-0500
TZOFFSETTO:-0600
TZNAME:CST
DTSTART:20241103T070000
END:STANDARD
BEGIN:DAYLIGHT
TZOFFSETFROM:-0600
TZOFFSETTO:-0500
TZNAME:CDT
DTSTART:20250309T080000
END:DAYLIGHT
BEGIN:STANDARD
TZOFFSETFROM:-0500
TZOFFSETTO:-0600
TZNAME:CST
DTSTART:20251102T070000
END:STANDARD
BEGIN:DAYLIGHT
TZOFFSETFROM:-0600
TZOFFSETTO:-0500
TZNAME:CDT
DTSTART:20260308T080000
END:DAYLIGHT
BEGIN:STANDARD
TZOFFSETFROM:-0500
TZOFFSETTO:-0600
TZNAME:CST
DTSTART:20261101T070000
END:STANDARD
END:VTIMEZONE
BEGIN:VEVENT
DTSTART;TZID=America/Chicago:20250920T090000
DTEND;TZID=America/Chicago:20250920T120000
DTSTAMP:20260425T170532
CREATED:20250718T193517Z
LAST-MODIFIED:20250718T193517Z
UID:10003027-1758358800-1758369600@williamsonchamber.com
SUMMARY:Deer Run Riders Rally
DESCRIPTION:Riders Rally\nSaturday\, September 20\, 2025\nHelp Kick Start Camp Scholarships for Kids in Need\nPancake Breakfast & Guided Motorcycle Rides\nGather with other motorcycle enthusiasts for an exciting fun-filled day! \nEvent Schedule\n9:00 a.m. Check-in Begins\n9:30 a.m. Pancake Breakfast & Program\n10:30 a.m. Kickstands UP for Guided Rides \nDual-Sport/Adventure Bikes\nRural Paved 2-Lane Backroads guided by Deer Run Founder David Gibson\nCruisers Easy/Smooth Paved Scenic Roads \n**This is a family friendly event\, so please respect our no alcohol policy. \nIf you are unable to attend the event\, you can help scholarship a kid in need by donating at the button below. \nGIVE A SCHOLARSHIP\nCORPORATE SPONSORSHIPS \nDONATIONS TO CAMP SCHOLARSHIPS\nWould you consider sponsoring a Camper for $540 or $45 per month — the average sponsorship for a week of day or overnight camp? \nWe ask you to consider your most generous donation to the Deer Run MISSION 42:1 Camp Scholarship Fund which provides a week-long summer camp or parent-child weekend for campers and families who otherwise would not be able to attend because of financial needs or who need emotional support due to the death of a parent\, job loss\, being a foster child\, or being raised by a grandparent or other family member. \nChildren experience an exciting and meaningful time outside in the beauty and stillness of God’s creation learning how much Jesus loves them. They are free from the cultural and technological distractions of their day-to-day lives to focus on what’s important\, and develop the tools needed to succeed in school and impact their community. \nYour donation is 100 percent tax deductible and goes directly to the Camper Scholarship Fund. No donation is too small\, but we ask you to consider a minimum donation of $45. \nIf you have questions or would like to become a sponsor\, contact Development Director Jenny Dyer at JennyD@DeerRun.camp.
URL:https://williamsonchamber.com/member-event/deer-run-riders-rally/
LOCATION:TN
ATTACH;FMTTYPE=image/jpeg:https://williamsonchamber.com/wp-content/uploads/2025/07/DeerRun_Logo_Oval-scaled.jpg
END:VEVENT
BEGIN:VEVENT
DTSTART;TZID=America/Chicago:20250920T110000
DTEND;TZID=America/Chicago:20250920T120000
DTSTAMP:20260425T170532
CREATED:20250904T135946Z
LAST-MODIFIED:20250904T135946Z
UID:10003083-1758366000-1758369600@williamsonchamber.com
SUMMARY:Dance TN Day at Fork of the South
DESCRIPTION:Celebrate “Dance Tennessee Day” with us! \n📍 Fork of the South\, The Factory at Franklin \n🗓 Saturday\, September 20th at 11:00 AM \nAs part of Dance Tennessee Day\, we’re inviting YOU to come MOVE with us! This 30-minute inclusive dance class is open to all ages and abilities—no dance experience necessary. We’ll be dancing in the beautiful courtyard at Fork of the South\, and we’d love to see you there! \nAfter class\, stick around to explore all the fun inside Fork of the South. Shop their unique general store\, sip something sweet at the soda bar\, and treat yourself to a scoop of homemade ice cream\, featuring a special MOVE-themed flavor created just for the day! \nhttps://app.jackrabbitclass.com/regevent.asp?xID=7701739&orgid=552552
URL:https://williamsonchamber.com/member-event/dance-tn-day-at-fork-of-the-south/
LOCATION:Fork of the South\, The Factory at Franklin\, Franklin\, TN\, 37064\, United States
ATTACH;FMTTYPE=image/png:https://williamsonchamber.com/wp-content/uploads/2025/09/DanceTN.png
ORGANIZER;CN="MOVE Inclusive Dance":MAILTO:lauren@moveinclusivedance.com
END:VEVENT
BEGIN:VEVENT
DTSTART;TZID=America/Chicago:20250920T110000
DTEND;TZID=America/Chicago:20250920T123000
DTSTAMP:20260425T170532
CREATED:20250416T203813Z
LAST-MODIFIED:20250416T203813Z
UID:10002828-1758366000-1758371400@williamsonchamber.com
SUMMARY:Build Your Own Charcuterie Cone
DESCRIPTION:Enjoy an afternoon out with friends\, family\, coworkers\, or other groups while you have fun and learn all about ciders\, build a personal and portable charcuterie snack\, and enjoy the picturesque scenery of our 10-acre apple and peach orchard. First\, our Event Director will work with you to teach you how to create a beautiful and eye-catching charcuterie cone while you sip on a sampling of 4 of our most popular non-alcoholic fruit ciders. After having fun and meeting other charcuterie and cider lovers\, take your custom creation out to the orchard grounds and enjoy a stroll\, or sit at one of our picnic tables nestled amongst the trees for a truly unique and memorable experience. Finally\, take a peek inside our newly remodeled retail area and enjoy 10% off most items in the store as a thank you for joining us at this event.
URL:https://williamsonchamber.com/member-event/build-your-own-charcuterie-cone/
LOCATION:MorningGloryOrchard\, 7690 Nolensville Road\, Nolensville\, TN\, 37135\, United States
ATTACH;FMTTYPE=image/jpeg:https://williamsonchamber.com/wp-content/uploads/2025/04/Charcuterie-Cone-scaled.jpg
ORGANIZER;CN="MorningGloryOrchard":MAILTO:events@morninggloryorchard.com
END:VEVENT
BEGIN:VEVENT
DTSTART;TZID=America/Chicago:20250920T140000
DTEND;TZID=America/Chicago:20250920T153000
DTSTAMP:20260425T170532
CREATED:20250416T203944Z
LAST-MODIFIED:20250416T203944Z
UID:10002829-1758376800-1758382200@williamsonchamber.com
SUMMARY:Taste & Tour
DESCRIPTION:It’s a field trip to the orchard for adults! Sip on your choice of slushie\, while we take you on a walking tour through the orchard and share our family history and details about how we farm. Then\, we will gather together for a sampling of all sorts of food and drinks while we make new friends and share some laughter. This is a really fun way to learn more about the orchard\, beyond a daily visit. Great for meet ups\, clubs\, mixers\, and team building. All ages are welcome.
URL:https://williamsonchamber.com/member-event/taste-tour-11/
LOCATION:MorningGloryOrchard\, 7690 Nolensville Road\, Nolensville\, TN\, 37135\, United States
ATTACH;FMTTYPE=image/jpeg:https://williamsonchamber.com/wp-content/uploads/2025/04/20170729_104747-scaled.jpg
ORGANIZER;CN="MorningGloryOrchard":MAILTO:events@morninggloryorchard.com
END:VEVENT
END:VCALENDAR