BEGIN:VCALENDAR
VERSION:2.0
PRODID:-//Williamson, Inc. - ECPv6.15.18//NONSGML v1.0//EN
CALSCALE:GREGORIAN
METHOD:PUBLISH
X-WR-CALNAME:Williamson, Inc.
X-ORIGINAL-URL:https://williamsonchamber.com
X-WR-CALDESC:Events for Williamson, Inc.
REFRESH-INTERVAL;VALUE=DURATION:PT1H
X-Robots-Tag:noindex
X-PUBLISHED-TTL:PT1H
BEGIN:VTIMEZONE
TZID:America/Chicago
BEGIN:DAYLIGHT
TZOFFSETFROM:-0600
TZOFFSETTO:-0500
TZNAME:CDT
DTSTART:20240310T080000
END:DAYLIGHT
BEGIN:STANDARD
TZOFFSETFROM:-0500
TZOFFSETTO:-0600
TZNAME:CST
DTSTART:20241103T070000
END:STANDARD
BEGIN:DAYLIGHT
TZOFFSETFROM:-0600
TZOFFSETTO:-0500
TZNAME:CDT
DTSTART:20250309T080000
END:DAYLIGHT
BEGIN:STANDARD
TZOFFSETFROM:-0500
TZOFFSETTO:-0600
TZNAME:CST
DTSTART:20251102T070000
END:STANDARD
BEGIN:DAYLIGHT
TZOFFSETFROM:-0600
TZOFFSETTO:-0500
TZNAME:CDT
DTSTART:20260308T080000
END:DAYLIGHT
BEGIN:STANDARD
TZOFFSETFROM:-0500
TZOFFSETTO:-0600
TZNAME:CST
DTSTART:20261101T070000
END:STANDARD
END:VTIMEZONE
BEGIN:VEVENT
DTSTART;TZID=America/Chicago:20250925T110000
DTEND;TZID=America/Chicago:20250925T150000
DTSTAMP:20260425T170528
CREATED:20250716T144202Z
LAST-MODIFIED:20250716T144202Z
UID:10003020-1758798000-1758812400@williamsonchamber.com
SUMMARY:MTSU BIG Career Fair
DESCRIPTION:Is the largest university fair\, with 1\,800+ attendees expected\n• Inviting 20k undergrad and grad students\, as well as alumni\n• Serves Nashville’s top producer of college grads\n• Represents 300+ majors across 8 colleges\n• Connects students to internships and jobs\n• Provides key opportunities to build networking skills\n• Is a platform for industry and career exploration\n• Models professional dress and behavior for students\n• Features CDC Partner Program recruiters\n• Is a Pipeline for building diverse talent networks
URL:https://williamsonchamber.com/member-event/mtsu-big-career-fair-2/
LOCATION:TN
ATTACH;FMTTYPE=image/jpeg:https://williamsonchamber.com/wp-content/uploads/2025/07/Employer-Facing-Handbill-BCF-2025-scaled.jpg
ORGANIZER;CN="Middle TN State University":MAILTO:kim.collins@mtsu.edu
END:VEVENT
BEGIN:VEVENT
DTSTART;TZID=America/Chicago:20250925T120000
DTEND;TZID=America/Chicago:20250925T133000
DTSTAMP:20260425T170528
CREATED:20250922T182511Z
LAST-MODIFIED:20250922T182511Z
UID:10003097-1758801600-1758807000@williamsonchamber.com
SUMMARY:Dungeons & Dragons Group Therapy
DESCRIPTION:Adult Online Group\, 10 weeks – Open to anyone in TN (age 18+) – Begins September 25th: Thursdays from 12pm-1:30pm.\nThe campaign runs for 10 weeks with a break in the middle and costs $850 ($85/session can be split into multiple payments – just let us know ahead of time). Participants get an extra free one-on-one session with Penny Reif\, our therapeutic game master\, if they need help developing their character as the group begins. \nWe love to talk about D&D therapy and would love to answer any questions you might have! Just reach out to our Front Desk at your convenience. \nIf you can’t make it this time\, please join our interest list and let us know about your availability so we can keep you in the loop about future groups!
URL:https://williamsonchamber.com/member-event/dungeons-dragons-group-therapy/
LOCATION:TN
ATTACH;FMTTYPE=image/jpeg:https://williamsonchamber.com/wp-content/uploads/2025/09/dnd-therapy-group-september-25-the-hope-preserve.jpg
ORGANIZER;CN="The Hope Preserve":MAILTO:frontdesk@thehopepreserve.com
END:VEVENT
BEGIN:VEVENT
DTSTART;TZID=America/Chicago:20250925T173000
DTEND;TZID=America/Chicago:20250925T200000
DTSTAMP:20260425T170528
CREATED:20250718T193642Z
LAST-MODIFIED:20250718T193642Z
UID:10003028-1758821400-1758830400@williamsonchamber.com
SUMMARY:Deer Run Vision Dinner
DESCRIPTION:An Evening of Purpose\, Passion & Possibility \nJoin us for a meaningful evening as we cast the vision for the future of Deer Run — a place where lives are transformed\, friendships are forged\, and lasting memories are made. This special night will include dinner\, stories of impact\, special music\, and an opportunity to partner with us in shaping the next season of growth. \n📅 Date: Thursday\, September 25\, 2025\n🕕 Time: 5:30 pm\n📍 Location: Deer Run Campus ~ 3845 Perkins Road\, Thompsons Station\n🎟️ RSVP by Thursday\, September 11th \nDinner will be provided | Business Casual Attire \nContact Jenny Dyer at 615-426-1196 or email at jennyd@deerrun.camp for more information on how to purchase seats\, a table or partnership opportunities\, or go to our website at https://deerrun.camp/fundraising-events/ \nTogether\, we’ll explore how your support can help us expand our reach\, enhance our programs\, and ensure every child has the opportunity to experience the joy of camp. \nLet’s build the future of Deer Run together. We want to be so much more for you and your family than a week of summer camp and we will do this together —one story\, one child\, one gift at a time.
URL:https://williamsonchamber.com/member-event/deer-run-vision-dinner/
LOCATION:TN
ATTACH;FMTTYPE=image/jpeg:https://williamsonchamber.com/wp-content/uploads/2025/07/DeerRun_Logo_Oval-1-scaled.jpg
END:VEVENT
END:VCALENDAR