BEGIN:VCALENDAR
VERSION:2.0
PRODID:-//Williamson, Inc. - ECPv6.15.18//NONSGML v1.0//EN
CALSCALE:GREGORIAN
METHOD:PUBLISH
X-WR-CALNAME:Williamson, Inc.
X-ORIGINAL-URL:https://williamsonchamber.com
X-WR-CALDESC:Events for Williamson, Inc.
REFRESH-INTERVAL;VALUE=DURATION:PT1H
X-Robots-Tag:noindex
X-PUBLISHED-TTL:PT1H
BEGIN:VTIMEZONE
TZID:America/Chicago
BEGIN:DAYLIGHT
TZOFFSETFROM:-0600
TZOFFSETTO:-0500
TZNAME:CDT
DTSTART:20240310T080000
END:DAYLIGHT
BEGIN:STANDARD
TZOFFSETFROM:-0500
TZOFFSETTO:-0600
TZNAME:CST
DTSTART:20241103T070000
END:STANDARD
BEGIN:DAYLIGHT
TZOFFSETFROM:-0600
TZOFFSETTO:-0500
TZNAME:CDT
DTSTART:20250309T080000
END:DAYLIGHT
BEGIN:STANDARD
TZOFFSETFROM:-0500
TZOFFSETTO:-0600
TZNAME:CST
DTSTART:20251102T070000
END:STANDARD
BEGIN:DAYLIGHT
TZOFFSETFROM:-0600
TZOFFSETTO:-0500
TZNAME:CDT
DTSTART:20260308T080000
END:DAYLIGHT
BEGIN:STANDARD
TZOFFSETFROM:-0500
TZOFFSETTO:-0600
TZNAME:CST
DTSTART:20261101T070000
END:STANDARD
END:VTIMEZONE
BEGIN:VEVENT
DTSTART;TZID=America/Chicago:20250926T110000
DTEND;TZID=America/Chicago:20250926T150000
DTSTAMP:20260425T170515
CREATED:20250716T144145Z
LAST-MODIFIED:20250716T144145Z
UID:10003019-1758884400-1758898800@williamsonchamber.com
SUMMARY:MTSU BIG Career Fair
DESCRIPTION:Is the largest university fair\, with 1\,800+ attendees expected\n• Inviting 20k undergrad and grad students\, as well as alumni\n• Serves Nashville’s top producer of college grads\n• Represents 300+ majors across 8 colleges\n• Connects students to internships and jobs\n• Provides key opportunities to build networking skills\n• Is a platform for industry and career exploration\n• Models professional dress and behavior for students\n• Features CDC Partner Program recruiters\n• Is a Pipeline for building diverse talent networks
URL:https://williamsonchamber.com/member-event/mtsu-big-career-fair/
LOCATION:TN
ORGANIZER;CN="Middle Tennessee State University":MAILTO:kim.collins@mtsu.edu
END:VEVENT
BEGIN:VEVENT
DTSTART;TZID=America/Chicago:20250926T190000
DTEND;TZID=America/Chicago:20250926T203000
DTSTAMP:20260425T170515
CREATED:20250718T193738Z
LAST-MODIFIED:20250718T193738Z
UID:10003030-1758913200-1758918600@williamsonchamber.com
SUMMARY:Take Me Home The Music of John Denver
DESCRIPTION:“Jim Curry was over there sounding like John Denver… I closed my eyes and went back to the times when I worked with John.” Pete Huttlinger\, guitar player for John Denver. Join in the fun and take in the joy and hope of a full\, inspired evening of the music of America’s most beloved singer-songwriter. National touring performer Jim Curry will have you clapping your hands and singing along to hit after hit. \nWilliamson County Performing Arts Center\nSaturday\, September 26\n7:00 p.m. – 8:30 p.m. \nAdmission:\nAdult – $30\nSenior – $27.50
URL:https://williamsonchamber.com/member-event/take-me-home-the-music-of-john-denver/
LOCATION:Wiliamson County Performing Arts Center\, 112 Everbright Avenue\, Franklin\, TN\, 37064
ATTACH;FMTTYPE=image/jpeg:https://williamsonchamber.com/wp-content/uploads/2025/07/John-denver-tribute.jpg
END:VEVENT
END:VCALENDAR