BEGIN:VCALENDAR
VERSION:2.0
PRODID:-//Williamson, Inc. - ECPv6.15.18//NONSGML v1.0//EN
CALSCALE:GREGORIAN
METHOD:PUBLISH
X-WR-CALNAME:Williamson, Inc.
X-ORIGINAL-URL:https://williamsonchamber.com
X-WR-CALDESC:Events for Williamson, Inc.
REFRESH-INTERVAL;VALUE=DURATION:PT1H
X-Robots-Tag:noindex
X-PUBLISHED-TTL:PT1H
BEGIN:VTIMEZONE
TZID:America/Chicago
BEGIN:DAYLIGHT
TZOFFSETFROM:-0600
TZOFFSETTO:-0500
TZNAME:CDT
DTSTART:20240310T080000
END:DAYLIGHT
BEGIN:STANDARD
TZOFFSETFROM:-0500
TZOFFSETTO:-0600
TZNAME:CST
DTSTART:20241103T070000
END:STANDARD
BEGIN:DAYLIGHT
TZOFFSETFROM:-0600
TZOFFSETTO:-0500
TZNAME:CDT
DTSTART:20250309T080000
END:DAYLIGHT
BEGIN:STANDARD
TZOFFSETFROM:-0500
TZOFFSETTO:-0600
TZNAME:CST
DTSTART:20251102T070000
END:STANDARD
BEGIN:DAYLIGHT
TZOFFSETFROM:-0600
TZOFFSETTO:-0500
TZNAME:CDT
DTSTART:20260308T080000
END:DAYLIGHT
BEGIN:STANDARD
TZOFFSETFROM:-0500
TZOFFSETTO:-0600
TZNAME:CST
DTSTART:20261101T070000
END:STANDARD
END:VTIMEZONE
BEGIN:VEVENT
DTSTART;TZID=America/Chicago:20251004T050000
DTEND;TZID=America/Chicago:20251004T193000
DTSTAMP:20260425T152225
CREATED:20250718T134622Z
LAST-MODIFIED:20250718T134622Z
UID:10003026-1759554000-1759606200@williamsonchamber.com
SUMMARY:Music in the Meadow at Owl's Hill
DESCRIPTION:Featuring: Bill Lloyd\, Don Henry & Buddy Mondlock\nOctober 4: 5:00 pm – 7:30 pm (Concert 6 PM) \nTickets: $30/person or $150/carload (up to 6 people per vehicle)\nReserved seating (limited quantities): $150/picnic table \nMusic in the Meadow is a one-of-a-kind\, concert series to raise vital operating funds for Owl’s Hill Nature Sanctuary. This intimate concert event is a wonderful evening held under the stars and among the rolling hills of Owl’s Hill Nature Sanctuary. Guests bring their own picnic dinner\, chairs and coolers and enjoy a great night of music for a great cause!
URL:https://williamsonchamber.com/member-event/music-in-the-meadow-at-owls-hill-3/
LOCATION:Owl’s Hill Nature Sanctuary\, 545 Beech Creek Rd S\, Brentwood\, TN\, 37027\, United States
ATTACH;FMTTYPE=image/jpeg:https://williamsonchamber.com/wp-content/uploads/2025/07/Music-in-the-Meadow.jpg
ORGANIZER;CN="Owl's Hill Nature Sanctuary":MAILTO:info@owlshill.org
END:VEVENT
BEGIN:VEVENT
DTSTART;TZID=America/Chicago:20251004T103000
DTEND;TZID=America/Chicago:20251004T123000
DTSTAMP:20260425T152225
CREATED:20250416T204105Z
LAST-MODIFIED:20250416T204105Z
UID:10002832-1759573800-1759581000@williamsonchamber.com
SUMMARY:Mixology Craft Cocktail Class- Brunch Edition
DESCRIPTION:Let us teach you how to use our Award-Winning hard cider in some of your favorite drinks and how to use our non-alcoholic ciders as mixers for classic cocktails. You will also learn a little about the art of making hard cider and how we began our journey with it. This is a 21+ class and includes the equivalent of 3 alcoholic drinks\, complimentary food pairings with each drink\, AND you will take home a recipe card\, so you never forget how to make your favorite beverages! This is a fun class for meet ups\, date nights\, or networking events! You will need to show your ID before the class starts.
URL:https://williamsonchamber.com/member-event/mixology-craft-cocktail-class-brunch-edition/
LOCATION:MorningGloryOrchard\, 7690 Nolensville Road\, Nolensville\, TN\, 37135\, United States
ATTACH;FMTTYPE=image/jpeg:https://williamsonchamber.com/wp-content/uploads/2025/04/untitled-76-scaled.jpeg
ORGANIZER;CN="MorningGloryOrchard":MAILTO:events@morninggloryorchard.com
END:VEVENT
BEGIN:VEVENT
DTSTART;TZID=America/Chicago:20251004T150000
DTEND;TZID=America/Chicago:20251004T163000
DTSTAMP:20260425T152225
CREATED:20250416T204125Z
LAST-MODIFIED:20250416T204125Z
UID:10002833-1759590000-1759595400@williamsonchamber.com
SUMMARY:Taste & Tour
DESCRIPTION:It’s a field trip to the orchard for adults! Sip on your choice of slushie\, while we take you on a walking tour through the orchard and share our family history and details about how we farm. Then\, we will gather together for a sampling of all sorts of food and drinks while we make new friends and share some laughter. This is a really fun way to learn more about the orchard\, beyond a daily visit. Great for meet ups\, clubs\, mixers\, and team building. All ages are welcome.
URL:https://williamsonchamber.com/member-event/taste-tour-13/
LOCATION:MorningGloryOrchard\, 7690 Nolensville Road\, Nolensville\, TN\, 37135\, United States
ATTACH;FMTTYPE=image/jpeg:https://williamsonchamber.com/wp-content/uploads/2025/04/20190809_141108-scaled.jpg
ORGANIZER;CN="MorningGloryOrchard":MAILTO:events@morninggloryorchard.com
END:VEVENT
END:VCALENDAR