BEGIN:VCALENDAR
VERSION:2.0
PRODID:-//Williamson, Inc. - ECPv6.15.18//NONSGML v1.0//EN
CALSCALE:GREGORIAN
METHOD:PUBLISH
X-ORIGINAL-URL:https://williamsonchamber.com
X-WR-CALDESC:Events for Williamson, Inc.
REFRESH-INTERVAL;VALUE=DURATION:PT1H
X-Robots-Tag:noindex
X-PUBLISHED-TTL:PT1H
BEGIN:VTIMEZONE
TZID:America/Chicago
BEGIN:DAYLIGHT
TZOFFSETFROM:-0600
TZOFFSETTO:-0500
TZNAME:CDT
DTSTART:20240310T080000
END:DAYLIGHT
BEGIN:STANDARD
TZOFFSETFROM:-0500
TZOFFSETTO:-0600
TZNAME:CST
DTSTART:20241103T070000
END:STANDARD
BEGIN:DAYLIGHT
TZOFFSETFROM:-0600
TZOFFSETTO:-0500
TZNAME:CDT
DTSTART:20250309T080000
END:DAYLIGHT
BEGIN:STANDARD
TZOFFSETFROM:-0500
TZOFFSETTO:-0600
TZNAME:CST
DTSTART:20251102T070000
END:STANDARD
BEGIN:DAYLIGHT
TZOFFSETFROM:-0600
TZOFFSETTO:-0500
TZNAME:CDT
DTSTART:20260308T080000
END:DAYLIGHT
BEGIN:STANDARD
TZOFFSETFROM:-0500
TZOFFSETTO:-0600
TZNAME:CST
DTSTART:20261101T070000
END:STANDARD
END:VTIMEZONE
BEGIN:VEVENT
DTSTART;TZID=America/Chicago:20251010T160000
DTEND;TZID=America/Chicago:20251212T173000
DTSTAMP:20260425T132427
CREATED:20251013T142025Z
LAST-MODIFIED:20251013T142025Z
UID:10003122-1760112000-1765560600@williamsonchamber.com
SUMMARY:Time 2 Groove Free Inclusive Drumming Classes
DESCRIPTION:Time 2 Groove\nFree Inclusive Drumming Classes \nExperience inclusive drumming for all abilities! This program combines the evidence-based Rhythmic Arts Project (TRAP) curriculum with the healing power of Native American and West African drum circles. Participants develop focus\, memory\, social skills\, motor control\, and more. \nAll equipment provided\, including adaptive drum stands.\nLed by professional percussionist and counselor Bobby Kent\, with his daughter Isabella.\nJoin us and discover the joy of rhythm! \nHappens on the following Dates:\nOct 10\, 2025\, 4:00pm to 4:45pm Timezone: Central Time (US & Canada)\nOct 10\, 2025\, 4:45pm to 5:45pm Timezone: Central Time (US & Canada)\nNov 14\, 2025\, 4:00pm to 4:45pm Timezone: Central Time (US & Canada)\nNov 14\, 2025\, 4:45pm to 5:30pm Timezone: Central Time (US & Canada)\nDec 12\, 2025\, 4:00pm to 4:45pm Timezone: Central Time (US & Canada)\nDec 12\, 2025\, 4:45pm to 5:30pm Timezone: Central Time (US & Canada)
URL:https://williamsonchamber.com/member-event/time-2-groove-free-inclusive-drumming-classes/2025-10-10/
LOCATION:MOVE Inclusive Dance\, 1113 Murfreesboro Rd. Unit. 404\, Franklin\, 37064
ATTACH;FMTTYPE=image/png:https://williamsonchamber.com/wp-content/uploads/2025/10/Time-2-Groove.png
ORGANIZER;CN="MOVE Inclusive Dance":MAILTO:lauren@moveinclusivedance.com
END:VEVENT
BEGIN:VEVENT
DTSTART;TZID=America/Chicago:20251014T090000
DTEND;TZID=America/Chicago:20251014T100000
DTSTAMP:20260425T132427
CREATED:20250416T204523Z
LAST-MODIFIED:20250416T204523Z
UID:10002841-1760432400-1760436000@williamsonchamber.com
SUMMARY:Fall Family Field Trips
DESCRIPTION:Join us at Morning Glory Orchard for a truly unique field trip! Our tour guides will take you on an adventure through the apple orchard as we learn about tree life cycles\, pollinators\, tools used in farming\, and discuss the different animals one might see while visiting an orchard. We will also sample honey\, apples and apple cider!\nPlease note\, this is not a private tour. You will be in groups of 20-50. All persons over the age of 2 will need a purchased ticket. Tours start at either 9 am or noon and last for one hour. Feel free to bring a picnic lunch\, or purchase grab and go items from our store and extend your fun on the farm in our picnic grounds (tables are first come\, first served\, so you may want to bring a blanket).
URL:https://williamsonchamber.com/member-event/fall-family-field-trips-3/2025-10-14/
LOCATION:MorningGloryOrchard\, 7690 Nolensville Road\, Nolensville\, TN\, 37135\, United States
ATTACH;FMTTYPE=image/jpeg:https://williamsonchamber.com/wp-content/uploads/2025/04/One-Room-Schoolhouse.jpeg
ORGANIZER;CN="MorningGloryOrchard":MAILTO:events@morninggloryorchard.com
END:VEVENT
BEGIN:VEVENT
DTSTART;TZID=America/Chicago:20251014T090000
DTEND;TZID=America/Chicago:20251014T120000
DTSTAMP:20260425T132427
CREATED:20250723T220959Z
LAST-MODIFIED:20250723T220959Z
UID:10003050-1760432400-1760443200@williamsonchamber.com
SUMMARY:The Round Workshop Series
DESCRIPTION:Unlock the next stage of your business!\nThe Round Workshop Series is a new experience for small business owners and teams who want to engage more deeply\, connect meaningfully\, and actively work on their business. These are paid\, expert-led workshops covering a variety of valuable topics\, all hosted right here at H+U. Each session is limited to just 20 participants to ensure an intimate\, high-impact experience. \nBUSINESS BREAKTHROUGH\nExpert: Carrie Cullen\nDate: Every Tuesday starting October 14th through November 4th\nTime: 9 am – 12 pm\nWhere: Harbor + Union’s Mesa Grande Conference Room\nPrice: $600\nThe Business Breakthrough Workshop is a 4-week\, results-driven program for small business owners ready to overcome barriers and grow with purpose. You’ll gain clarity\, confidence\, and a personalized roadmap aligned with your vision and strengths. Each week focuses on a key area: vision\, marketing\, mindset\, and sales. Through live coaching and hands-on exercises\, you’ll walk away with tools to grow and sell with ease. \nWhat You Can Expect: \nWalk away with a clear vision and step-by-step roadmap for where you want your business to be in 1 and 3 years.\nCreate a personalized\, aligned 1-page marketing plan that feels effortless and true to you.\nBuild the confidence to sell your offers\, charge your worth\, and navigate challenges with resilience.\nStep fully into the role of an empowered entrepreneur with clarity\, focus\, and long-term vision.\nAll workshop materials will be provided upon arrival.
URL:https://williamsonchamber.com/member-event/the-round-workshop-series-3/2025-10-14/
LOCATION:Harbor + Union\, 230 Franklin Road Building 2\, Franklin\, 37064
ATTACH;FMTTYPE=image/png:https://williamsonchamber.com/wp-content/uploads/2025/07/The-Round-Workshop-Series-Logo-2.png
ORGANIZER;CN="Harbor + Union":MAILTO:info@harborandunion.com
END:VEVENT
BEGIN:VEVENT
DTSTART;TZID=America/Chicago:20251014T100000
DTEND;TZID=America/Chicago:20251014T130000
DTSTAMP:20260425T132427
CREATED:20250714T130508Z
LAST-MODIFIED:20250714T130508Z
UID:10003016-1760436000-1760446800@williamsonchamber.com
SUMMARY:Homeschool Days at Owl's Hill
DESCRIPTION:We’ve set aside program days specifically for Homeschool families\, co-ops and pods to experience hands-on learning at Owl’s Hill. \nFall 2025 Homeschool Programs \nTuesday\, September 30\, 2025\nSuitable for Ages 5+  \nSession I: Meet an Owl 10-11:30 am\nMeet our non-releasable education owls and discover the varied habitats and adaptations of native owls.  \nSession II: Insect Adventure 1-2:30 pm\nDiscover our smallest wildlife and learn about the important roles they play in our ecosystems. \nTuesday\, October 14\, 2025\nSuitable for Ages 5+  \nSession I: Food Webs 10-11:30 am\nThe balance of nature. When you figure out the food chain in an ecosystem\, you can see how the animals\, plants\, and their habitat are connected.  \nSession II: Reptile & Amphibian Discovery 1-2:30 pm\nLearn all about reptile and amphibian characteristics. Meet one of our reptile ambassadors and hit the trail to learn about reptile and amphibian habitats and life cycles. \nCost is $15 per person (student or adult) per session. All-ages programs are designed for children ages 5+. Siblings 2 and under are free. Advance registration is required for all participants (students\, adults and siblings 3 and over). All children must be accompanied by a registered adult. \nNo walk-ups.
URL:https://williamsonchamber.com/member-event/homeschool-days-at-owls-hill-3/2025-10-14/
LOCATION:Owl’s Hill Nature Sanctuary\, 545 Beech Creek Rd S\, Brentwood\, TN\, 37027\, United States
ATTACH;FMTTYPE=image/jpeg:https://williamsonchamber.com/wp-content/uploads/2025/07/Homeschool-Days-1.jpg
ORGANIZER;CN="Owl's Hill Nature Sanctuary":MAILTO:info@owlshill.org
END:VEVENT
BEGIN:VEVENT
DTSTART;TZID=America/Chicago:20251014T120000
DTEND;TZID=America/Chicago:20251014T130000
DTSTAMP:20260425T132427
CREATED:20250416T204544Z
LAST-MODIFIED:20250416T204544Z
UID:10002844-1760443200-1760446800@williamsonchamber.com
SUMMARY:Fall Family Field Trips
DESCRIPTION:Join us at Morning Glory Orchard for a truly unique field trip! Our tour guides will take you on an adventure through the apple orchard as we learn about tree life cycles\, pollinators\, tools used in farming\, and discuss the different animals one might see while visiting an orchard. We will also sample honey\, apples and apple cider!\nPlease note\, this is not a private tour. You will be in groups of 20-50. All persons over the age of 2 will need a purchased ticket. Tours start at either 9 am or noon and last for one hour. Feel free to bring a picnic lunch\, or purchase grab and go items from our store and extend your fun on the farm in our picnic grounds (tables are first come\, first served\, so you may want to bring a blanket).
URL:https://williamsonchamber.com/member-event/fall-family-field-trips-4/2025-10-14/
LOCATION:MorningGloryOrchard\, 7690 Nolensville Road\, Nolensville\, TN\, 37135\, United States
ATTACH;FMTTYPE=image/jpeg:https://williamsonchamber.com/wp-content/uploads/2025/04/Picking-2.jpg
ORGANIZER;CN="MorningGloryOrchard":MAILTO:events@morninggloryorchard.com
END:VEVENT
BEGIN:VEVENT
DTSTART;TZID=America/Chicago:20251014T183000
DTEND;TZID=America/Chicago:20251014T200000
DTSTAMP:20260425T132427
CREATED:20250416T201931Z
LAST-MODIFIED:20250416T201931Z
UID:10002760-1760466600-1760472000@williamsonchamber.com
SUMMARY:Singo! (Music Bingo)
DESCRIPTION:Tired of boring old Bingo\, where some dry personality simply calls out numbers? Come try the next generation of the classic game- where karaoke meets bingo! Join us as we play snippets of songs with a theme and sing along as you look for the title on your game board. Don’t worry if you are not good with lyrics- we’ll announce all the titles\, so you don’t miss a beat! Prizes for each round will be given and even better\, it is FREE to play! Bring your friends\, enjoy a cocktail or slushie and take in the beautiful views of our orchard grounds. Singo occurs every Tuesday of the month from June 10 through August 26 and the theme changes each week\, so no two games are ever the same!
URL:https://williamsonchamber.com/member-event/singo-music-bingo/2025-10-14/
LOCATION:MorningGloryOrchard\, 7690 Nolensville Road\, Nolensville\, TN\, 37135\, United States
ATTACH;FMTTYPE=image/png:https://williamsonchamber.com/wp-content/uploads/2025/04/Singo-logo.png
ORGANIZER;CN="MorningGloryOrchard":MAILTO:events@morninggloryorchard.com
END:VEVENT
END:VCALENDAR