BEGIN:VCALENDAR
VERSION:2.0
PRODID:-//Williamson, Inc. - ECPv6.15.18//NONSGML v1.0//EN
CALSCALE:GREGORIAN
METHOD:PUBLISH
X-WR-CALNAME:Williamson, Inc.
X-ORIGINAL-URL:https://williamsonchamber.com
X-WR-CALDESC:Events for Williamson, Inc.
REFRESH-INTERVAL;VALUE=DURATION:PT1H
X-Robots-Tag:noindex
X-PUBLISHED-TTL:PT1H
BEGIN:VTIMEZONE
TZID:America/Chicago
BEGIN:DAYLIGHT
TZOFFSETFROM:-0600
TZOFFSETTO:-0500
TZNAME:CDT
DTSTART:20240310T080000
END:DAYLIGHT
BEGIN:STANDARD
TZOFFSETFROM:-0500
TZOFFSETTO:-0600
TZNAME:CST
DTSTART:20241103T070000
END:STANDARD
BEGIN:DAYLIGHT
TZOFFSETFROM:-0600
TZOFFSETTO:-0500
TZNAME:CDT
DTSTART:20250309T080000
END:DAYLIGHT
BEGIN:STANDARD
TZOFFSETFROM:-0500
TZOFFSETTO:-0600
TZNAME:CST
DTSTART:20251102T070000
END:STANDARD
BEGIN:DAYLIGHT
TZOFFSETFROM:-0600
TZOFFSETTO:-0500
TZNAME:CDT
DTSTART:20260308T080000
END:DAYLIGHT
BEGIN:STANDARD
TZOFFSETFROM:-0500
TZOFFSETTO:-0600
TZNAME:CST
DTSTART:20261101T070000
END:STANDARD
END:VTIMEZONE
BEGIN:VEVENT
DTSTART;TZID=America/Chicago:20251010T160000
DTEND;TZID=America/Chicago:20251212T173000
DTSTAMP:20260425T152205
CREATED:20251013T142025Z
LAST-MODIFIED:20251013T142025Z
UID:10003122-1760112000-1765560600@williamsonchamber.com
SUMMARY:Time 2 Groove Free Inclusive Drumming Classes
DESCRIPTION:Time 2 Groove\nFree Inclusive Drumming Classes \nExperience inclusive drumming for all abilities! This program combines the evidence-based Rhythmic Arts Project (TRAP) curriculum with the healing power of Native American and West African drum circles. Participants develop focus\, memory\, social skills\, motor control\, and more. \nAll equipment provided\, including adaptive drum stands.\nLed by professional percussionist and counselor Bobby Kent\, with his daughter Isabella.\nJoin us and discover the joy of rhythm! \nHappens on the following Dates:\nOct 10\, 2025\, 4:00pm to 4:45pm Timezone: Central Time (US & Canada)\nOct 10\, 2025\, 4:45pm to 5:45pm Timezone: Central Time (US & Canada)\nNov 14\, 2025\, 4:00pm to 4:45pm Timezone: Central Time (US & Canada)\nNov 14\, 2025\, 4:45pm to 5:30pm Timezone: Central Time (US & Canada)\nDec 12\, 2025\, 4:00pm to 4:45pm Timezone: Central Time (US & Canada)\nDec 12\, 2025\, 4:45pm to 5:30pm Timezone: Central Time (US & Canada)
URL:https://williamsonchamber.com/member-event/time-2-groove-free-inclusive-drumming-classes/2025-10-10/
LOCATION:MOVE Inclusive Dance\, 1113 Murfreesboro Rd. Unit. 404\, Franklin\, 37064
ATTACH;FMTTYPE=image/png:https://williamsonchamber.com/wp-content/uploads/2025/10/Time-2-Groove.png
ORGANIZER;CN="MOVE Inclusive Dance":MAILTO:lauren@moveinclusivedance.com
END:VEVENT
BEGIN:VEVENT
DTSTART;TZID=America/Chicago:20251015T083000
DTEND;TZID=America/Chicago:20251015T100000
DTSTAMP:20260425T152205
CREATED:20250825T131548Z
LAST-MODIFIED:20250825T131548Z
UID:10003073-1760517000-1760522400@williamsonchamber.com
SUMMARY:The Round @ Harbor + Union
DESCRIPTION:Running a business can be challenging and lonely. We’re on a mission to change that. The Round is a place to connect with other local entrepreneurs and experience a high-impact workshop designed to make an immediate difference for your business. \n8:30 – 9 am: networking\, coffee and light bites\n9 – 10 am: guest speaker and open discussion
URL:https://williamsonchamber.com/member-event/the-round-harbor-union-5/
LOCATION:Harbor + Union\, 230 Franklin Road Building 2\, Franklin\, 37064
ATTACH;FMTTYPE=image/jpeg:https://williamsonchamber.com/wp-content/uploads/2025/08/TheRound_Branding_Evergreen_i02_square-1-scaled.jpg
ORGANIZER;CN="Harbor + Union":MAILTO:info@harborandunion.com
END:VEVENT
BEGIN:VEVENT
DTSTART;TZID=America/Chicago:20251015T090000
DTEND;TZID=America/Chicago:20251015T100000
DTSTAMP:20260425T152205
CREATED:20250416T204523Z
LAST-MODIFIED:20250416T204523Z
UID:10002842-1760518800-1760522400@williamsonchamber.com
SUMMARY:Fall Family Field Trips
DESCRIPTION:Join us at Morning Glory Orchard for a truly unique field trip! Our tour guides will take you on an adventure through the apple orchard as we learn about tree life cycles\, pollinators\, tools used in farming\, and discuss the different animals one might see while visiting an orchard. We will also sample honey\, apples and apple cider!\nPlease note\, this is not a private tour. You will be in groups of 20-50. All persons over the age of 2 will need a purchased ticket. Tours start at either 9 am or noon and last for one hour. Feel free to bring a picnic lunch\, or purchase grab and go items from our store and extend your fun on the farm in our picnic grounds (tables are first come\, first served\, so you may want to bring a blanket).
URL:https://williamsonchamber.com/member-event/fall-family-field-trips-3/2025-10-15/
LOCATION:MorningGloryOrchard\, 7690 Nolensville Road\, Nolensville\, TN\, 37135\, United States
ATTACH;FMTTYPE=image/jpeg:https://williamsonchamber.com/wp-content/uploads/2025/04/One-Room-Schoolhouse.jpeg
ORGANIZER;CN="MorningGloryOrchard":MAILTO:events@morninggloryorchard.com
END:VEVENT
BEGIN:VEVENT
DTSTART;TZID=America/Chicago:20251015T100000
DTEND;TZID=America/Chicago:20251015T113000
DTSTAMP:20260425T152205
CREATED:20250721T133947Z
LAST-MODIFIED:20250721T133947Z
UID:10003039-1760522400-1760527800@williamsonchamber.com
SUMMARY:Knee-High Naturalist Classes at Owl's Hill
DESCRIPTION:Fall: October 15\, 22 & 29\, November 5\, 12 & 19 Registration Opens August 20 \nCost: $165 adult / child pair | $125 additional child \nAll sessions meet 10-11:30am. \nYoung children\, ages 3-5 years old\, with an adult\, will explore the natural world through a series of topics lead by an Owl’s Hill Environmental Educator. Each week has a different focus emphasizing working together through discovery\, crafts\, and outdoor exploration. \nNo strollers or unregistered siblings\, please. Space is limited and pre-registration is required. Fees are per adult/child pair for one 4- or 6-week series (spring\, summer\, or fall).
URL:https://williamsonchamber.com/member-event/knee-high-naturalist-classes-at-owls-hill/
LOCATION:Owl’s Hill Nature Sanctuary\, 545 Beech Creek Rd S\, Brentwood\, TN\, 37027\, United States
ATTACH;FMTTYPE=image/jpeg:https://williamsonchamber.com/wp-content/uploads/2025/07/Knee-High-Naturalist-1-1.jpg
ORGANIZER;CN="Owl's Hill Nature Sanctuary":MAILTO:info@owlshill.org
END:VEVENT
BEGIN:VEVENT
DTSTART;TZID=America/Chicago:20251015T120000
DTEND;TZID=America/Chicago:20251015T130000
DTSTAMP:20260425T152205
CREATED:20250416T204544Z
LAST-MODIFIED:20250416T204544Z
UID:10002845-1760529600-1760533200@williamsonchamber.com
SUMMARY:Fall Family Field Trips
DESCRIPTION:Join us at Morning Glory Orchard for a truly unique field trip! Our tour guides will take you on an adventure through the apple orchard as we learn about tree life cycles\, pollinators\, tools used in farming\, and discuss the different animals one might see while visiting an orchard. We will also sample honey\, apples and apple cider!\nPlease note\, this is not a private tour. You will be in groups of 20-50. All persons over the age of 2 will need a purchased ticket. Tours start at either 9 am or noon and last for one hour. Feel free to bring a picnic lunch\, or purchase grab and go items from our store and extend your fun on the farm in our picnic grounds (tables are first come\, first served\, so you may want to bring a blanket).
URL:https://williamsonchamber.com/member-event/fall-family-field-trips-4/2025-10-15/
LOCATION:MorningGloryOrchard\, 7690 Nolensville Road\, Nolensville\, TN\, 37135\, United States
ATTACH;FMTTYPE=image/jpeg:https://williamsonchamber.com/wp-content/uploads/2025/04/Picking-2.jpg
ORGANIZER;CN="MorningGloryOrchard":MAILTO:events@morninggloryorchard.com
END:VEVENT
END:VCALENDAR