BEGIN:VCALENDAR
VERSION:2.0
PRODID:-//Williamson, Inc. - ECPv6.15.18//NONSGML v1.0//EN
CALSCALE:GREGORIAN
METHOD:PUBLISH
X-WR-CALNAME:Williamson, Inc.
X-ORIGINAL-URL:https://williamsonchamber.com
X-WR-CALDESC:Events for Williamson, Inc.
REFRESH-INTERVAL;VALUE=DURATION:PT1H
X-Robots-Tag:noindex
X-PUBLISHED-TTL:PT1H
BEGIN:VTIMEZONE
TZID:America/Chicago
BEGIN:DAYLIGHT
TZOFFSETFROM:-0600
TZOFFSETTO:-0500
TZNAME:CDT
DTSTART:20240310T080000
END:DAYLIGHT
BEGIN:STANDARD
TZOFFSETFROM:-0500
TZOFFSETTO:-0600
TZNAME:CST
DTSTART:20241103T070000
END:STANDARD
BEGIN:DAYLIGHT
TZOFFSETFROM:-0600
TZOFFSETTO:-0500
TZNAME:CDT
DTSTART:20250309T080000
END:DAYLIGHT
BEGIN:STANDARD
TZOFFSETFROM:-0500
TZOFFSETTO:-0600
TZNAME:CST
DTSTART:20251102T070000
END:STANDARD
BEGIN:DAYLIGHT
TZOFFSETFROM:-0600
TZOFFSETTO:-0500
TZNAME:CDT
DTSTART:20260308T080000
END:DAYLIGHT
BEGIN:STANDARD
TZOFFSETFROM:-0500
TZOFFSETTO:-0600
TZNAME:CST
DTSTART:20261101T070000
END:STANDARD
END:VTIMEZONE
BEGIN:VEVENT
DTSTART;TZID=America/Chicago:20251010T160000
DTEND;TZID=America/Chicago:20251212T173000
DTSTAMP:20260425T152222
CREATED:20251013T142025Z
LAST-MODIFIED:20251013T142025Z
UID:10003122-1760112000-1765560600@williamsonchamber.com
SUMMARY:Time 2 Groove Free Inclusive Drumming Classes
DESCRIPTION:Time 2 Groove\nFree Inclusive Drumming Classes \nExperience inclusive drumming for all abilities! This program combines the evidence-based Rhythmic Arts Project (TRAP) curriculum with the healing power of Native American and West African drum circles. Participants develop focus\, memory\, social skills\, motor control\, and more. \nAll equipment provided\, including adaptive drum stands.\nLed by professional percussionist and counselor Bobby Kent\, with his daughter Isabella.\nJoin us and discover the joy of rhythm! \nHappens on the following Dates:\nOct 10\, 2025\, 4:00pm to 4:45pm Timezone: Central Time (US & Canada)\nOct 10\, 2025\, 4:45pm to 5:45pm Timezone: Central Time (US & Canada)\nNov 14\, 2025\, 4:00pm to 4:45pm Timezone: Central Time (US & Canada)\nNov 14\, 2025\, 4:45pm to 5:30pm Timezone: Central Time (US & Canada)\nDec 12\, 2025\, 4:00pm to 4:45pm Timezone: Central Time (US & Canada)\nDec 12\, 2025\, 4:45pm to 5:30pm Timezone: Central Time (US & Canada)
URL:https://williamsonchamber.com/member-event/time-2-groove-free-inclusive-drumming-classes/2025-10-10/
LOCATION:MOVE Inclusive Dance\, 1113 Murfreesboro Rd. Unit. 404\, Franklin\, 37064
ATTACH;FMTTYPE=image/png:https://williamsonchamber.com/wp-content/uploads/2025/10/Time-2-Groove.png
ORGANIZER;CN="MOVE Inclusive Dance":MAILTO:lauren@moveinclusivedance.com
END:VEVENT
BEGIN:VEVENT
DTSTART;TZID=America/Chicago:20251016T090000
DTEND;TZID=America/Chicago:20251016T100000
DTSTAMP:20260425T152222
CREATED:20250416T204523Z
LAST-MODIFIED:20250416T204523Z
UID:10002843-1760605200-1760608800@williamsonchamber.com
SUMMARY:Fall Family Field Trips
DESCRIPTION:Join us at Morning Glory Orchard for a truly unique field trip! Our tour guides will take you on an adventure through the apple orchard as we learn about tree life cycles\, pollinators\, tools used in farming\, and discuss the different animals one might see while visiting an orchard. We will also sample honey\, apples and apple cider!\nPlease note\, this is not a private tour. You will be in groups of 20-50. All persons over the age of 2 will need a purchased ticket. Tours start at either 9 am or noon and last for one hour. Feel free to bring a picnic lunch\, or purchase grab and go items from our store and extend your fun on the farm in our picnic grounds (tables are first come\, first served\, so you may want to bring a blanket).
URL:https://williamsonchamber.com/member-event/fall-family-field-trips-3/2025-10-16/
LOCATION:MorningGloryOrchard\, 7690 Nolensville Road\, Nolensville\, TN\, 37135\, United States
ATTACH;FMTTYPE=image/jpeg:https://williamsonchamber.com/wp-content/uploads/2025/04/One-Room-Schoolhouse.jpeg
ORGANIZER;CN="MorningGloryOrchard":MAILTO:events@morninggloryorchard.com
END:VEVENT
BEGIN:VEVENT
DTSTART;TZID=America/Chicago:20251016T090000
DTEND;TZID=America/Chicago:20251016T120000
DTSTAMP:20260425T152222
CREATED:20250723T221021Z
LAST-MODIFIED:20250723T221021Z
UID:10003052-1760605200-1760616000@williamsonchamber.com
SUMMARY:The Round Workshop Series
DESCRIPTION:Unlock the next stage of your business!\nThe Round Workshop Series is a new experience for small business owners and teams who want to engage more deeply\, connect meaningfully\, and actively work on their business. These are paid\, expert-led workshops covering a variety of valuable topics\, all hosted right here at H+U. Each session is limited to just 20 participants to ensure an intimate\, high-impact experience. \nAI-Powered Growth Workshop: Build\, Automate\, Scale\nExpert: Erik Bledsoe\nDate: Every Thursday starting October 16th through November 6th\nTime: 9 am – 12 pm\nWhere: Harbor + Union’s Mesa Grande Conference Room\nPrice: $1\,000\nThis workshop series transforms business leaders from AI basics to business breakthroughs. We’ll establish a solid foundation in AI fundamentals and progress through enterprise-grade implementation. Participants will gain hands-on experience with cutting-edge AI tools\, learn to automate routine tasks\, and develop custom solutions that drive real business results. \nWhat You Can Expect: \nDiscover advanced learned language model (LLM) techniques like ChatGPT and more that most business users miss\nDevelop AI-powered marketing campaigns\, presentations\, and brand portfolios\nTransform routine business processes into AI-automated workflows that save hours\nBuild custom business applications without technical teams or coding knowledge\nEstablish a clear roadmap for AI implementation in upscaling your business\nEach session includes two hours of hands-on training followed by one-hour of strategic networking and implementation planning. \nAll workshop materials will be provided upon arrival.
URL:https://williamsonchamber.com/member-event/the-round-workshop-series-4/2025-10-16/
LOCATION:Harbor + Union\, 230 Franklin Road Building 2\, Franklin\, 37064
ATTACH;FMTTYPE=image/png:https://williamsonchamber.com/wp-content/uploads/2025/07/The-Round-Workshop-Series-Logo-3.png
ORGANIZER;CN="Harbor + Union":MAILTO:info@harborandunion.com
END:VEVENT
BEGIN:VEVENT
DTSTART;TZID=America/Chicago:20251016T120000
DTEND;TZID=America/Chicago:20251016T130000
DTSTAMP:20260425T152222
CREATED:20250416T204544Z
LAST-MODIFIED:20250416T204544Z
UID:10002846-1760616000-1760619600@williamsonchamber.com
SUMMARY:Fall Family Field Trips
DESCRIPTION:Join us at Morning Glory Orchard for a truly unique field trip! Our tour guides will take you on an adventure through the apple orchard as we learn about tree life cycles\, pollinators\, tools used in farming\, and discuss the different animals one might see while visiting an orchard. We will also sample honey\, apples and apple cider!\nPlease note\, this is not a private tour. You will be in groups of 20-50. All persons over the age of 2 will need a purchased ticket. Tours start at either 9 am or noon and last for one hour. Feel free to bring a picnic lunch\, or purchase grab and go items from our store and extend your fun on the farm in our picnic grounds (tables are first come\, first served\, so you may want to bring a blanket).
URL:https://williamsonchamber.com/member-event/fall-family-field-trips-4/2025-10-16/
LOCATION:MorningGloryOrchard\, 7690 Nolensville Road\, Nolensville\, TN\, 37135\, United States
ATTACH;FMTTYPE=image/jpeg:https://williamsonchamber.com/wp-content/uploads/2025/04/Picking-2.jpg
ORGANIZER;CN="MorningGloryOrchard":MAILTO:events@morninggloryorchard.com
END:VEVENT
BEGIN:VEVENT
DTSTART;TZID=America/Chicago:20251016T140000
DTEND;TZID=America/Chicago:20251016T150000
DTSTAMP:20260425T152222
CREATED:20250825T203622Z
LAST-MODIFIED:20250825T203747Z
UID:10003077-1760623200-1760626800@williamsonchamber.com
SUMMARY:Groundbreaking for FrankTown Open Hearts
DESCRIPTION:  \nJoin us October 16 at 2 PM as we celebrate with a groundbreaking ceremony for FrankTown Open Hearts’ new facility at the corner of Granbury and Academy St. behind the Williamson County Library.
URL:https://williamsonchamber.com/member-event/groundbreaking-for-franktown-open-hearts/
LOCATION:FrankTown Open Hearts\, Corner of Granbury and Academy\, Franklin\, 37064
ATTACH;FMTTYPE=image/png:https://williamsonchamber.com/wp-content/uploads/2025/08/FrankTown-GroundB.png
ORGANIZER;CN="FrankTown Open Hearts":MAILTO:info@frankltownopenhearts.com
END:VEVENT
BEGIN:VEVENT
DTSTART;TZID=America/Chicago:20251016T180000
DTEND;TZID=America/Chicago:20251016T204500
DTSTAMP:20260425T152222
CREATED:20251003T162151Z
LAST-MODIFIED:20251003T162151Z
UID:10003116-1760637600-1760647500@williamsonchamber.com
SUMMARY:An Evening of Spirits\, Songs\, and Stories
DESCRIPTION:Support Scott Hamilton CARES Foundation and help advance breakthrough cancer research. \nSip on award-winning whiskey and enjoy savory hors d’oeuvres in the rustic charm of Leiper’s Fork\, all while songwriter Lee Thomas Miller shares the stories and songs that have defined modern country music. With nearly two decades of hits — including seven number ones and classics like “You’re Gonna Miss This” (Trace Adkins)\, “Southern Girl” (Tim McGraw)\, and “Perfect Storm” (Brad Paisley) — Miller’s work has shaped the sound of Nashville. Mark your calendars and get your tickets today for a fun night of storytelling\, food\, songs\, and whiskey! \nDoors open at 6:00pm\nLee Thomas Miller at 7:15pm\nThe evening concludes at 8:45pm
URL:https://williamsonchamber.com/member-event/an-evening-of-spirits-songs-and-stories/
LOCATION:TN
ATTACH;FMTTYPE=image/jpeg:https://williamsonchamber.com/wp-content/uploads/2025/10/2018.-SHCF-LFD-Logo.jpg
END:VEVENT
BEGIN:VEVENT
DTSTART;TZID=America/Chicago:20251016T183000
DTEND;TZID=America/Chicago:20251016T203000
DTSTAMP:20260425T152222
CREATED:20250929T163411Z
LAST-MODIFIED:20250929T163411Z
UID:10003112-1760639400-1760646600@williamsonchamber.com
SUMMARY:August Park Public Grand Opening
DESCRIPTION:Come immerse yourself in sophisticated style at the grand opening of our fully and\nprofessionally decorated Harpeth home design. Join us for a tour\, meet our team\, and learn about\nthe distinctive architecture and quality craftsmanship of a Toll Brothers Home. \n-Enjoy Dinner & Beverages\n-Tour the New Model & Quick Move-In Homes\n-Musical Guest\n-Giveaways
URL:https://williamsonchamber.com/member-event/august-park-public-grand-opening/
LOCATION:Toll Brothers at August Park\, 1441 Round Hill Lane\, Spring Hill\, TN\, 37174\, United States
ATTACH;FMTTYPE=image/jpeg:https://williamsonchamber.com/wp-content/uploads/2025/09/AGP-Flyer-GrandOpening-OCT25_GO_EVENT-scaled.jpg
ORGANIZER;CN="Toll":MAILTO:ahytry@tollbrothers.com
END:VEVENT
BEGIN:VEVENT
DTSTART;TZID=America/Chicago:20251016T183000
DTEND;TZID=America/Chicago:20251016T210000
DTSTAMP:20260425T152222
CREATED:20251007T143445Z
LAST-MODIFIED:20251007T143445Z
UID:10003117-1760639400-1760648400@williamsonchamber.com
SUMMARY:A Night of Music\, PHotography\, PHriends and PHun!
DESCRIPTION:elp us celebrate self-expression and connection and view our photographers’ artwork created as a result. You will be moved by musical performances\, enjoy fabulous food\, and participate in silent and live auctions with many great items! We hope to see you there! \nHeavy apps\, beer\, and wine \nMusical Guests:\nJamie O’Neal\nRion Humphries\nElliot McClain \nSilent and live auctions to include:\nHigh-end Tequila and Whiskey Baskets\nDowntown Nashville Hotel stay\nTheater tickets\nBelcourt membership\nNashville Soccer Jersey\nSmoky Mountains get-a-way\nand more!
URL:https://williamsonchamber.com/member-event/a-night-of-music-photography-phriends-and-phun/
LOCATION:Andrews Cadillac\, 1 Cadillac Dr.\, Brentwood\, 37027
ATTACH;FMTTYPE=image/jpeg:https://williamsonchamber.com/wp-content/uploads/2025/10/AbleVoices-Gala-inv_Nashville-Scene.jpg
ORGANIZER;CN="Able Voices":MAILTO:info@ablevoices.org
END:VEVENT
END:VCALENDAR