BEGIN:VCALENDAR
VERSION:2.0
PRODID:-//Williamson, Inc. - ECPv6.15.18//NONSGML v1.0//EN
CALSCALE:GREGORIAN
METHOD:PUBLISH
X-WR-CALNAME:Williamson, Inc.
X-ORIGINAL-URL:https://williamsonchamber.com
X-WR-CALDESC:Events for Williamson, Inc.
REFRESH-INTERVAL;VALUE=DURATION:PT1H
X-Robots-Tag:noindex
X-PUBLISHED-TTL:PT1H
BEGIN:VTIMEZONE
TZID:America/Chicago
BEGIN:DAYLIGHT
TZOFFSETFROM:-0600
TZOFFSETTO:-0500
TZNAME:CDT
DTSTART:20240310T080000
END:DAYLIGHT
BEGIN:STANDARD
TZOFFSETFROM:-0500
TZOFFSETTO:-0600
TZNAME:CST
DTSTART:20241103T070000
END:STANDARD
BEGIN:DAYLIGHT
TZOFFSETFROM:-0600
TZOFFSETTO:-0500
TZNAME:CDT
DTSTART:20250309T080000
END:DAYLIGHT
BEGIN:STANDARD
TZOFFSETFROM:-0500
TZOFFSETTO:-0600
TZNAME:CST
DTSTART:20251102T070000
END:STANDARD
BEGIN:DAYLIGHT
TZOFFSETFROM:-0600
TZOFFSETTO:-0500
TZNAME:CDT
DTSTART:20260308T080000
END:DAYLIGHT
BEGIN:STANDARD
TZOFFSETFROM:-0500
TZOFFSETTO:-0600
TZNAME:CST
DTSTART:20261101T070000
END:STANDARD
END:VTIMEZONE
BEGIN:VEVENT
DTSTART;TZID=America/Chicago:20251010T160000
DTEND;TZID=America/Chicago:20251212T173000
DTSTAMP:20260425T170520
CREATED:20251013T142025Z
LAST-MODIFIED:20251013T142025Z
UID:10003122-1760112000-1765560600@williamsonchamber.com
SUMMARY:Time 2 Groove Free Inclusive Drumming Classes
DESCRIPTION:Time 2 Groove\nFree Inclusive Drumming Classes \nExperience inclusive drumming for all abilities! This program combines the evidence-based Rhythmic Arts Project (TRAP) curriculum with the healing power of Native American and West African drum circles. Participants develop focus\, memory\, social skills\, motor control\, and more. \nAll equipment provided\, including adaptive drum stands.\nLed by professional percussionist and counselor Bobby Kent\, with his daughter Isabella.\nJoin us and discover the joy of rhythm! \nHappens on the following Dates:\nOct 10\, 2025\, 4:00pm to 4:45pm Timezone: Central Time (US & Canada)\nOct 10\, 2025\, 4:45pm to 5:45pm Timezone: Central Time (US & Canada)\nNov 14\, 2025\, 4:00pm to 4:45pm Timezone: Central Time (US & Canada)\nNov 14\, 2025\, 4:45pm to 5:30pm Timezone: Central Time (US & Canada)\nDec 12\, 2025\, 4:00pm to 4:45pm Timezone: Central Time (US & Canada)\nDec 12\, 2025\, 4:45pm to 5:30pm Timezone: Central Time (US & Canada)
URL:https://williamsonchamber.com/member-event/time-2-groove-free-inclusive-drumming-classes/2025-10-10/
LOCATION:MOVE Inclusive Dance\, 1113 Murfreesboro Rd. Unit. 404\, Franklin\, 37064
ATTACH;FMTTYPE=image/png:https://williamsonchamber.com/wp-content/uploads/2025/10/Time-2-Groove.png
ORGANIZER;CN="MOVE Inclusive Dance":MAILTO:lauren@moveinclusivedance.com
END:VEVENT
BEGIN:VEVENT
DTSTART;TZID=America/Chicago:20251021T070000
DTEND;TZID=America/Chicago:20251021T090000
DTSTAMP:20260425T170520
CREATED:20250929T154431Z
LAST-MODIFIED:20250929T154431Z
UID:10003111-1761030000-1761037200@williamsonchamber.com
SUMMARY:Franklin Tomorrow Breakfast With the Mayors: Building a Healthy Democracy
DESCRIPTION:Don’t miss the final Breakfast With the Mayors\, presented by Franklin Tomorrow on Tuesday\, Oct. 21\, at a new location at Liberty Hall at The Factory At Franklin. The public is invited to come together to hear Franklin Mayor Ken Moore and Williamson County Mayor Rogers Anderson before participating in a discussion on “Building a Healthy Democracy” through a series of table discussions. To RSVP for this free event\, visit https://lnkd.in/eUw5UVQq
URL:https://williamsonchamber.com/member-event/franklin-tomorrow-breakfast-with-the-mayors-building-a-healthy-democracy/
LOCATION:Liberty Hall in the Factory at Franklin\, 230 Franklin Road\, Franklin\, 37064
ATTACH;FMTTYPE=image/png:https://williamsonchamber.com/wp-content/uploads/2025/09/BWTM-final.png
ORGANIZER;CN="Franklin Tomorrow Inc.":MAILTO:mindy@franklintomorrow.org
END:VEVENT
BEGIN:VEVENT
DTSTART;TZID=America/Chicago:20251021T173000
DTEND;TZID=America/Chicago:20251021T190000
DTSTAMP:20260425T170520
CREATED:20250416T204646Z
LAST-MODIFIED:20250416T204646Z
UID:10002849-1761067800-1761073200@williamsonchamber.com
SUMMARY:Taste & Tour
DESCRIPTION:It’s a field trip to the orchard for adults! Sip on your choice of slushie\, while we take you on a walking tour through the orchard and share our family history and details about how we farm. Then\, we will gather together for a sampling of all sorts of food and drinks while we make new friends and share some laughter. This is a really fun way to learn more about the orchard\, beyond a daily visit. Great for meet ups\, clubs\, mixers\, and team building. All ages are welcome.
URL:https://williamsonchamber.com/member-event/taste-tour-15/
LOCATION:MorningGloryOrchard\, 7690 Nolensville Road\, Nolensville\, TN\, 37135\, United States
ATTACH;FMTTYPE=image/jpeg:https://williamsonchamber.com/wp-content/uploads/2025/04/20170904_131655-scaled.jpg
ORGANIZER;CN="MorningGloryOrchard":MAILTO:events@morninggloryorchard.com
END:VEVENT
BEGIN:VEVENT
DTSTART;TZID=America/Chicago:20251021T173000
DTEND;TZID=America/Chicago:20251021T200000
DTSTAMP:20260425T170520
CREATED:20251002T150009Z
LAST-MODIFIED:20251002T150009Z
UID:10003114-1761067800-1761076800@williamsonchamber.com
SUMMARY:A Night Full of STARS
DESCRIPTION:“A Night Full of STARS” — A Fundraiser Dinner to Support STARS Basketball Club \nSTARS Basketball Club is thrilled to announce its annual A Night Full of STARS fundraiser dinner on Tuesday\, October 21\, 2025\, at 5:30 p.m. at Brentwood Baptist Church (7777 Concord Road\, Brentwood\, TN). This special evening of food\, fellowship\, and all things STARS promises to bring together community supporters\, families\, alumni\, coaches\, and players in support of our mission: “Planting Seeds for Christ through Basketball.”\n________________________________________\nWhat to Expect\n• Dinner & Fellowship — Enjoy a delicious meal in the warm company of supporters\, families\, and friends of STARS.\n• Silent Auction — Bid on exciting items using a mobile bidding platform (GiveSmart) with proceeds benefitting STARS.\n• College Coaches Panel — Hear from college-level coaches about recruiting\, development\, and the future of basketball.\n• Special Guest Appearance — We will be joined by guest speaker Jason Romano to share encouragement and insight.\n• Spotlights on STARS — Celebrate the successes\, stories\, and future of STARS Basketball—our athletes\, coaches\, and program growth.\nDoors open at 5:30 p.m.\, and dinner service will begin at 5:45 p.m.\n________________________________________\nWhy Your Support Matters\nAs the largest basketball club in the Southeast\, STARS serves players from 1st grade through 17U with year-round development through camps\, clinics\, leagues\, and competitive teams.\nFunds raised during A Night Full of STARS will support:\n• Scholarships and financial assistance for families in need (*STARS has awarded over $120\,000 in financial aid in the past years)\n• Facility and equipment enhancements\n• Expanded programming (clinics\, training\, outreach)\n• Resources to invest in our coaches and staff development\nEven those unable to attend can support the cause by donating or bidding in the silent auction.\n________________________________________\nHow You Can Be Part\n1. Buy a ticket or reserve a table — individual seats and table sponsorships available\n2. Become an event sponsor — help elevate the evening and increase impact\n3. Donate auction items — gift experiences\, goods\, or services to be auctioned\n4. Share the event — spread the word via social media\, email\, and among your networks\n5. Attend and participate — come with your family and show support for the STARS mission\n________________________________________\nAbout STARS Basketball Club\nSTARS Basketball Club is proud to be a faith‐based athletic organization based in Middle Tennessee (501c3)\, serving basketball players across age groups with development\, competitive opportunities\, and character formation. Through our motto “Planting Seeds for Christ through Basketball\,” our aim is not only excellence on the court but impact off the court.\nWe invite the entire community—friends\, families\, businesses\, and supporters—to join us in making A Night Full of STARS a shining success.\nFor tickets\, sponsorships\, donations\, or more information\, visit starsbasketballclub.com or contact Lance Akridge (Club Director): LAkridge@StarsBasketballClub.com
URL:https://williamsonchamber.com/member-event/a-night-full-of-stars/
LOCATION:Brentwood Baptist Church\, 7777 Concord Road\, Brentwood\, 37027
ATTACH;FMTTYPE=image/jpeg:https://williamsonchamber.com/wp-content/uploads/2025/10/STARS-letters-1-scaled.jpg
ORGANIZER;CN="STARS Basketball Club":MAILTO:LAkridge@starsbasketballclub.com
END:VEVENT
BEGIN:VEVENT
DTSTART;TZID=America/Chicago:20251021T183000
DTEND;TZID=America/Chicago:20251021T200000
DTSTAMP:20260425T170520
CREATED:20250416T201931Z
LAST-MODIFIED:20250416T201931Z
UID:10002761-1761071400-1761076800@williamsonchamber.com
SUMMARY:Singo! (Music Bingo)
DESCRIPTION:Tired of boring old Bingo\, where some dry personality simply calls out numbers? Come try the next generation of the classic game- where karaoke meets bingo! Join us as we play snippets of songs with a theme and sing along as you look for the title on your game board. Don’t worry if you are not good with lyrics- we’ll announce all the titles\, so you don’t miss a beat! Prizes for each round will be given and even better\, it is FREE to play! Bring your friends\, enjoy a cocktail or slushie and take in the beautiful views of our orchard grounds. Singo occurs every Tuesday of the month from June 10 through August 26 and the theme changes each week\, so no two games are ever the same!
URL:https://williamsonchamber.com/member-event/singo-music-bingo/2025-10-21/
LOCATION:MorningGloryOrchard\, 7690 Nolensville Road\, Nolensville\, TN\, 37135\, United States
ATTACH;FMTTYPE=image/png:https://williamsonchamber.com/wp-content/uploads/2025/04/Singo-logo.png
ORGANIZER;CN="MorningGloryOrchard":MAILTO:events@morninggloryorchard.com
END:VEVENT
END:VCALENDAR