BEGIN:VCALENDAR
VERSION:2.0
PRODID:-//Williamson, Inc. - ECPv6.15.18//NONSGML v1.0//EN
CALSCALE:GREGORIAN
METHOD:PUBLISH
X-WR-CALNAME:Williamson, Inc.
X-ORIGINAL-URL:https://williamsonchamber.com
X-WR-CALDESC:Events for Williamson, Inc.
REFRESH-INTERVAL;VALUE=DURATION:PT1H
X-Robots-Tag:noindex
X-PUBLISHED-TTL:PT1H
BEGIN:VTIMEZONE
TZID:America/Chicago
BEGIN:DAYLIGHT
TZOFFSETFROM:-0600
TZOFFSETTO:-0500
TZNAME:CDT
DTSTART:20240310T080000
END:DAYLIGHT
BEGIN:STANDARD
TZOFFSETFROM:-0500
TZOFFSETTO:-0600
TZNAME:CST
DTSTART:20241103T070000
END:STANDARD
BEGIN:DAYLIGHT
TZOFFSETFROM:-0600
TZOFFSETTO:-0500
TZNAME:CDT
DTSTART:20250309T080000
END:DAYLIGHT
BEGIN:STANDARD
TZOFFSETFROM:-0500
TZOFFSETTO:-0600
TZNAME:CST
DTSTART:20251102T070000
END:STANDARD
BEGIN:DAYLIGHT
TZOFFSETFROM:-0600
TZOFFSETTO:-0500
TZNAME:CDT
DTSTART:20260308T080000
END:DAYLIGHT
BEGIN:STANDARD
TZOFFSETFROM:-0500
TZOFFSETTO:-0600
TZNAME:CST
DTSTART:20261101T070000
END:STANDARD
END:VTIMEZONE
BEGIN:VEVENT
DTSTART;TZID=America/Chicago:20251010T160000
DTEND;TZID=America/Chicago:20251212T173000
DTSTAMP:20260425T152212
CREATED:20251013T142025Z
LAST-MODIFIED:20251013T142025Z
UID:10003122-1760112000-1765560600@williamsonchamber.com
SUMMARY:Time 2 Groove Free Inclusive Drumming Classes
DESCRIPTION:Time 2 Groove\nFree Inclusive Drumming Classes \nExperience inclusive drumming for all abilities! This program combines the evidence-based Rhythmic Arts Project (TRAP) curriculum with the healing power of Native American and West African drum circles. Participants develop focus\, memory\, social skills\, motor control\, and more. \nAll equipment provided\, including adaptive drum stands.\nLed by professional percussionist and counselor Bobby Kent\, with his daughter Isabella.\nJoin us and discover the joy of rhythm! \nHappens on the following Dates:\nOct 10\, 2025\, 4:00pm to 4:45pm Timezone: Central Time (US & Canada)\nOct 10\, 2025\, 4:45pm to 5:45pm Timezone: Central Time (US & Canada)\nNov 14\, 2025\, 4:00pm to 4:45pm Timezone: Central Time (US & Canada)\nNov 14\, 2025\, 4:45pm to 5:30pm Timezone: Central Time (US & Canada)\nDec 12\, 2025\, 4:00pm to 4:45pm Timezone: Central Time (US & Canada)\nDec 12\, 2025\, 4:45pm to 5:30pm Timezone: Central Time (US & Canada)
URL:https://williamsonchamber.com/member-event/time-2-groove-free-inclusive-drumming-classes/2025-10-10/
LOCATION:MOVE Inclusive Dance\, 1113 Murfreesboro Rd. Unit. 404\, Franklin\, 37064
ATTACH;FMTTYPE=image/png:https://williamsonchamber.com/wp-content/uploads/2025/10/Time-2-Groove.png
ORGANIZER;CN="MOVE Inclusive Dance":MAILTO:lauren@moveinclusivedance.com
END:VEVENT
BEGIN:VEVENT
DTSTART;TZID=America/Chicago:20251024T080000
DTEND;TZID=America/Chicago:20251231T170000
DTSTAMP:20260425T152212
CREATED:20251028T174505Z
LAST-MODIFIED:20251028T174505Z
UID:10003506-1761292800-1767200400@williamsonchamber.com
SUMMARY:McEwen Northside Apartments
DESCRIPTION:Fall Move-in SPECIALS!!\nCall today to schedule your tour.\n615.567.6004
URL:https://williamsonchamber.com/member-event/mcewen-northside-apartments/
LOCATION:TN
ATTACH;FMTTYPE=image/jpeg:https://williamsonchamber.com/wp-content/uploads/2025/10/McEwen-Flyer-2.jpg
END:VEVENT
BEGIN:VEVENT
DTSTART;TZID=America/Chicago:20251025T084500
DTEND;TZID=America/Chicago:20251025T092500
DTSTAMP:20260425T152212
CREATED:20251003T161237Z
LAST-MODIFIED:20251003T161237Z
UID:10003115-1761381900-1761384300@williamsonchamber.com
SUMMARY:MOVE Inclusive Dance & Olive Branch Speech Therapy Pop-Up
DESCRIPTION:Little Voices\, Big Moves\npresented by MOVE Inclusive Dance\, Olive Branch Speech Therapy\, & Little Spoon \nSaturday\, October 25th at 8:45am \nMOVE Inclusive Dance – Franklin Studio \n1113 Murfreesboro Road #404 Franklin\, TN 37064 \nJoin MOVE Inclusive Dance and Olive Branch Speech Therapy for a fun-filled morning designed to get little bodies moving and little voices chattering! Perfect for children ages 5 and under\, this pop-up class kicks off with a 10-minute\, play-based activity led by a licensed speech therapist—ideal for families already in speech therapy\, considering it\, or simply curious about how to help their child’s language blossom. \nNext\, we’ll groove together in a 30-minute\, inclusive parent-and-child dance class where movement meets connection. Whether your goal is to support speech development or just have a joyful bonding experience\, you’ll leave with practical ideas and happy memories. \nThanks to our friends at Little Spoon\, every family will go home with delicious samples to enjoy. \n**We will also have Swag bags for all Participants!!!! \nhttps://www.moveinclusivedance.com/parent-child-event
URL:https://williamsonchamber.com/member-event/move-inclusive-dance-olive-branch-speech-therapy-pop-up/
LOCATION:MOVE Inclusive Dance Franklin\, 1113 Murfreesboro Road #404\, Franklin\, 37064
ATTACH;FMTTYPE=image/png:https://williamsonchamber.com/wp-content/uploads/2025/10/1.png
ORGANIZER;CN="MOVE Inclusive Dance":MAILTO:lauren@moveinclusivedance.com
END:VEVENT
BEGIN:VEVENT
DTSTART;TZID=America/Chicago:20251025T084500
DTEND;TZID=America/Chicago:20251025T093000
DTSTAMP:20260425T152212
CREATED:20251013T142043Z
LAST-MODIFIED:20251013T142043Z
UID:10003121-1761381900-1761384600@williamsonchamber.com
SUMMARY:Little Voices\, Big Moves
DESCRIPTION:Join MOVE Inclusive Dance and Olive Branch Speech Therapy for a fun-filled morning designed to get little bodies moving and little voices chattering! Perfect for children ages 5 and under\, this pop-up class kicks off with a 10-minute\, play-based activity led by a licensed speech therapist—ideal for families already in speech therapy\, considering it\, or simply curious about how to help their child’s language blossom. \nNext\, we’ll groove together in a 30-minute\, inclusive parent-and-child dance class where movement meets connection. Whether your goal is to support speech development or just have a joyful bonding experience\, you’ll leave with practical ideas and happy memories. \nThanks to our friends at Little Spoon\, every family will go home with delicious samples to enjoy.
URL:https://williamsonchamber.com/member-event/little-voices-big-moves/
LOCATION:MOVE Inclusive Dance Franklin\, 1113 Murfreesboro Road #404\, Franklin\, 37064
ATTACH;FMTTYPE=image/jpeg:https://williamsonchamber.com/wp-content/uploads/2025/10/Parent-Child-Flyer.jpg
ORGANIZER;CN="MOVE Inclusive Dance":MAILTO:lauren@moveinclusivedance.com
END:VEVENT
BEGIN:VEVENT
DTSTART;TZID=America/Chicago:20251025T084500
DTEND;TZID=America/Chicago:20251025T093000
DTSTAMP:20260425T152212
CREATED:20251013T142100Z
LAST-MODIFIED:20251013T142100Z
UID:10003120-1761381900-1761384600@williamsonchamber.com
SUMMARY:Little Voices\, Big Moves
DESCRIPTION:Join MOVE Inclusive Dance and Olive Branch Speech Therapy for a fun-filled morning designed to get little bodies moving and little voices chattering! Perfect for children ages 5 and under\, this pop-up class kicks off with a 10-minute\, play-based activity led by a licensed speech therapist—ideal for families already in speech therapy\, considering it\, or simply curious about how to help their child’s language blossom. \nNext\, we’ll groove together in a 30-minute\, inclusive parent-and-child dance class where movement meets connection. Whether your goal is to support speech development or just have a joyful bonding experience\, you’ll leave with practical ideas and happy memories. \nThanks to our friends at Little Spoon\, every family will go home with delicious samples to enjoy. \nSaturday\, October 25th at 8:45am\nMOVE Inclusive Dance – Franklin Studio\n1113 Murfreesboro Road #404 Franklin\, TN 37064
URL:https://williamsonchamber.com/member-event/little-voices-big-moves-2/
LOCATION:MOVE Inclusive Dance Franklin\, 1113 Murfreesboro Road #404\, Franklin\, 37064
ORGANIZER;CN="MOVE Inclusive Dance":MAILTO:lauren@moveinclusivedance.com
END:VEVENT
BEGIN:VEVENT
DTSTART;TZID=America/Chicago:20251025T093000
DTEND;TZID=America/Chicago:20251025T123000
DTSTAMP:20260425T152212
CREATED:20250718T193900Z
LAST-MODIFIED:20250718T193900Z
UID:10003035-1761384600-1761395400@williamsonchamber.com
SUMMARY:Fall Color Hikes at Owl's Hill
DESCRIPTION:October 11\, 18 and 25; November 1\, 8 and 15\, 2025 \nall hikes begin 9:30am\nCost $15/hiker \nFall is upon us! Join our guides for an expert-led hike following the progression of fall at Owl’s Hill. This series of guided walks is just for adults and teens. Walks begin promptly at 9:30. Space is limited – purchase tickets in advance to secure your spot. Cameras and binoculars welcome. \nThis is a moderately strenuous hike\, open to age 14+ . Minors must be accompanied by an adult. \nTo protect wildlife and their fragile habitats\, pets are not permitted in the Sanctuary\, even on a leash. No pets permitted in vehicles in the parking lot. Service animals\, specifically trained to aid a person with a disability are welcome.
URL:https://williamsonchamber.com/member-event/fall-color-hikes-at-owls-hill-3/2025-10-25/
LOCATION:Owl’s Hill Nature Sanctuary\, 545 Beech Creek Rd S\, Brentwood\, TN\, 37027\, United States
ATTACH;FMTTYPE=image/jpeg:https://williamsonchamber.com/wp-content/uploads/2025/07/Fall-Color-Hikes.jpeg
ORGANIZER;CN="Owl's Hill Nature Sanctuary":MAILTO:info@owlshill.org
END:VEVENT
BEGIN:VEVENT
DTSTART;TZID=America/Chicago:20251025T100000
DTEND;TZID=America/Chicago:20251025T123000
DTSTAMP:20260425T152212
CREATED:20250721T134001Z
LAST-MODIFIED:20250721T134001Z
UID:10003040-1761386400-1761395400@williamsonchamber.com
SUMMARY:Fall Native Plant Sale at Owl's Hill
DESCRIPTION:Fall is the best time to plant!\nChoose from a selection of native seeds\, perennials\, trees\, shrubs\, grasses and vines.\nQuantities are limited. Stock is subject to change. All sales are final. \nOnline Pre-Sale: October 14 – 21\nPre-orders must be picked up on Friday\, October 24 between 8 am – 2 pm \nIn-Person Event:\nSaturday\, October 25\n10 am – 12:30 pm \nProceeds benefit Owl’s Hill Nature Sanctuary and Wild Ones of Middle TN \nTo protect wildlife and their fragile habitats\, pets are not permitted in the Sanctuary\, even on a leash. No pets permitted in vehicles in the parking lot. Service animals\, specifically trained to aid a person with a disability are welcome.
URL:https://williamsonchamber.com/member-event/fall-native-plant-sale-at-owls-hill-3/
LOCATION:Owl’s Hill Nature Sanctuary\, 545 Beech Creek Rd S\, Brentwood\, TN\, 37027\, United States
ATTACH;FMTTYPE=image/jpeg:https://williamsonchamber.com/wp-content/uploads/2025/07/BlueWoodAster-1920w-small.jpg
ORGANIZER;CN="Owl's Hill Nature Sanctuary":MAILTO:info@owlshill.org
END:VEVENT
BEGIN:VEVENT
DTSTART;TZID=America/Chicago:20251025T100000
DTEND;TZID=America/Chicago:20251025T130000
DTSTAMP:20260425T152212
CREATED:20251016T171722Z
LAST-MODIFIED:20251016T171722Z
UID:10003495-1761386400-1761397200@williamsonchamber.com
SUMMARY:Bikes\, Burgers & Boo's
DESCRIPTION:Cool Springs Powersports\, a local staple in the Franklin community\, is hosting a Halloween themed motorcycle event on Saturday\, October 25th! This event isn’t just for the motorcycle enthusiast – it’s for everyone. We will have free lunch\, trick or treating\, Costume Contest\, giveaways & prizes and games.\nThis will be hosted at Cool Springs Powersports from 10am – 1pm so be sure to stop in before or after you make your way down to Pumpkinfest in Downtown Franklin.
URL:https://williamsonchamber.com/member-event/bikes-burgers-boos/
LOCATION:1096 W. McEwen Dr Franklin\, TN 37067\, 1096 W. McEwen Dr\, Franklin\, 37067
ATTACH;FMTTYPE=image/jpeg:https://williamsonchamber.com/wp-content/uploads/2025/10/IMG_3059.jpeg
END:VEVENT
BEGIN:VEVENT
DTSTART;TZID=America/Chicago:20251025T163000
DTEND;TZID=America/Chicago:20251025T183000
DTSTAMP:20260425T152212
CREATED:20250416T204732Z
LAST-MODIFIED:20250416T204732Z
UID:10002851-1761409800-1761417000@williamsonchamber.com
SUMMARY:Sunsets & Cider
DESCRIPTION:Relax and indulge in a two-hour picnic in our picturesque orchard. Seating is limited to just 12 tables spread out across our 10-acre farm. We will prepare a deluxe\, artisan charcuterie box to share\, along with some fresh fruit\, ice cold slushies\, and fruit infused water. We also provide your tableware and organic bug spray\, so all you need to do is show up and enjoy! Picnics are always a fan favorite\, and they sell out quickly\, so book yours today and enjoy an idyllic experience like no other in Middle Tennessee!
URL:https://williamsonchamber.com/member-event/sunsets-cider-10/
LOCATION:MorningGloryOrchard\, 7690 Nolensville Road\, Nolensville\, TN\, 37135\, United States
ATTACH;FMTTYPE=image/jpeg:https://williamsonchamber.com/wp-content/uploads/2025/04/20210827_172851-scaled.jpg
ORGANIZER;CN="MorningGloryOrchard":MAILTO:events@morninggloryorchard.com
END:VEVENT
END:VCALENDAR