BEGIN:VCALENDAR
VERSION:2.0
PRODID:-//Williamson, Inc. - ECPv6.15.18//NONSGML v1.0//EN
CALSCALE:GREGORIAN
METHOD:PUBLISH
X-WR-CALNAME:Williamson, Inc.
X-ORIGINAL-URL:https://williamsonchamber.com
X-WR-CALDESC:Events for Williamson, Inc.
REFRESH-INTERVAL;VALUE=DURATION:PT1H
X-Robots-Tag:noindex
X-PUBLISHED-TTL:PT1H
BEGIN:VTIMEZONE
TZID:America/Chicago
BEGIN:DAYLIGHT
TZOFFSETFROM:-0600
TZOFFSETTO:-0500
TZNAME:CDT
DTSTART:20240310T080000
END:DAYLIGHT
BEGIN:STANDARD
TZOFFSETFROM:-0500
TZOFFSETTO:-0600
TZNAME:CST
DTSTART:20241103T070000
END:STANDARD
BEGIN:DAYLIGHT
TZOFFSETFROM:-0600
TZOFFSETTO:-0500
TZNAME:CDT
DTSTART:20250309T080000
END:DAYLIGHT
BEGIN:STANDARD
TZOFFSETFROM:-0500
TZOFFSETTO:-0600
TZNAME:CST
DTSTART:20251102T070000
END:STANDARD
BEGIN:DAYLIGHT
TZOFFSETFROM:-0600
TZOFFSETTO:-0500
TZNAME:CDT
DTSTART:20260308T080000
END:DAYLIGHT
BEGIN:STANDARD
TZOFFSETFROM:-0500
TZOFFSETTO:-0600
TZNAME:CST
DTSTART:20261101T070000
END:STANDARD
END:VTIMEZONE
BEGIN:VEVENT
DTSTART;TZID=America/Chicago:20251010T160000
DTEND;TZID=America/Chicago:20251212T173000
DTSTAMP:20260425T201505
CREATED:20251013T142025Z
LAST-MODIFIED:20251013T142025Z
UID:10003122-1760112000-1765560600@williamsonchamber.com
SUMMARY:Time 2 Groove Free Inclusive Drumming Classes
DESCRIPTION:Time 2 Groove\nFree Inclusive Drumming Classes \nExperience inclusive drumming for all abilities! This program combines the evidence-based Rhythmic Arts Project (TRAP) curriculum with the healing power of Native American and West African drum circles. Participants develop focus\, memory\, social skills\, motor control\, and more. \nAll equipment provided\, including adaptive drum stands.\nLed by professional percussionist and counselor Bobby Kent\, with his daughter Isabella.\nJoin us and discover the joy of rhythm! \nHappens on the following Dates:\nOct 10\, 2025\, 4:00pm to 4:45pm Timezone: Central Time (US & Canada)\nOct 10\, 2025\, 4:45pm to 5:45pm Timezone: Central Time (US & Canada)\nNov 14\, 2025\, 4:00pm to 4:45pm Timezone: Central Time (US & Canada)\nNov 14\, 2025\, 4:45pm to 5:30pm Timezone: Central Time (US & Canada)\nDec 12\, 2025\, 4:00pm to 4:45pm Timezone: Central Time (US & Canada)\nDec 12\, 2025\, 4:45pm to 5:30pm Timezone: Central Time (US & Canada)
URL:https://williamsonchamber.com/member-event/time-2-groove-free-inclusive-drumming-classes/2025-10-10/
LOCATION:MOVE Inclusive Dance\, 1113 Murfreesboro Rd. Unit. 404\, Franklin\, 37064
ATTACH;FMTTYPE=image/png:https://williamsonchamber.com/wp-content/uploads/2025/10/Time-2-Groove.png
ORGANIZER;CN="MOVE Inclusive Dance":MAILTO:lauren@moveinclusivedance.com
END:VEVENT
BEGIN:VEVENT
DTSTART;TZID=America/Chicago:20251024T080000
DTEND;TZID=America/Chicago:20251231T170000
DTSTAMP:20260425T201505
CREATED:20251028T174505Z
LAST-MODIFIED:20251028T174505Z
UID:10003506-1761292800-1767200400@williamsonchamber.com
SUMMARY:McEwen Northside Apartments
DESCRIPTION:Fall Move-in SPECIALS!!\nCall today to schedule your tour.\n615.567.6004
URL:https://williamsonchamber.com/member-event/mcewen-northside-apartments/
LOCATION:TN
ATTACH;FMTTYPE=image/jpeg:https://williamsonchamber.com/wp-content/uploads/2025/10/McEwen-Flyer-2.jpg
END:VEVENT
BEGIN:VEVENT
DTSTART;TZID=America/Chicago:20251031T120000
DTEND;TZID=America/Chicago:20251102T160000
DTSTAMP:20260425T201505
CREATED:20251028T174252Z
LAST-MODIFIED:20251028T174252Z
UID:10003509-1761912000-1762099200@williamsonchamber.com
SUMMARY:FREE Music City Home Expo\, October 31 - November 2\, 2025
DESCRIPTION:FREE ADMISSION\nThe Music City Home Expo is taking place October 31 – November 2\, 2025 at The Fairgrounds Nashville.\nWhy YOU Will Love the Home Expo\nHUGE SAVINGS — Take advantage of exclusive show-only deals from trusted local experts!\nLIVE DEMOS — See demonstrations LIVE and discover new products in action!\nWIN PRIZES — Participate in exciting giveaways happening throughout the weekend!\nONE STOP — Meet top contractors\, designers\, and remodelers all in one place! \nThe Music City Home Expo | October 31 – November 2\, 2025\nThe Fairgrounds Nashville – 625 Smith Ave\, Nashville\, TN 37203\nFriday: 12:00pm – 6:00pm | Saturday: 10:00am – 5:00pm | Sunday: 11:00am – 4:00pm\nInterested in exhibiting? Contact us at 423-910-HOME\nFor more information\, visit: https://musiccityhomeexpo.com
URL:https://williamsonchamber.com/member-event/free-music-city-home-expo-october-31-november-2-2025/
LOCATION:The Fairgrounds Nashville\, 625 Smith Ave\, Nashville\, 37203
ATTACH;FMTTYPE=image/jpeg:https://williamsonchamber.com/wp-content/uploads/2025/10/https-cdn.evbuc_.com-images-1045814853-209960722498-1-original.20250604-153821.jpeg
ORGANIZER;CN="Nationwide Expos":MAILTO:info@nationwideexpos.com
END:VEVENT
BEGIN:VEVENT
DTSTART;TZID=America/Chicago:20251101T080000
DTEND;TZID=America/Chicago:20251101T170000
DTSTAMP:20260425T201505
CREATED:20250718T193822Z
LAST-MODIFIED:20250718T193822Z
UID:10003032-1761984000-1762016400@williamsonchamber.com
SUMMARY:Lost in Paradise A Tribute to Jimmy Buffett
DESCRIPTION:Lost in Paradise is Music City’s premier Jimmy Buffett Tribute. Founded by Nashville music veteran\, Shawn Pody\, this talented band of Trop Rockers will have you changing your latitude and your attitude. Get ready to kick off your flip-flops and sing along to all your favorite Jimmy Buffett classics\, like “Margaritaville\,” “Cheeseburger in Paradise\,” “Volcano\,” “Come Monday\,” “Fins\,” and many more! So\, what do ya say? Let’s go get LOST IN PARADISE! \nWilliamson County Performing Arts Center\nSaturday\, November 1\n7:00 p.m. – 8:30 p.m. \nAdmission:\nAdult – $30\nSenior – $27.50
URL:https://williamsonchamber.com/member-event/lost-in-paradise-a-tribute-to-jimmy-buffett/
LOCATION:Williamson County Performing Arts Center\, 112 Everbright Avenue\, Franklin\, TN\, 37064
ATTACH;FMTTYPE=image/jpeg:https://williamsonchamber.com/wp-content/uploads/2025/07/jimmy-buffet-tribute.jpg
END:VEVENT
BEGIN:VEVENT
DTSTART;TZID=America/Chicago:20251101T093000
DTEND;TZID=America/Chicago:20251101T123000
DTSTAMP:20260425T201505
CREATED:20250718T193900Z
LAST-MODIFIED:20250718T193900Z
UID:10003036-1761989400-1762000200@williamsonchamber.com
SUMMARY:Fall Color Hikes at Owl's Hill
DESCRIPTION:October 11\, 18 and 25; November 1\, 8 and 15\, 2025 \nall hikes begin 9:30am\nCost $15/hiker \nFall is upon us! Join our guides for an expert-led hike following the progression of fall at Owl’s Hill. This series of guided walks is just for adults and teens. Walks begin promptly at 9:30. Space is limited – purchase tickets in advance to secure your spot. Cameras and binoculars welcome. \nThis is a moderately strenuous hike\, open to age 14+ . Minors must be accompanied by an adult. \nTo protect wildlife and their fragile habitats\, pets are not permitted in the Sanctuary\, even on a leash. No pets permitted in vehicles in the parking lot. Service animals\, specifically trained to aid a person with a disability are welcome.
URL:https://williamsonchamber.com/member-event/fall-color-hikes-at-owls-hill-3/2025-11-01/
LOCATION:Owl’s Hill Nature Sanctuary\, 545 Beech Creek Rd S\, Brentwood\, TN\, 37027\, United States
ATTACH;FMTTYPE=image/jpeg:https://williamsonchamber.com/wp-content/uploads/2025/07/Fall-Color-Hikes.jpeg
ORGANIZER;CN="Owl's Hill Nature Sanctuary":MAILTO:info@owlshill.org
END:VEVENT
BEGIN:VEVENT
DTSTART;TZID=America/Chicago:20251101T100000
DTEND;TZID=America/Chicago:20251101T130000
DTSTAMP:20260425T201505
CREATED:20250918T183120Z
LAST-MODIFIED:20250918T183120Z
UID:10003093-1761991200-1762002000@williamsonchamber.com
SUMMARY:Owl Day
DESCRIPTION:Saturday\, November 1\, 2025\n10:00am – 1:00pm \nBuy your tickets online and save! \n$15 Adults (Ages 13+) / $17 at the door\n$10 Children 12 and under / $12 at the door\n(Ages 2 and under are free)\nOnline ticket sales close at 8 am the day of the event. Walk up tickets can be purchased at Owl’s Hill starting at 9:45 am. \nA celebration of all things owl at Owl’s Hill Sanctuary! Meet our non-releasable program owls and enjoy entertaining and informative talks on each species. Make an owl craft\, dissect owl pellets\, go for a scavenger hunt and more! Fun for all ages! \nOwl Ambassador Presentations:\n10:15 am\n11:15 am\n12:15 pm
URL:https://williamsonchamber.com/member-event/owl-day/
LOCATION:Owl’s Hill Nature Sanctuary\, 545 Beech Creek Rd S\, Brentwood\, TN\, 37027\, United States
ATTACH;FMTTYPE=image/jpeg:https://williamsonchamber.com/wp-content/uploads/2025/09/Owl-Day-3.jpeg
ORGANIZER;CN="Owl's Hill Nature Sanctuary":MAILTO:info@owlshill.org
END:VEVENT
END:VCALENDAR