BEGIN:VCALENDAR
VERSION:2.0
PRODID:-//Williamson, Inc. - ECPv6.15.18//NONSGML v1.0//EN
CALSCALE:GREGORIAN
METHOD:PUBLISH
X-WR-CALNAME:Williamson, Inc.
X-ORIGINAL-URL:https://williamsonchamber.com
X-WR-CALDESC:Events for Williamson, Inc.
REFRESH-INTERVAL;VALUE=DURATION:PT1H
X-Robots-Tag:noindex
X-PUBLISHED-TTL:PT1H
BEGIN:VTIMEZONE
TZID:America/Chicago
BEGIN:DAYLIGHT
TZOFFSETFROM:-0600
TZOFFSETTO:-0500
TZNAME:CDT
DTSTART:20240310T080000
END:DAYLIGHT
BEGIN:STANDARD
TZOFFSETFROM:-0500
TZOFFSETTO:-0600
TZNAME:CST
DTSTART:20241103T070000
END:STANDARD
BEGIN:DAYLIGHT
TZOFFSETFROM:-0600
TZOFFSETTO:-0500
TZNAME:CDT
DTSTART:20250309T080000
END:DAYLIGHT
BEGIN:STANDARD
TZOFFSETFROM:-0500
TZOFFSETTO:-0600
TZNAME:CST
DTSTART:20251102T070000
END:STANDARD
BEGIN:DAYLIGHT
TZOFFSETFROM:-0600
TZOFFSETTO:-0500
TZNAME:CDT
DTSTART:20260308T080000
END:DAYLIGHT
BEGIN:STANDARD
TZOFFSETFROM:-0500
TZOFFSETTO:-0600
TZNAME:CST
DTSTART:20261101T070000
END:STANDARD
END:VTIMEZONE
BEGIN:VEVENT
DTSTART;TZID=America/Chicago:20251010T160000
DTEND;TZID=America/Chicago:20251212T173000
DTSTAMP:20260425T124933
CREATED:20251013T142025Z
LAST-MODIFIED:20251013T142025Z
UID:10003122-1760112000-1765560600@williamsonchamber.com
SUMMARY:Time 2 Groove Free Inclusive Drumming Classes
DESCRIPTION:Time 2 Groove\nFree Inclusive Drumming Classes \nExperience inclusive drumming for all abilities! This program combines the evidence-based Rhythmic Arts Project (TRAP) curriculum with the healing power of Native American and West African drum circles. Participants develop focus\, memory\, social skills\, motor control\, and more. \nAll equipment provided\, including adaptive drum stands.\nLed by professional percussionist and counselor Bobby Kent\, with his daughter Isabella.\nJoin us and discover the joy of rhythm! \nHappens on the following Dates:\nOct 10\, 2025\, 4:00pm to 4:45pm Timezone: Central Time (US & Canada)\nOct 10\, 2025\, 4:45pm to 5:45pm Timezone: Central Time (US & Canada)\nNov 14\, 2025\, 4:00pm to 4:45pm Timezone: Central Time (US & Canada)\nNov 14\, 2025\, 4:45pm to 5:30pm Timezone: Central Time (US & Canada)\nDec 12\, 2025\, 4:00pm to 4:45pm Timezone: Central Time (US & Canada)\nDec 12\, 2025\, 4:45pm to 5:30pm Timezone: Central Time (US & Canada)
URL:https://williamsonchamber.com/member-event/time-2-groove-free-inclusive-drumming-classes/2025-10-10/
LOCATION:MOVE Inclusive Dance\, 1113 Murfreesboro Rd. Unit. 404\, Franklin\, 37064
ATTACH;FMTTYPE=image/png:https://williamsonchamber.com/wp-content/uploads/2025/10/Time-2-Groove.png
ORGANIZER;CN="MOVE Inclusive Dance":MAILTO:lauren@moveinclusivedance.com
END:VEVENT
BEGIN:VEVENT
DTSTART;TZID=America/Chicago:20251024T080000
DTEND;TZID=America/Chicago:20251231T170000
DTSTAMP:20260425T124933
CREATED:20251028T174505Z
LAST-MODIFIED:20251028T174505Z
UID:10003506-1761292800-1767200400@williamsonchamber.com
SUMMARY:McEwen Northside Apartments
DESCRIPTION:Fall Move-in SPECIALS!!\nCall today to schedule your tour.\n615.567.6004
URL:https://williamsonchamber.com/member-event/mcewen-northside-apartments/
LOCATION:TN
ATTACH;FMTTYPE=image/jpeg:https://williamsonchamber.com/wp-content/uploads/2025/10/McEwen-Flyer-2.jpg
END:VEVENT
BEGIN:VEVENT
DTSTART;TZID=America/Chicago:20251106T090000
DTEND;TZID=America/Chicago:20251106T120000
DTSTAMP:20260425T124933
CREATED:20250723T221021Z
LAST-MODIFIED:20250723T221021Z
UID:10003053-1762419600-1762430400@williamsonchamber.com
SUMMARY:The Round Workshop Series
DESCRIPTION:Unlock the next stage of your business!\nThe Round Workshop Series is a new experience for small business owners and teams who want to engage more deeply\, connect meaningfully\, and actively work on their business. These are paid\, expert-led workshops covering a variety of valuable topics\, all hosted right here at H+U. Each session is limited to just 20 participants to ensure an intimate\, high-impact experience. \nAI-Powered Growth Workshop: Build\, Automate\, Scale\nExpert: Erik Bledsoe\nDate: Every Thursday starting October 16th through November 6th\nTime: 9 am – 12 pm\nWhere: Harbor + Union’s Mesa Grande Conference Room\nPrice: $1\,000\nThis workshop series transforms business leaders from AI basics to business breakthroughs. We’ll establish a solid foundation in AI fundamentals and progress through enterprise-grade implementation. Participants will gain hands-on experience with cutting-edge AI tools\, learn to automate routine tasks\, and develop custom solutions that drive real business results. \nWhat You Can Expect: \nDiscover advanced learned language model (LLM) techniques like ChatGPT and more that most business users miss\nDevelop AI-powered marketing campaigns\, presentations\, and brand portfolios\nTransform routine business processes into AI-automated workflows that save hours\nBuild custom business applications without technical teams or coding knowledge\nEstablish a clear roadmap for AI implementation in upscaling your business\nEach session includes two hours of hands-on training followed by one-hour of strategic networking and implementation planning. \nAll workshop materials will be provided upon arrival.
URL:https://williamsonchamber.com/member-event/the-round-workshop-series-4/2025-11-06/
LOCATION:Harbor + Union\, 230 Franklin Road Building 2\, Franklin\, 37064
ATTACH;FMTTYPE=image/png:https://williamsonchamber.com/wp-content/uploads/2025/07/The-Round-Workshop-Series-Logo-3.png
ORGANIZER;CN="Harbor + Union":MAILTO:info@harborandunion.com
END:VEVENT
BEGIN:VEVENT
DTSTART;TZID=America/Chicago:20251106T170000
DTEND;TZID=America/Chicago:20251106T200000
DTSTAMP:20260425T124933
CREATED:20251021T220536Z
LAST-MODIFIED:20251021T220536Z
UID:10003504-1762448400-1762459200@williamsonchamber.com
SUMMARY:Moon Wine and Spirits Holiday Open House
DESCRIPTION:11/6\, 5:00-8:00 Join us in kicking off the holidays with the Moon Crew\, Sew What\, Kevin Wimpy Photography\, and Simply Living. Cocktails\, wine\, gifts\, and giveaways!!
URL:https://williamsonchamber.com/member-event/moon-wine-and-spirits-holiday-open-house/
LOCATION:TN
ATTACH;FMTTYPE=image/jpeg:https://williamsonchamber.com/wp-content/uploads/2025/10/IMG_8118.jpeg
END:VEVENT
BEGIN:VEVENT
DTSTART;TZID=America/Chicago:20251106T173000
DTEND;TZID=America/Chicago:20251106T190000
DTSTAMP:20260425T124933
CREATED:20250417T132907Z
LAST-MODIFIED:20250417T132907Z
UID:10002858-1762450200-1762455600@williamsonchamber.com
SUMMARY:Blacklight Networking Event
DESCRIPTION:See Your Business Potential in a New Light! \nBlacklight Group invites you to connect and grow at our exclusive networking event on May 1st\, 5:30 PM – 7:00 PM at Jonathan’s Grille in Germantown. \nJoin us to:\nExpand Your Network: Meet key business leaders.\nDiscover Synergies: Explore collaboration opportunities.\nGain New Perspectives: Hear from industry professionals.\nStrengthen Ties: Connect with Blacklight. \nBlacklight is fostering a thriving business ecosystem. Don’t miss this chance to illuminate your potential! \nWe look forward to seeing you there! \nThe Blacklight Team
URL:https://williamsonchamber.com/member-event/blacklight-networking-event/2025-11-06/
LOCATION:TN
ATTACH;FMTTYPE=image/png:https://williamsonchamber.com/wp-content/uploads/2025/04/Black-and-Purple-Gradient-Facebook-Event-Cover-3-1-1.png
END:VEVENT
END:VCALENDAR