BEGIN:VCALENDAR
VERSION:2.0
PRODID:-//Williamson, Inc. - ECPv6.15.18//NONSGML v1.0//EN
CALSCALE:GREGORIAN
METHOD:PUBLISH
X-ORIGINAL-URL:https://williamsonchamber.com
X-WR-CALDESC:Events for Williamson, Inc.
REFRESH-INTERVAL;VALUE=DURATION:PT1H
X-Robots-Tag:noindex
X-PUBLISHED-TTL:PT1H
BEGIN:VTIMEZONE
TZID:America/Chicago
BEGIN:DAYLIGHT
TZOFFSETFROM:-0600
TZOFFSETTO:-0500
TZNAME:CDT
DTSTART:20240310T080000
END:DAYLIGHT
BEGIN:STANDARD
TZOFFSETFROM:-0500
TZOFFSETTO:-0600
TZNAME:CST
DTSTART:20241103T070000
END:STANDARD
BEGIN:DAYLIGHT
TZOFFSETFROM:-0600
TZOFFSETTO:-0500
TZNAME:CDT
DTSTART:20250309T080000
END:DAYLIGHT
BEGIN:STANDARD
TZOFFSETFROM:-0500
TZOFFSETTO:-0600
TZNAME:CST
DTSTART:20251102T070000
END:STANDARD
BEGIN:DAYLIGHT
TZOFFSETFROM:-0600
TZOFFSETTO:-0500
TZNAME:CDT
DTSTART:20260308T080000
END:DAYLIGHT
BEGIN:STANDARD
TZOFFSETFROM:-0500
TZOFFSETTO:-0600
TZNAME:CST
DTSTART:20261101T070000
END:STANDARD
BEGIN:DAYLIGHT
TZOFFSETFROM:-0600
TZOFFSETTO:-0500
TZNAME:CDT
DTSTART:20270314T080000
END:DAYLIGHT
BEGIN:STANDARD
TZOFFSETFROM:-0500
TZOFFSETTO:-0600
TZNAME:CST
DTSTART:20271107T070000
END:STANDARD
END:VTIMEZONE
BEGIN:VEVENT
DTSTART;TZID=America/Chicago:20251114T160000
DTEND;TZID=America/Chicago:20260116T183000
DTSTAMP:20260421T154358
CREATED:20251013T142025Z
LAST-MODIFIED:20251013T142025Z
UID:10003123-1763136000-1768588200@williamsonchamber.com
SUMMARY:Time 2 Groove Free Inclusive Drumming Classes
DESCRIPTION:Time 2 Groove\nFree Inclusive Drumming Classes \nExperience inclusive drumming for all abilities! This program combines the evidence-based Rhythmic Arts Project (TRAP) curriculum with the healing power of Native American and West African drum circles. Participants develop focus\, memory\, social skills\, motor control\, and more. \nAll equipment provided\, including adaptive drum stands.\nLed by professional percussionist and counselor Bobby Kent\, with his daughter Isabella.\nJoin us and discover the joy of rhythm! \nHappens on the following Dates:\nOct 10\, 2025\, 4:00pm to 4:45pm Timezone: Central Time (US & Canada)\nOct 10\, 2025\, 4:45pm to 5:45pm Timezone: Central Time (US & Canada)\nNov 14\, 2025\, 4:00pm to 4:45pm Timezone: Central Time (US & Canada)\nNov 14\, 2025\, 4:45pm to 5:30pm Timezone: Central Time (US & Canada)\nDec 12\, 2025\, 4:00pm to 4:45pm Timezone: Central Time (US & Canada)\nDec 12\, 2025\, 4:45pm to 5:30pm Timezone: Central Time (US & Canada)
URL:https://williamsonchamber.com/member-event/time-2-groove-free-inclusive-drumming-classes/2025-11-14/
LOCATION:MOVE Inclusive Dance\, 1113 Murfreesboro Rd. Unit. 404\, Franklin\, 37064
ATTACH;FMTTYPE=image/png:https://williamsonchamber.com/wp-content/uploads/2025/10/Time-2-Groove.png
ORGANIZER;CN="MOVE Inclusive Dance":MAILTO:lauren@moveinclusivedance.com
END:VEVENT
BEGIN:VEVENT
DTSTART;TZID=America/Chicago:20251212T160000
DTEND;TZID=America/Chicago:20260213T183000
DTSTAMP:20260421T154358
CREATED:20251013T142025Z
LAST-MODIFIED:20251013T142025Z
UID:10003124-1765555200-1771007400@williamsonchamber.com
SUMMARY:Time 2 Groove Free Inclusive Drumming Classes
DESCRIPTION:Time 2 Groove\nFree Inclusive Drumming Classes \nExperience inclusive drumming for all abilities! This program combines the evidence-based Rhythmic Arts Project (TRAP) curriculum with the healing power of Native American and West African drum circles. Participants develop focus\, memory\, social skills\, motor control\, and more. \nAll equipment provided\, including adaptive drum stands.\nLed by professional percussionist and counselor Bobby Kent\, with his daughter Isabella.\nJoin us and discover the joy of rhythm! \nHappens on the following Dates:\nOct 10\, 2025\, 4:00pm to 4:45pm Timezone: Central Time (US & Canada)\nOct 10\, 2025\, 4:45pm to 5:45pm Timezone: Central Time (US & Canada)\nNov 14\, 2025\, 4:00pm to 4:45pm Timezone: Central Time (US & Canada)\nNov 14\, 2025\, 4:45pm to 5:30pm Timezone: Central Time (US & Canada)\nDec 12\, 2025\, 4:00pm to 4:45pm Timezone: Central Time (US & Canada)\nDec 12\, 2025\, 4:45pm to 5:30pm Timezone: Central Time (US & Canada)
URL:https://williamsonchamber.com/member-event/time-2-groove-free-inclusive-drumming-classes/2025-12-12/
LOCATION:MOVE Inclusive Dance\, 1113 Murfreesboro Rd. Unit. 404\, Franklin\, 37064
ATTACH;FMTTYPE=image/png:https://williamsonchamber.com/wp-content/uploads/2025/10/Time-2-Groove.png
ORGANIZER;CN="MOVE Inclusive Dance":MAILTO:lauren@moveinclusivedance.com
END:VEVENT
BEGIN:VEVENT
DTSTART;TZID=America/Chicago:20260113T150000
DTEND;TZID=America/Chicago:20260113T180000
DTSTAMP:20260421T154358
CREATED:20251217T160134Z
LAST-MODIFIED:20251217T160134Z
UID:10003533-1768316400-1768327200@williamsonchamber.com
SUMMARY:BBSI Nashville Grand Opening
DESCRIPTION:We’re excited to invite you to the grand opening of BBSI’s new Nashville branch! Join us for celebration\, connection\, and community as we cut the ribbon on our newest location serving the greater Nashville business community. \nEvent Details \nDate: Tuesday\, January 13\, 2026\nTime: 3:00 PM – 6:00 PM\nLocation: 840 Crescent Centre Drive\, Suite 600 Franklin\, Tennessee 37067 \nEnjoy light bites\, drinks\, and the opportunity to meet the local BBSI team\, network with fellow business owners\, and learn how we’re supporting growth in Nashville. \n🎟️ RSVP Now to Save Your Spot – https://www.bbsi.com/business-owner-resources/events/bbsi-nashville-grand-opening \nSpace is limited — reserve your place today! \nWhy Attend? \nRibbon Cutting Ceremony – Help us mark this exciting milestone.\nNetworking Opportunities – Connect with local business owners\, entrepreneurs\, and community leaders.\nComplimentary Food & Drinks – Enjoy refreshments on us.\nMeet the Team – Get to know the experts behind BBSI’s local support model.
URL:https://williamsonchamber.com/member-event/bbsi-nashville-grand-opening/
LOCATION:BBSI Nashville\, 840 Crescent Centre Drive\, Suite 600\, Franklin\, 37067
ATTACH;FMTTYPE=image/png:https://williamsonchamber.com/wp-content/uploads/2025/12/Nashville-Jan-2026.png
ORGANIZER;CN="BBSI Nashville":MAILTO:Jeffrey.Phelps@bbsi.com
END:VEVENT
BEGIN:VEVENT
DTSTART;TZID=America/Chicago:20260113T183000
DTEND;TZID=America/Chicago:20260113T200000
DTSTAMP:20260421T154358
CREATED:20250416T201931Z
LAST-MODIFIED:20250416T201931Z
UID:10002773-1768329000-1768334400@williamsonchamber.com
SUMMARY:Singo! (Music Bingo)
DESCRIPTION:Tired of boring old Bingo\, where some dry personality simply calls out numbers? Come try the next generation of the classic game- where karaoke meets bingo! Join us as we play snippets of songs with a theme and sing along as you look for the title on your game board. Don’t worry if you are not good with lyrics- we’ll announce all the titles\, so you don’t miss a beat! Prizes for each round will be given and even better\, it is FREE to play! Bring your friends\, enjoy a cocktail or slushie and take in the beautiful views of our orchard grounds. Singo occurs every Tuesday of the month from June 10 through August 26 and the theme changes each week\, so no two games are ever the same!
URL:https://williamsonchamber.com/member-event/singo-music-bingo/2026-01-13/
LOCATION:MorningGloryOrchard\, 7690 Nolensville Road\, Nolensville\, TN\, 37135\, United States
ATTACH;FMTTYPE=image/png:https://williamsonchamber.com/wp-content/uploads/2025/04/Singo-logo.png
ORGANIZER;CN="MorningGloryOrchard":MAILTO:events@morninggloryorchard.com
END:VEVENT
END:VCALENDAR