BEGIN:VCALENDAR
VERSION:2.0
PRODID:-//Williamson, Inc. - ECPv6.15.18//NONSGML v1.0//EN
CALSCALE:GREGORIAN
METHOD:PUBLISH
X-WR-CALNAME:Williamson, Inc.
X-ORIGINAL-URL:https://williamsonchamber.com
X-WR-CALDESC:Events for Williamson, Inc.
REFRESH-INTERVAL;VALUE=DURATION:PT1H
X-Robots-Tag:noindex
X-PUBLISHED-TTL:PT1H
BEGIN:VTIMEZONE
TZID:America/Chicago
BEGIN:DAYLIGHT
TZOFFSETFROM:-0600
TZOFFSETTO:-0500
TZNAME:CDT
DTSTART:20240310T080000
END:DAYLIGHT
BEGIN:STANDARD
TZOFFSETFROM:-0500
TZOFFSETTO:-0600
TZNAME:CST
DTSTART:20241103T070000
END:STANDARD
BEGIN:DAYLIGHT
TZOFFSETFROM:-0600
TZOFFSETTO:-0500
TZNAME:CDT
DTSTART:20250309T080000
END:DAYLIGHT
BEGIN:STANDARD
TZOFFSETFROM:-0500
TZOFFSETTO:-0600
TZNAME:CST
DTSTART:20251102T070000
END:STANDARD
BEGIN:DAYLIGHT
TZOFFSETFROM:-0600
TZOFFSETTO:-0500
TZNAME:CDT
DTSTART:20260308T080000
END:DAYLIGHT
BEGIN:STANDARD
TZOFFSETFROM:-0500
TZOFFSETTO:-0600
TZNAME:CST
DTSTART:20261101T070000
END:STANDARD
END:VTIMEZONE
BEGIN:VEVENT
DTSTART;TZID=America/Chicago:20250515T190000
DTEND;TZID=America/Chicago:20250605T200000
DTSTAMP:20260425T105917
CREATED:20250505T192050Z
LAST-MODIFIED:20250505T192050Z
UID:10002921-1747335600-1749153600@williamsonchamber.com
SUMMARY:FREE Weekly Latin Dance Classes- Franklin Studio
DESCRIPTION:Connect to the Latin rhythms with Johana! \nEvery Thursday at 7pm! \n1113 Murfreesboro Road\, Unit 404\, Franklin\, TN 37064 \nThis class is all about having fun while getting some great exercise. Disconnect from the stress of your day while learning salsa\, merengue\, and Bachata! No previous dance experience is required. All ages and ability levels are welcome! \nTo sign up\, fill in the form and we will reach out to confirm your spot in class! It fills up fast — so we recommend reserving your spot in advance. \nhttps://www.moveinclusivedance.com/latin-dance-franklin \nThanks to the Community Foundation of Middle Tennessee\, we are able to offer this class for FREE all year long!
URL:https://williamsonchamber.com/member-event/free-weekly-latin-dance-classes-franklin-studio/2025-05-15/
LOCATION:MOVE Inclusive Dance\, 1113 Murfreesboro Rd. Unit. 404\, Franklin\, 37064
ATTACH;FMTTYPE=image/jpeg:https://williamsonchamber.com/wp-content/uploads/2025/05/104876.jpg
ORGANIZER;CN="MOVE Inclusive Dance":MAILTO:lauren@moveinclusivedance.com
END:VEVENT
BEGIN:VEVENT
DTSTART;TZID=America/Chicago:20250522T190000
DTEND;TZID=America/Chicago:20250612T200000
DTSTAMP:20260425T105917
CREATED:20250505T192050Z
LAST-MODIFIED:20250505T192050Z
UID:10002922-1747940400-1749758400@williamsonchamber.com
SUMMARY:FREE Weekly Latin Dance Classes- Franklin Studio
DESCRIPTION:Connect to the Latin rhythms with Johana! \nEvery Thursday at 7pm! \n1113 Murfreesboro Road\, Unit 404\, Franklin\, TN 37064 \nThis class is all about having fun while getting some great exercise. Disconnect from the stress of your day while learning salsa\, merengue\, and Bachata! No previous dance experience is required. All ages and ability levels are welcome! \nTo sign up\, fill in the form and we will reach out to confirm your spot in class! It fills up fast — so we recommend reserving your spot in advance. \nhttps://www.moveinclusivedance.com/latin-dance-franklin \nThanks to the Community Foundation of Middle Tennessee\, we are able to offer this class for FREE all year long!
URL:https://williamsonchamber.com/member-event/free-weekly-latin-dance-classes-franklin-studio/2025-05-22/
LOCATION:MOVE Inclusive Dance\, 1113 Murfreesboro Rd. Unit. 404\, Franklin\, 37064
ATTACH;FMTTYPE=image/jpeg:https://williamsonchamber.com/wp-content/uploads/2025/05/104876.jpg
ORGANIZER;CN="MOVE Inclusive Dance":MAILTO:lauren@moveinclusivedance.com
END:VEVENT
BEGIN:VEVENT
DTSTART;TZID=America/Chicago:20250529T190000
DTEND;TZID=America/Chicago:20250619T200000
DTSTAMP:20260425T105917
CREATED:20250505T192050Z
LAST-MODIFIED:20250505T192050Z
UID:10002923-1748545200-1750363200@williamsonchamber.com
SUMMARY:FREE Weekly Latin Dance Classes- Franklin Studio
DESCRIPTION:Connect to the Latin rhythms with Johana! \nEvery Thursday at 7pm! \n1113 Murfreesboro Road\, Unit 404\, Franklin\, TN 37064 \nThis class is all about having fun while getting some great exercise. Disconnect from the stress of your day while learning salsa\, merengue\, and Bachata! No previous dance experience is required. All ages and ability levels are welcome! \nTo sign up\, fill in the form and we will reach out to confirm your spot in class! It fills up fast — so we recommend reserving your spot in advance. \nhttps://www.moveinclusivedance.com/latin-dance-franklin \nThanks to the Community Foundation of Middle Tennessee\, we are able to offer this class for FREE all year long!
URL:https://williamsonchamber.com/member-event/free-weekly-latin-dance-classes-franklin-studio/2025-05-29/
LOCATION:MOVE Inclusive Dance\, 1113 Murfreesboro Rd. Unit. 404\, Franklin\, 37064
ATTACH;FMTTYPE=image/jpeg:https://williamsonchamber.com/wp-content/uploads/2025/05/104876.jpg
ORGANIZER;CN="MOVE Inclusive Dance":MAILTO:lauren@moveinclusivedance.com
END:VEVENT
BEGIN:VEVENT
DTSTART;TZID=America/Chicago:20250614T100000
DTEND;TZID=America/Chicago:20250614T113000
DTSTAMP:20260425T105917
CREATED:20250505T155652Z
LAST-MODIFIED:20250505T155652Z
UID:10002916-1749895200-1749900600@williamsonchamber.com
SUMMARY:Watercolor Painting Class
DESCRIPTION:Enjoy a beginner level watercolor class\, and leave with your own work of art.
URL:https://williamsonchamber.com/member-event/watercolor-painting-class/2025-06-14/1/
LOCATION:Franklin Visitor Center\, 400 Main Street #130\, Franklin\, 37064
ATTACH;FMTTYPE=image/jpeg:https://williamsonchamber.com/wp-content/uploads/2025/05/VC-Event-Watercolor-Class.jpg
ORGANIZER;CN="Visit Franklin":MAILTO:info@visitfranklin.com
END:VEVENT
BEGIN:VEVENT
DTSTART;TZID=America/Chicago:20250614T130000
DTEND;TZID=America/Chicago:20250614T143000
DTSTAMP:20260425T105917
CREATED:20250505T155652Z
LAST-MODIFIED:20250505T155652Z
UID:10002917-1749906000-1749911400@williamsonchamber.com
SUMMARY:Watercolor Painting Class
DESCRIPTION:Enjoy a beginner level watercolor class\, and leave with your own work of art.
URL:https://williamsonchamber.com/member-event/watercolor-painting-class/2025-06-14/2/
LOCATION:Franklin Visitor Center\, 400 Main Street #130\, Franklin\, 37064
ATTACH;FMTTYPE=image/jpeg:https://williamsonchamber.com/wp-content/uploads/2025/05/VC-Event-Watercolor-Class.jpg
ORGANIZER;CN="Visit Franklin":MAILTO:info@visitfranklin.com
END:VEVENT
END:VCALENDAR