BEGIN:VCALENDAR
VERSION:2.0
PRODID:-//Williamson, Inc. - ECPv6.15.18//NONSGML v1.0//EN
CALSCALE:GREGORIAN
METHOD:PUBLISH
X-WR-CALNAME:Williamson, Inc.
X-ORIGINAL-URL:https://williamsonchamber.com
X-WR-CALDESC:Events for Williamson, Inc.
REFRESH-INTERVAL;VALUE=DURATION:PT1H
X-Robots-Tag:noindex
X-PUBLISHED-TTL:PT1H
BEGIN:VTIMEZONE
TZID:America/Chicago
BEGIN:DAYLIGHT
TZOFFSETFROM:-0600
TZOFFSETTO:-0500
TZNAME:CDT
DTSTART:20220313T080000
END:DAYLIGHT
BEGIN:STANDARD
TZOFFSETFROM:-0500
TZOFFSETTO:-0600
TZNAME:CST
DTSTART:20221106T070000
END:STANDARD
BEGIN:DAYLIGHT
TZOFFSETFROM:-0600
TZOFFSETTO:-0500
TZNAME:CDT
DTSTART:20230312T080000
END:DAYLIGHT
BEGIN:STANDARD
TZOFFSETFROM:-0500
TZOFFSETTO:-0600
TZNAME:CST
DTSTART:20231105T070000
END:STANDARD
BEGIN:DAYLIGHT
TZOFFSETFROM:-0600
TZOFFSETTO:-0500
TZNAME:CDT
DTSTART:20240310T080000
END:DAYLIGHT
BEGIN:STANDARD
TZOFFSETFROM:-0500
TZOFFSETTO:-0600
TZNAME:CST
DTSTART:20241103T070000
END:STANDARD
END:VTIMEZONE
BEGIN:VEVENT
DTSTART;TZID=America/Chicago:20231207T113000
DTEND;TZID=America/Chicago:20231207T130000
DTSTAMP:20260422T024709
CREATED:20231113T205459Z
LAST-MODIFIED:20231113T214707Z
UID:10000637-1701948600-1701954000@williamsonchamber.com
SUMMARY:Smart Women: Smart&Savvy!
DESCRIPTION:First Citizens National Bank presents the Smart Women program. Smart Women’s goal is to help women to bridge the financial literacy gap through education! \nFREE Community Event! Light Lunch will be provided!
URL:https://williamsonchamber.com/member-event/smart-women-smart-savvy/
LOCATION:The Sapphire Suite\, 1201 Liberty Pike\, Suite 229\, Franklin\, 37067
ATTACH;FMTTYPE=image/png:https://williamsonchamber.com/wp-content/uploads/2023/11/Smart-Women-Smart-Savvy-Flyer.png
ORGANIZER;CN="First Citizens National Bank":MAILTO:ksentell@firstcnb.com
END:VEVENT
END:VCALENDAR