BEGIN:VCALENDAR
VERSION:2.0
PRODID:-//Williamson, Inc. - ECPv6.15.18//NONSGML v1.0//EN
CALSCALE:GREGORIAN
METHOD:PUBLISH
X-WR-CALNAME:Williamson, Inc.
X-ORIGINAL-URL:https://williamsonchamber.com
X-WR-CALDESC:Events for Williamson, Inc.
REFRESH-INTERVAL;VALUE=DURATION:PT1H
X-Robots-Tag:noindex
X-PUBLISHED-TTL:PT1H
BEGIN:VTIMEZONE
TZID:America/Chicago
BEGIN:DAYLIGHT
TZOFFSETFROM:-0600
TZOFFSETTO:-0500
TZNAME:CDT
DTSTART:20230312T080000
END:DAYLIGHT
BEGIN:STANDARD
TZOFFSETFROM:-0500
TZOFFSETTO:-0600
TZNAME:CST
DTSTART:20231105T070000
END:STANDARD
BEGIN:DAYLIGHT
TZOFFSETFROM:-0600
TZOFFSETTO:-0500
TZNAME:CDT
DTSTART:20240310T080000
END:DAYLIGHT
BEGIN:STANDARD
TZOFFSETFROM:-0500
TZOFFSETTO:-0600
TZNAME:CST
DTSTART:20241103T070000
END:STANDARD
BEGIN:DAYLIGHT
TZOFFSETFROM:-0600
TZOFFSETTO:-0500
TZNAME:CDT
DTSTART:20250309T080000
END:DAYLIGHT
BEGIN:STANDARD
TZOFFSETFROM:-0500
TZOFFSETTO:-0600
TZNAME:CST
DTSTART:20251102T070000
END:STANDARD
END:VTIMEZONE
BEGIN:VEVENT
DTSTART;TZID=America/Chicago:20240604T080000
DTEND;TZID=America/Chicago:20240604T170000
DTSTAMP:20260422T164512
CREATED:20240506T122306Z
LAST-MODIFIED:20240506T122306Z
UID:10001580-1717488000-1717520400@williamsonchamber.com
SUMMARY:Tech Connect
DESCRIPTION:Join us at RJ Young’s Tech Connect\, where technology and networking merge. Connect with experts\, forge valuable business relationships\, and immerse yourself in the technology businesses across the country are using to modernize their offices. Take advantage of having our top partners from around the country in one space to see the latest technologies first-hand. \nEnjoy delectable appetizers and drinks\, embrace nostalgia with retro games\, and enjoy live music. We’ll also feature unique activities such as bourbon tasting and custom hat making from a respected local hatter. One of the highlights will be our Keynote Presentation\, by professional photographer Jeremy Cowart\, a Nashville native and Canon Explorer of Light. Named the “Most Influential Photographer on the Internet” by Huffington Post\, Forbes\, and Yahoo\, Jeremy has photographed numerous influential celebrities and musicians\, including Taylor Swift\, Carrie Underwood\, and Dolly Parton. At RJ Young Tech Connect\, attendees will get the exclusive opportunity to have Jeremy take their headshots using his signature style named the ’60-second headshot’\, with every single portrait having completely unique results. You will not want to miss this!
URL:https://williamsonchamber.com/member-event/tech-connect/2024-06-04/1/
LOCATION:Acme Feed & Seed\, 101 Broadway\, Nashville\, 37201
ATTACH;FMTTYPE=image/png:https://williamsonchamber.com/wp-content/uploads/2024/05/Screenshot-2024-05-03-112544.png
ORGANIZER;CN="RJ Young":MAILTO:emily.korab@rjyoung.com
END:VEVENT
BEGIN:VEVENT
DTSTART;TZID=America/Chicago:20240604T150000
DTEND;TZID=America/Chicago:20240604T190000
DTSTAMP:20260422T164512
CREATED:20240506T122306Z
LAST-MODIFIED:20240506T122306Z
UID:10001581-1717513200-1717527600@williamsonchamber.com
SUMMARY:Tech Connect
DESCRIPTION:Join us at RJ Young’s Tech Connect\, where technology and networking merge. Connect with experts\, forge valuable business relationships\, and immerse yourself in the technology businesses across the country are using to modernize their offices. Take advantage of having our top partners from around the country in one space to see the latest technologies first-hand. \nEnjoy delectable appetizers and drinks\, embrace nostalgia with retro games\, and enjoy live music. We’ll also feature unique activities such as bourbon tasting and custom hat making from a respected local hatter. One of the highlights will be our Keynote Presentation\, by professional photographer Jeremy Cowart\, a Nashville native and Canon Explorer of Light. Named the “Most Influential Photographer on the Internet” by Huffington Post\, Forbes\, and Yahoo\, Jeremy has photographed numerous influential celebrities and musicians\, including Taylor Swift\, Carrie Underwood\, and Dolly Parton. At RJ Young Tech Connect\, attendees will get the exclusive opportunity to have Jeremy take their headshots using his signature style named the ’60-second headshot’\, with every single portrait having completely unique results. You will not want to miss this!
URL:https://williamsonchamber.com/member-event/tech-connect/2024-06-04/2/
LOCATION:Acme Feed & Seed\, 101 Broadway\, Nashville\, 37201
ATTACH;FMTTYPE=image/png:https://williamsonchamber.com/wp-content/uploads/2024/05/Screenshot-2024-05-03-112544.png
ORGANIZER;CN="RJ Young":MAILTO:emily.korab@rjyoung.com
END:VEVENT
END:VCALENDAR