BEGIN:VCALENDAR
VERSION:2.0
PRODID:-//Williamson, Inc. - ECPv6.15.18//NONSGML v1.0//EN
CALSCALE:GREGORIAN
METHOD:PUBLISH
X-ORIGINAL-URL:https://williamsonchamber.com
X-WR-CALDESC:Events for Williamson, Inc.
REFRESH-INTERVAL;VALUE=DURATION:PT1H
X-Robots-Tag:noindex
X-PUBLISHED-TTL:PT1H
BEGIN:VTIMEZONE
TZID:America/Chicago
BEGIN:DAYLIGHT
TZOFFSETFROM:-0600
TZOFFSETTO:-0500
TZNAME:CDT
DTSTART:20250309T080000
END:DAYLIGHT
BEGIN:STANDARD
TZOFFSETFROM:-0500
TZOFFSETTO:-0600
TZNAME:CST
DTSTART:20251102T070000
END:STANDARD
BEGIN:DAYLIGHT
TZOFFSETFROM:-0600
TZOFFSETTO:-0500
TZNAME:CDT
DTSTART:20260308T080000
END:DAYLIGHT
BEGIN:STANDARD
TZOFFSETFROM:-0500
TZOFFSETTO:-0600
TZNAME:CST
DTSTART:20261101T070000
END:STANDARD
BEGIN:DAYLIGHT
TZOFFSETFROM:-0600
TZOFFSETTO:-0500
TZNAME:CDT
DTSTART:20270314T080000
END:DAYLIGHT
BEGIN:STANDARD
TZOFFSETFROM:-0500
TZOFFSETTO:-0600
TZNAME:CST
DTSTART:20271107T070000
END:STANDARD
END:VTIMEZONE
BEGIN:VEVENT
DTSTART;TZID=America/Chicago:20260613T080000
DTEND;TZID=America/Chicago:20260613T170000
DTSTAMP:20260424T165349
CREATED:20260410T195741Z
LAST-MODIFIED:20260410T195741Z
UID:10003617-1781337600-1781370000@williamsonchamber.com
SUMMARY:Family Geocaching Day
DESCRIPTION:June 13\, 2026\nEvent Check In: 10 am – 1 pm\nTrails close at 4 pm \nCost: $10 Adult (ages 13+)\, $8 Child (ages 12-5) Children 2 & under free \nCome to Owl’s Hill for a day of family fun and exploration! Geocaches are hidden in containers that can be found using a GPS or smartphone. Head out on our kid-friendly course set up with caches ready to be found. (We’ll also have a couple more challenging caches for anyone looking for extra adventure.) Hike around in the woods and see what you can find. No experience necessary!\nBring your own GPS device or use your smartphone with Google Maps installed to find the caches. Participants are welcome to bring tradeables (small toys or trinkets) to leave or exchange in caches. \nCheck in between 10 am and 1 pm. Trails are open for geocaching until 4 pm. The gate closes promptly at 4 pm.\nPlanning to bring a picnic? You are welcome to use the picnic tables in our orchard. Please plan to carry out your trash. \nTo protect wildlife\, we do not permit pets on the Sanctuary grounds.
URL:https://williamsonchamber.com/member-event/family-geocaching-day-7/2026-06-13/1/
LOCATION:Owl’s Hill Nature Sanctuary\, 545 Beech Creek Rd S\, Brentwood\, TN\, 37027\, United States
ATTACH;FMTTYPE=image/jpeg:https://williamsonchamber.com/wp-content/uploads/2026/04/Family-Geocaching-Day.jpg
ORGANIZER;CN="Owl's Hill Nature Sanctuary":MAILTO:info@owlshill.org
END:VEVENT
BEGIN:VEVENT
DTSTART;TZID=America/Chicago:20260613T100000
DTEND;TZID=America/Chicago:20260613T130000
DTSTAMP:20260424T165349
CREATED:20260410T195741Z
LAST-MODIFIED:20260410T195741Z
UID:10003618-1781344800-1781355600@williamsonchamber.com
SUMMARY:Family Geocaching Day
DESCRIPTION:June 13\, 2026\nEvent Check In: 10 am – 1 pm\nTrails close at 4 pm \nCost: $10 Adult (ages 13+)\, $8 Child (ages 12-5) Children 2 & under free \nCome to Owl’s Hill for a day of family fun and exploration! Geocaches are hidden in containers that can be found using a GPS or smartphone. Head out on our kid-friendly course set up with caches ready to be found. (We’ll also have a couple more challenging caches for anyone looking for extra adventure.) Hike around in the woods and see what you can find. No experience necessary!\nBring your own GPS device or use your smartphone with Google Maps installed to find the caches. Participants are welcome to bring tradeables (small toys or trinkets) to leave or exchange in caches. \nCheck in between 10 am and 1 pm. Trails are open for geocaching until 4 pm. The gate closes promptly at 4 pm.\nPlanning to bring a picnic? You are welcome to use the picnic tables in our orchard. Please plan to carry out your trash. \nTo protect wildlife\, we do not permit pets on the Sanctuary grounds.
URL:https://williamsonchamber.com/member-event/family-geocaching-day-7/2026-06-13/2/
LOCATION:Owl’s Hill Nature Sanctuary\, 545 Beech Creek Rd S\, Brentwood\, TN\, 37027\, United States
ATTACH;FMTTYPE=image/jpeg:https://williamsonchamber.com/wp-content/uploads/2026/04/Family-Geocaching-Day.jpg
ORGANIZER;CN="Owl's Hill Nature Sanctuary":MAILTO:info@owlshill.org
END:VEVENT
BEGIN:VEVENT
DTSTART;TZID=America/Chicago:20260626T193000
DTEND;TZID=America/Chicago:20260626T210000
DTSTAMP:20260424T165349
CREATED:20260410T195731Z
LAST-MODIFIED:20260410T195731Z
UID:10003614-1782502200-1782507600@williamsonchamber.com
SUMMARY:Full Moon Hikes
DESCRIPTION:2026 Full Moon Hikes\nStrawberry Moon: June 26\nBuck Moon: July 31\nSturgeon Moon: August 28 \nAll Hikes: 7:30 – 9 pm\n$15/person\nAge 12+ (minors must be accompanied by an adult)\nFull moon hikes are designed for adults and teens\, if you’re looking for a hike geared toward families and little kids\, check out our Firefly Hikes: https://www.owlshill.org/family-firefly-hikes \nGate opens 1 hour before program start. Program begins promptly at 7:30. No late entries. No exceptions. \nPack dinner and arrive early to picnic on the grounds. We are a pack-in/pack-out facility. \nJoin us as we explore Owl’s Hill at sunset and enjoy the sights and sounds of day turning to night. We’ll listen for owls\, coyotes\, and night-singing insects. As the stars come out\, we’ll look for constellations\, planets\, and even meteors. \nMeet our non-releasable owl ambassadors and learn about the adaptations that help nocturnal animals survive. Find out what we can expect to see in the sky that night. After that\, we’ll head out on the trail to look and listen for the wonders of the night. No flashlights\, please! \nOwl Prowl programs include an easy one-mile hike with some gentle uphill and downhill hiking. Our trails are natural surface\, and hikers can expect a few spots with uneven terrain. Wear shoes suitable for hiking. Insect repellent is strongly recommended.
URL:https://williamsonchamber.com/member-event/full-moon-hikes-3/2026-06-26/
LOCATION:Owl’s Hill Nature Sanctuary\, 545 Beech Creek Rd S\, Brentwood\, TN\, 37027\, United States
ATTACH;FMTTYPE=image/jpeg:https://williamsonchamber.com/wp-content/uploads/2026/04/Full-Moon-Hikes.jpg
ORGANIZER;CN="Owl's Hill Nature Sanctuary":MAILTO:info@owlshill.org
END:VEVENT
END:VCALENDAR