BEGIN:VCALENDAR
VERSION:2.0
PRODID:-//Williamson, Inc. - ECPv6.15.18//NONSGML v1.0//EN
CALSCALE:GREGORIAN
METHOD:PUBLISH
X-WR-CALNAME:Williamson, Inc.
X-ORIGINAL-URL:https://williamsonchamber.com
X-WR-CALDESC:Events for Williamson, Inc.
REFRESH-INTERVAL;VALUE=DURATION:PT1H
X-Robots-Tag:noindex
X-PUBLISHED-TTL:PT1H
BEGIN:VTIMEZONE
TZID:America/Chicago
BEGIN:DAYLIGHT
TZOFFSETFROM:-0600
TZOFFSETTO:-0500
TZNAME:CDT
DTSTART:20240310T080000
END:DAYLIGHT
BEGIN:STANDARD
TZOFFSETFROM:-0500
TZOFFSETTO:-0600
TZNAME:CST
DTSTART:20241103T070000
END:STANDARD
BEGIN:DAYLIGHT
TZOFFSETFROM:-0600
TZOFFSETTO:-0500
TZNAME:CDT
DTSTART:20250309T080000
END:DAYLIGHT
BEGIN:STANDARD
TZOFFSETFROM:-0500
TZOFFSETTO:-0600
TZNAME:CST
DTSTART:20251102T070000
END:STANDARD
BEGIN:DAYLIGHT
TZOFFSETFROM:-0600
TZOFFSETTO:-0500
TZNAME:CDT
DTSTART:20260308T080000
END:DAYLIGHT
BEGIN:STANDARD
TZOFFSETFROM:-0500
TZOFFSETTO:-0600
TZNAME:CST
DTSTART:20261101T070000
END:STANDARD
END:VTIMEZONE
BEGIN:VEVENT
DTSTART;TZID=America/Chicago:20251018T093000
DTEND;TZID=America/Chicago:20251018T123000
DTSTAMP:20260425T104717
CREATED:20250718T193900Z
LAST-MODIFIED:20250718T193900Z
UID:10003034-1760779800-1760790600@williamsonchamber.com
SUMMARY:Fall Color Hikes at Owl's Hill
DESCRIPTION:October 11\, 18 and 25; November 1\, 8 and 15\, 2025 \nall hikes begin 9:30am\nCost $15/hiker \nFall is upon us! Join our guides for an expert-led hike following the progression of fall at Owl’s Hill. This series of guided walks is just for adults and teens. Walks begin promptly at 9:30. Space is limited – purchase tickets in advance to secure your spot. Cameras and binoculars welcome. \nThis is a moderately strenuous hike\, open to age 14+ . Minors must be accompanied by an adult. \nTo protect wildlife and their fragile habitats\, pets are not permitted in the Sanctuary\, even on a leash. No pets permitted in vehicles in the parking lot. Service animals\, specifically trained to aid a person with a disability are welcome.
URL:https://williamsonchamber.com/member-event/fall-color-hikes-at-owls-hill-3/2025-10-18/
LOCATION:Owl’s Hill Nature Sanctuary\, 545 Beech Creek Rd S\, Brentwood\, TN\, 37027\, United States
ATTACH;FMTTYPE=image/jpeg:https://williamsonchamber.com/wp-content/uploads/2025/07/Fall-Color-Hikes.jpeg
ORGANIZER;CN="Owl's Hill Nature Sanctuary":MAILTO:info@owlshill.org
END:VEVENT
END:VCALENDAR