BEGIN:VCALENDAR
VERSION:2.0
PRODID:-//Williamson, Inc. - ECPv6.15.18//NONSGML v1.0//EN
CALSCALE:GREGORIAN
METHOD:PUBLISH
X-WR-CALNAME:Williamson, Inc.
X-ORIGINAL-URL:https://williamsonchamber.com
X-WR-CALDESC:Events for Williamson, Inc.
REFRESH-INTERVAL;VALUE=DURATION:PT1H
X-Robots-Tag:noindex
X-PUBLISHED-TTL:PT1H
BEGIN:VTIMEZONE
TZID:America/Chicago
BEGIN:DAYLIGHT
TZOFFSETFROM:-0600
TZOFFSETTO:-0500
TZNAME:CDT
DTSTART:20240310T080000
END:DAYLIGHT
BEGIN:STANDARD
TZOFFSETFROM:-0500
TZOFFSETTO:-0600
TZNAME:CST
DTSTART:20241103T070000
END:STANDARD
BEGIN:DAYLIGHT
TZOFFSETFROM:-0600
TZOFFSETTO:-0500
TZNAME:CDT
DTSTART:20250309T080000
END:DAYLIGHT
BEGIN:STANDARD
TZOFFSETFROM:-0500
TZOFFSETTO:-0600
TZNAME:CST
DTSTART:20251102T070000
END:STANDARD
BEGIN:DAYLIGHT
TZOFFSETFROM:-0600
TZOFFSETTO:-0500
TZNAME:CDT
DTSTART:20260308T080000
END:DAYLIGHT
BEGIN:STANDARD
TZOFFSETFROM:-0500
TZOFFSETTO:-0600
TZNAME:CST
DTSTART:20261101T070000
END:STANDARD
END:VTIMEZONE
BEGIN:VEVENT
DTSTART;TZID=America/Chicago:20250716T090000
DTEND;TZID=America/Chicago:20250716T130000
DTSTAMP:20260421T103225
CREATED:20250708T152425Z
LAST-MODIFIED:20250708T152425Z
UID:10003005-1752656400-1752670800@williamsonchamber.com
SUMMARY:Professional Development Workshop
DESCRIPTION:Calling all Teachers! \nBring energy\, engagement\, and confidence into your classroom with movement-based learning strategies designed for students of all abilities. This hands-on workshop will give you practical tools to help your students focus\, retain information\, and reduce stress\, all while having fun! \nWhat You’ll Take Away:\n✔ Fun\, research-backed activitie\, and games to enhance learning.\n✔ Kinesthetic learner support.\n✔ Helpful ideas to encourage students to reset\, re-engage\, and build confidence.\n✔ Valuable connections with fellow educators.\n✔ Certificate of completion for professional development hours.\n✔ Lunch included! \nWhen: Wednesday\, July 16th\, 9 AM- 1 PM \nWhere: MOVE Inclusive Dance – Franklin Studio \nInvestment: $150
URL:https://williamsonchamber.com/member-event/professional-development-workshop/
LOCATION:MOVE Inclusive Dance\, 1113 Murfreesboro Rd. Unit. 404\, Franklin\, 37064
ATTACH;FMTTYPE=image/png:https://williamsonchamber.com/wp-content/uploads/2025/07/Screenshot-2025-07-07-at-3.07.59 PM.png
ORGANIZER;CN="MOVE Inclusive Dance":MAILTO:lauren@moveinclusivedance.com
END:VEVENT
END:VCALENDAR