BEGIN:VCALENDAR
VERSION:2.0
PRODID:-//Williamson, Inc. - ECPv6.15.18//NONSGML v1.0//EN
CALSCALE:GREGORIAN
METHOD:PUBLISH
X-ORIGINAL-URL:https://williamsonchamber.com
X-WR-CALDESC:Events for Williamson, Inc.
REFRESH-INTERVAL;VALUE=DURATION:PT1H
X-Robots-Tag:noindex
X-PUBLISHED-TTL:PT1H
BEGIN:VTIMEZONE
TZID:America/Chicago
BEGIN:DAYLIGHT
TZOFFSETFROM:-0600
TZOFFSETTO:-0500
TZNAME:CDT
DTSTART:20240310T080000
END:DAYLIGHT
BEGIN:STANDARD
TZOFFSETFROM:-0500
TZOFFSETTO:-0600
TZNAME:CST
DTSTART:20241103T070000
END:STANDARD
BEGIN:DAYLIGHT
TZOFFSETFROM:-0600
TZOFFSETTO:-0500
TZNAME:CDT
DTSTART:20250309T080000
END:DAYLIGHT
BEGIN:STANDARD
TZOFFSETFROM:-0500
TZOFFSETTO:-0600
TZNAME:CST
DTSTART:20251102T070000
END:STANDARD
BEGIN:DAYLIGHT
TZOFFSETFROM:-0600
TZOFFSETTO:-0500
TZNAME:CDT
DTSTART:20260308T080000
END:DAYLIGHT
BEGIN:STANDARD
TZOFFSETFROM:-0500
TZOFFSETTO:-0600
TZNAME:CST
DTSTART:20261101T070000
END:STANDARD
END:VTIMEZONE
BEGIN:VEVENT
DTSTART;TZID=America/Chicago:20251010T120000
DTEND;TZID=America/Chicago:20251012T160000
DTSTAMP:20260425T223545
CREATED:20250704T020103Z
LAST-MODIFIED:20250704T020103Z
UID:10003004-1760097600-1760284800@williamsonchamber.com
SUMMARY:FREE Southern Nashville Fall Home Show\, October 2025
DESCRIPTION:FREE ADMISSION\nThe Southern Nashville Home Show is taking place October 10-12\, 2025 at AgExpo Park – Callicott Arena\nWhy YOU Will Love the Home Show\nHUGE SAVINGS — take advantage of exclusive show-only deals from trusted local experts!\nLIVE DEMOS — see demonstrations LIVE and discover new products in action!\nWIN PRIZES — participate in exciting giveaways happening throughout the weekend!\nONE STOP — meet top contractors\, designers\, and remodelers all in one place! \nThe Southern Nashville Home Show | October 10th – 12th\, 2025\nAgExpo Park – Callicott Arena – 4215 Long Lane\, Franklin\, TN 37064\nFriday: 12:00pm – 6:00pm | Saturday: 10:00am – 5:00pm | Sunday: 11:00am – 4:00pm\nInterested in exhibiting? Give us a call at 423-910-HOME\nFor more information\, visit: https://southeasternnashvillehomeshow.com
URL:https://williamsonchamber.com/member-event/free-southern-nashville-fall-home-show-october-2025/
LOCATION:AgExpo Park Callicott Arena\, 4215 Long Ln\, Franklin\, 37064
ATTACH;FMTTYPE=image/png:https://williamsonchamber.com/wp-content/uploads/2025/07/2025-Event-Banner-Template-SHOW-FALL.png
ORGANIZER;CN="Nationwide Expos":MAILTO:info@nationwideexpos.com
END:VEVENT
BEGIN:VEVENT
DTSTART;TZID=America/Chicago:20251013T190000
DTEND;TZID=America/Chicago:20251013T203000
DTSTAMP:20260425T223545
CREATED:20230228T161028Z
LAST-MODIFIED:20230228T161028Z
UID:10000070-1760382000-1760387400@williamsonchamber.com
SUMMARY:PFLAG Franklin LGBT Support Group
DESCRIPTION:A support meeting for LGBT individuals\, their families\, friends\, and allies. Confidential gathering and all are welcome. Not a political or religious organization.
URL:https://williamsonchamber.com/member-event/pflag-franklin-lgbt-support-group/2025-10-13/
LOCATION:St. Paul’s Episcopal Church\, 501 W. Main Street\, Franklin\, TN\, 37064\, United States
ATTACH;FMTTYPE=image/jpeg:https://williamsonchamber.com/wp-content/uploads/2023/02/franklin-2000x1500-1.jpg
ORGANIZER;CN="PFLAG Franklin":MAILTO:info@pflagfranklintn.org
END:VEVENT
BEGIN:VEVENT
DTSTART;TZID=America/Chicago:20251016T140000
DTEND;TZID=America/Chicago:20251016T150000
DTSTAMP:20260425T223545
CREATED:20250825T203622Z
LAST-MODIFIED:20250825T203747Z
UID:10003077-1760623200-1760626800@williamsonchamber.com
SUMMARY:Groundbreaking for FrankTown Open Hearts
DESCRIPTION:  \nJoin us October 16 at 2 PM as we celebrate with a groundbreaking ceremony for FrankTown Open Hearts’ new facility at the corner of Granbury and Academy St. behind the Williamson County Library.
URL:https://williamsonchamber.com/member-event/groundbreaking-for-franktown-open-hearts/
LOCATION:FrankTown Open Hearts\, Corner of Granbury and Academy\, Franklin\, 37064
ATTACH;FMTTYPE=image/png:https://williamsonchamber.com/wp-content/uploads/2025/08/FrankTown-GroundB.png
ORGANIZER;CN="FrankTown Open Hearts":MAILTO:info@frankltownopenhearts.com
END:VEVENT
BEGIN:VEVENT
DTSTART;TZID=America/Chicago:20251016T183000
DTEND;TZID=America/Chicago:20251016T203000
DTSTAMP:20260425T223545
CREATED:20250929T163411Z
LAST-MODIFIED:20250929T163411Z
UID:10003112-1760639400-1760646600@williamsonchamber.com
SUMMARY:August Park Public Grand Opening
DESCRIPTION:Come immerse yourself in sophisticated style at the grand opening of our fully and\nprofessionally decorated Harpeth home design. Join us for a tour\, meet our team\, and learn about\nthe distinctive architecture and quality craftsmanship of a Toll Brothers Home. \n-Enjoy Dinner & Beverages\n-Tour the New Model & Quick Move-In Homes\n-Musical Guest\n-Giveaways
URL:https://williamsonchamber.com/member-event/august-park-public-grand-opening/
LOCATION:Toll Brothers at August Park\, 1441 Round Hill Lane\, Spring Hill\, TN\, 37174\, United States
ATTACH;FMTTYPE=image/jpeg:https://williamsonchamber.com/wp-content/uploads/2025/09/AGP-Flyer-GrandOpening-OCT25_GO_EVENT-scaled.jpg
ORGANIZER;CN="Toll":MAILTO:ahytry@tollbrothers.com
END:VEVENT
BEGIN:VEVENT
DTSTART;TZID=America/Chicago:20251021T070000
DTEND;TZID=America/Chicago:20251021T090000
DTSTAMP:20260425T223545
CREATED:20250929T154431Z
LAST-MODIFIED:20250929T154431Z
UID:10003111-1761030000-1761037200@williamsonchamber.com
SUMMARY:Franklin Tomorrow Breakfast With the Mayors: Building a Healthy Democracy
DESCRIPTION:Don’t miss the final Breakfast With the Mayors\, presented by Franklin Tomorrow on Tuesday\, Oct. 21\, at a new location at Liberty Hall at The Factory At Franklin. The public is invited to come together to hear Franklin Mayor Ken Moore and Williamson County Mayor Rogers Anderson before participating in a discussion on “Building a Healthy Democracy” through a series of table discussions. To RSVP for this free event\, visit https://lnkd.in/eUw5UVQq
URL:https://williamsonchamber.com/member-event/franklin-tomorrow-breakfast-with-the-mayors-building-a-healthy-democracy/
LOCATION:Liberty Hall in the Factory at Franklin\, 230 Franklin Road\, Franklin\, 37064
ATTACH;FMTTYPE=image/png:https://williamsonchamber.com/wp-content/uploads/2025/09/BWTM-final.png
ORGANIZER;CN="Franklin Tomorrow Inc.":MAILTO:mindy@franklintomorrow.org
END:VEVENT
END:VCALENDAR