BEGIN:VCALENDAR
VERSION:2.0
PRODID:-//Williamson, Inc. - ECPv6.15.18//NONSGML v1.0//EN
CALSCALE:GREGORIAN
METHOD:PUBLISH
X-ORIGINAL-URL:https://williamsonchamber.com
X-WR-CALDESC:Events for Williamson, Inc.
REFRESH-INTERVAL;VALUE=DURATION:PT1H
X-Robots-Tag:noindex
X-PUBLISHED-TTL:PT1H
BEGIN:VTIMEZONE
TZID:America/Chicago
BEGIN:DAYLIGHT
TZOFFSETFROM:-0600
TZOFFSETTO:-0500
TZNAME:CDT
DTSTART:20220313T080000
END:DAYLIGHT
BEGIN:STANDARD
TZOFFSETFROM:-0500
TZOFFSETTO:-0600
TZNAME:CST
DTSTART:20221106T070000
END:STANDARD
BEGIN:DAYLIGHT
TZOFFSETFROM:-0600
TZOFFSETTO:-0500
TZNAME:CDT
DTSTART:20230312T080000
END:DAYLIGHT
BEGIN:STANDARD
TZOFFSETFROM:-0500
TZOFFSETTO:-0600
TZNAME:CST
DTSTART:20231105T070000
END:STANDARD
BEGIN:DAYLIGHT
TZOFFSETFROM:-0600
TZOFFSETTO:-0500
TZNAME:CDT
DTSTART:20240310T080000
END:DAYLIGHT
BEGIN:STANDARD
TZOFFSETFROM:-0500
TZOFFSETTO:-0600
TZNAME:CST
DTSTART:20241103T070000
END:STANDARD
END:VTIMEZONE
BEGIN:VEVENT
DTSTART;TZID=America/Chicago:20230126T190000
DTEND;TZID=America/Chicago:20230126T210000
DTSTAMP:20260425T080641
CREATED:20230110T194823Z
LAST-MODIFIED:20230110T194823Z
UID:10000005-1674759600-1674766800@williamsonchamber.com
SUMMARY:The Star Bright Players present Shrek the Musical
DESCRIPTION:Starting their 26th year of productions\, the award-winning Star Bright Players will present 5 performances of Shrek the Musical under the direction of Blandina Vergara-Cruz\, with musical direction by Cassie Stone and choreography by Claire Hamblen. \nBased on the Oscar-winning DreamWorks Animation film\, Shrek The Musical is a Tony Award-winning fairy tale adventure\, featuring all new songs from Jeanine Tesori (Thoroughly Modern Millie; Caroline\, or Change) and a sidesplitting book by David Lindsay-Abaire. Shrek brings all the beloved characters you know from the film to life on stage and proves there’s more to the story than meets the ears. \n“Once upon a time\, there was a little ogre named Shrek….” And thus begins the tale of an unlikely hero who finds himself on a life-changing journey alongside a wisecracking Donkey and a feisty princess who resists her rescue. Throw in a short-tempered bad guy\, a cookie with an attitude and over a dozen other fairy tale misfits\, and you’ve got the kind of mess that calls for a real hero. Luckily\, there’s one on hand… and his name is Shrek.
URL:https://williamsonchamber.com/member-event/star-bright-players-present-shrek-musical/2023-01-26/
ATTACH;FMTTYPE=image/png:https://williamsonchamber.com/wp-content/uploads/2023/01/Shrek-The-Musical.png
END:VEVENT
BEGIN:VEVENT
DTSTART;TZID=America/Chicago:20230127T190000
DTEND;TZID=America/Chicago:20230127T210000
DTSTAMP:20260425T080641
CREATED:20230110T194823Z
LAST-MODIFIED:20230110T194823Z
UID:10000006-1674846000-1674853200@williamsonchamber.com
SUMMARY:The Star Bright Players present Shrek the Musical
DESCRIPTION:Starting their 26th year of productions\, the award-winning Star Bright Players will present 5 performances of Shrek the Musical under the direction of Blandina Vergara-Cruz\, with musical direction by Cassie Stone and choreography by Claire Hamblen. \nBased on the Oscar-winning DreamWorks Animation film\, Shrek The Musical is a Tony Award-winning fairy tale adventure\, featuring all new songs from Jeanine Tesori (Thoroughly Modern Millie; Caroline\, or Change) and a sidesplitting book by David Lindsay-Abaire. Shrek brings all the beloved characters you know from the film to life on stage and proves there’s more to the story than meets the ears. \n“Once upon a time\, there was a little ogre named Shrek….” And thus begins the tale of an unlikely hero who finds himself on a life-changing journey alongside a wisecracking Donkey and a feisty princess who resists her rescue. Throw in a short-tempered bad guy\, a cookie with an attitude and over a dozen other fairy tale misfits\, and you’ve got the kind of mess that calls for a real hero. Luckily\, there’s one on hand… and his name is Shrek.
URL:https://williamsonchamber.com/member-event/star-bright-players-present-shrek-musical/2023-01-27/
ATTACH;FMTTYPE=image/png:https://williamsonchamber.com/wp-content/uploads/2023/01/Shrek-The-Musical.png
END:VEVENT
BEGIN:VEVENT
DTSTART;TZID=America/Chicago:20230128T140000
DTEND;TZID=America/Chicago:20230128T160000
DTSTAMP:20260425T080641
CREATED:20230110T194823Z
LAST-MODIFIED:20230110T194823Z
UID:10000007-1674914400-1674921600@williamsonchamber.com
SUMMARY:The Star Bright Players present Shrek the Musical
DESCRIPTION:Starting their 26th year of productions\, the award-winning Star Bright Players will present 5 performances of Shrek the Musical under the direction of Blandina Vergara-Cruz\, with musical direction by Cassie Stone and choreography by Claire Hamblen. \nBased on the Oscar-winning DreamWorks Animation film\, Shrek The Musical is a Tony Award-winning fairy tale adventure\, featuring all new songs from Jeanine Tesori (Thoroughly Modern Millie; Caroline\, or Change) and a sidesplitting book by David Lindsay-Abaire. Shrek brings all the beloved characters you know from the film to life on stage and proves there’s more to the story than meets the ears. \n“Once upon a time\, there was a little ogre named Shrek….” And thus begins the tale of an unlikely hero who finds himself on a life-changing journey alongside a wisecracking Donkey and a feisty princess who resists her rescue. Throw in a short-tempered bad guy\, a cookie with an attitude and over a dozen other fairy tale misfits\, and you’ve got the kind of mess that calls for a real hero. Luckily\, there’s one on hand… and his name is Shrek.
URL:https://williamsonchamber.com/member-event/star-bright-players-present-shrek-musical/2023-01-28/1/
ATTACH;FMTTYPE=image/png:https://williamsonchamber.com/wp-content/uploads/2023/01/Shrek-The-Musical.png
END:VEVENT
BEGIN:VEVENT
DTSTART;TZID=America/Chicago:20230128T190000
DTEND;TZID=America/Chicago:20230128T210000
DTSTAMP:20260425T080641
CREATED:20230110T194823Z
LAST-MODIFIED:20230110T194823Z
UID:10000008-1674932400-1674939600@williamsonchamber.com
SUMMARY:The Star Bright Players present Shrek the Musical
DESCRIPTION:Starting their 26th year of productions\, the award-winning Star Bright Players will present 5 performances of Shrek the Musical under the direction of Blandina Vergara-Cruz\, with musical direction by Cassie Stone and choreography by Claire Hamblen. \nBased on the Oscar-winning DreamWorks Animation film\, Shrek The Musical is a Tony Award-winning fairy tale adventure\, featuring all new songs from Jeanine Tesori (Thoroughly Modern Millie; Caroline\, or Change) and a sidesplitting book by David Lindsay-Abaire. Shrek brings all the beloved characters you know from the film to life on stage and proves there’s more to the story than meets the ears. \n“Once upon a time\, there was a little ogre named Shrek….” And thus begins the tale of an unlikely hero who finds himself on a life-changing journey alongside a wisecracking Donkey and a feisty princess who resists her rescue. Throw in a short-tempered bad guy\, a cookie with an attitude and over a dozen other fairy tale misfits\, and you’ve got the kind of mess that calls for a real hero. Luckily\, there’s one on hand… and his name is Shrek.
URL:https://williamsonchamber.com/member-event/star-bright-players-present-shrek-musical/2023-01-28/2/
ATTACH;FMTTYPE=image/png:https://williamsonchamber.com/wp-content/uploads/2023/01/Shrek-The-Musical.png
END:VEVENT
BEGIN:VEVENT
DTSTART;TZID=America/Chicago:20230129T140000
DTEND;TZID=America/Chicago:20230129T160000
DTSTAMP:20260425T080641
CREATED:20230110T194823Z
LAST-MODIFIED:20230110T194823Z
UID:10000009-1675000800-1675008000@williamsonchamber.com
SUMMARY:The Star Bright Players present Shrek the Musical
DESCRIPTION:Starting their 26th year of productions\, the award-winning Star Bright Players will present 5 performances of Shrek the Musical under the direction of Blandina Vergara-Cruz\, with musical direction by Cassie Stone and choreography by Claire Hamblen. \nBased on the Oscar-winning DreamWorks Animation film\, Shrek The Musical is a Tony Award-winning fairy tale adventure\, featuring all new songs from Jeanine Tesori (Thoroughly Modern Millie; Caroline\, or Change) and a sidesplitting book by David Lindsay-Abaire. Shrek brings all the beloved characters you know from the film to life on stage and proves there’s more to the story than meets the ears. \n“Once upon a time\, there was a little ogre named Shrek….” And thus begins the tale of an unlikely hero who finds himself on a life-changing journey alongside a wisecracking Donkey and a feisty princess who resists her rescue. Throw in a short-tempered bad guy\, a cookie with an attitude and over a dozen other fairy tale misfits\, and you’ve got the kind of mess that calls for a real hero. Luckily\, there’s one on hand… and his name is Shrek.
URL:https://williamsonchamber.com/member-event/star-bright-players-present-shrek-musical/2023-01-29/
ATTACH;FMTTYPE=image/png:https://williamsonchamber.com/wp-content/uploads/2023/01/Shrek-The-Musical.png
END:VEVENT
END:VCALENDAR