BEGIN:VCALENDAR
VERSION:2.0
PRODID:-//Williamson, Inc. - ECPv6.15.18//NONSGML v1.0//EN
CALSCALE:GREGORIAN
METHOD:PUBLISH
X-ORIGINAL-URL:https://williamsonchamber.com
X-WR-CALDESC:Events for Williamson, Inc.
REFRESH-INTERVAL;VALUE=DURATION:PT1H
X-Robots-Tag:noindex
X-PUBLISHED-TTL:PT1H
BEGIN:VTIMEZONE
TZID:America/Chicago
BEGIN:DAYLIGHT
TZOFFSETFROM:-0600
TZOFFSETTO:-0500
TZNAME:CDT
DTSTART:20220313T080000
END:DAYLIGHT
BEGIN:STANDARD
TZOFFSETFROM:-0500
TZOFFSETTO:-0600
TZNAME:CST
DTSTART:20221106T070000
END:STANDARD
BEGIN:DAYLIGHT
TZOFFSETFROM:-0600
TZOFFSETTO:-0500
TZNAME:CDT
DTSTART:20230312T080000
END:DAYLIGHT
BEGIN:STANDARD
TZOFFSETFROM:-0500
TZOFFSETTO:-0600
TZNAME:CST
DTSTART:20231105T070000
END:STANDARD
BEGIN:DAYLIGHT
TZOFFSETFROM:-0600
TZOFFSETTO:-0500
TZNAME:CDT
DTSTART:20240310T080000
END:DAYLIGHT
BEGIN:STANDARD
TZOFFSETFROM:-0500
TZOFFSETTO:-0600
TZNAME:CST
DTSTART:20241103T070000
END:STANDARD
END:VTIMEZONE
BEGIN:VEVENT
DTSTART;TZID=America/Chicago:20230218T190000
DTEND;TZID=America/Chicago:20230218T210000
DTSTAMP:20260424T191024
CREATED:20230110T194702Z
LAST-MODIFIED:20230110T194702Z
UID:10000014-1676746800-1676754000@williamsonchamber.com
SUMMARY:A Tribute to Louis Armstrong Featuring Troy Anderson
DESCRIPTION:The Williamson County Performing Arts Center presents a tribute to jazz icon Louis Armstrong! Backed by some of Nashville’s finest musicians\, acclaimed performer Troy Anderson brings the great ‘Satchmo’ to life on stage with the signature trumpet and hanky\, the roly-poly voice\, and above all\, the contagious joie de vivre that made Louis Armstrong so beloved. Featuring memorable tunes like “What a Wonderful World\,” “Hello Dolly\,” “Mack the Knife\,” and many more\, this musical celebration of the legendary Louis Armstrong is not to be missed.
URL:https://williamsonchamber.com/member-event/tribute-louis-armstrong-featuring-troy-anderson/
ATTACH;FMTTYPE=image/png:https://williamsonchamber.com/wp-content/uploads/2023/01/Louis-Armstrong-Tribute.png
END:VEVENT
END:VCALENDAR