BEGIN:VCALENDAR
VERSION:2.0
PRODID:-//Williamson, Inc. - ECPv6.15.18//NONSGML v1.0//EN
CALSCALE:GREGORIAN
METHOD:PUBLISH
X-ORIGINAL-URL:https://williamsonchamber.com
X-WR-CALDESC:Events for Williamson, Inc.
REFRESH-INTERVAL;VALUE=DURATION:PT1H
X-Robots-Tag:noindex
X-PUBLISHED-TTL:PT1H
BEGIN:VTIMEZONE
TZID:America/Chicago
BEGIN:DAYLIGHT
TZOFFSETFROM:-0600
TZOFFSETTO:-0500
TZNAME:CDT
DTSTART:20220313T080000
END:DAYLIGHT
BEGIN:STANDARD
TZOFFSETFROM:-0500
TZOFFSETTO:-0600
TZNAME:CST
DTSTART:20221106T070000
END:STANDARD
BEGIN:DAYLIGHT
TZOFFSETFROM:-0600
TZOFFSETTO:-0500
TZNAME:CDT
DTSTART:20230312T080000
END:DAYLIGHT
BEGIN:STANDARD
TZOFFSETFROM:-0500
TZOFFSETTO:-0600
TZNAME:CST
DTSTART:20231105T070000
END:STANDARD
BEGIN:DAYLIGHT
TZOFFSETFROM:-0600
TZOFFSETTO:-0500
TZNAME:CDT
DTSTART:20240310T080000
END:DAYLIGHT
BEGIN:STANDARD
TZOFFSETFROM:-0500
TZOFFSETTO:-0600
TZNAME:CST
DTSTART:20241103T070000
END:STANDARD
END:VTIMEZONE
BEGIN:VEVENT
DTSTART;TZID=America/Chicago:20230909T173000
DTEND;TZID=America/Chicago:20230909T203000
DTSTAMP:20260423T052222
CREATED:20230710T110533Z
LAST-MODIFIED:20230710T110533Z
UID:10000295-1694280600-1694291400@williamsonchamber.com
SUMMARY:Music in the Meadow at Owl's Hill
DESCRIPTION:Bill Lloyd & Friends\nSaturday\, September 9 \nMatt Belsante\nSaturday\, October 7 \nMusic in the Meadow is a one-of-a-kind\, fall concert series to raise vital operating funds for Owl’s Hill Nature Sanctuary. This intimate concert event is a wonderful evening held under the stars and among the rolling hills of Owl’s Hill Nature Sanctuary. This year\, we will host local singer/songwriter\, Bill Lloyd and Friends on September 9th and Nashville artist Matt Belsante on October 7th. Guests bring their own picnic dinner\, chairs and coolers and enjoy a great night of music for a great cause! \n5:30 pm – 8:30 pm (Concert 7 pm)\nTickets: $30/person or $150/carload (up to 6 people per vehicle)\nReserved seating (limited quantities): $125/picnic table \nTickets to each event are sold separately.
URL:https://williamsonchamber.com/member-event/music-meadow-owls-hill/2023-09-09/
LOCATION:Owl’s Hill Nature Sanctuary\, 545 Beech Creek Rd S\, Brentwood\, TN\, 37027\, United States
ATTACH;FMTTYPE=image/jpeg:https://williamsonchamber.com/wp-content/uploads/2023/07/Music-in-the-Meadow.jpg
ORGANIZER;CN="Owl's Hill Nature Sanctuary":MAILTO:info@owlshill.org
END:VEVENT
BEGIN:VEVENT
DTSTART;TZID=America/Chicago:20230909T180000
DTEND;TZID=America/Chicago:20230909T210000
DTSTAMP:20260423T052222
CREATED:20230725T190816Z
LAST-MODIFIED:20230725T190816Z
UID:10000320-1694282400-1694293200@williamsonchamber.com
SUMMARY:American Heroes Concert 80s Night
DESCRIPTION:Shoulder pads\, ruffles\, big hair\, and lots of color – the 80s are back for the night! Join us in our quest to raise funds for needy Veterans in Nashville in support of We Are Building Lives. \nThis night includes dinner\, drinks\, silent & live auction\, vintage arcade games\, an 80s dance party\, and an 80s costume contest! It’s gonna be totally rad – get your tickets now! \nEach ticket includes a dinner\, drinks\, a live and silent auction\, a raffle\, and event t-shirt \nSponsorship Levels: \nGround Zero: $5\,000 \n– Company Name as Event Presenting Sponsor on All Media\, & Website \n– 8 Person Table for Guests \n– Logo displayed on table \nTrue Heroes: $3\,500 \n– 8 Person Table for Guests \n– Logo displayed on table \nFirst Responders: $2\,500 \n– 6 Person Table for Guests \n– Logo displayed on table \nAll Hands on Deck: $150 \n– General Admission
URL:https://williamsonchamber.com/member-event/american-heroes-concert-80s-night/
LOCATION:Liberty Hall in the Factory at Franklin\, 230 Franklin Road\, Franklin\, 37064
ATTACH;FMTTYPE=image/jpeg:https://williamsonchamber.com/wp-content/uploads/2023/07/donorbox-event-image.jpg
ORGANIZER;CN="We Are Building Lives":MAILTO:aubrie@wearebuildinglives.org
END:VEVENT
END:VCALENDAR