BEGIN:VCALENDAR
VERSION:2.0
PRODID:-//Williamson, Inc. - ECPv6.15.18//NONSGML v1.0//EN
CALSCALE:GREGORIAN
METHOD:PUBLISH
X-WR-CALNAME:Williamson, Inc.
X-ORIGINAL-URL:https://williamsonchamber.com
X-WR-CALDESC:Events for Williamson, Inc.
REFRESH-INTERVAL;VALUE=DURATION:PT1H
X-Robots-Tag:noindex
X-PUBLISHED-TTL:PT1H
BEGIN:VTIMEZONE
TZID:America/Chicago
BEGIN:DAYLIGHT
TZOFFSETFROM:-0600
TZOFFSETTO:-0500
TZNAME:CDT
DTSTART:20240310T080000
END:DAYLIGHT
BEGIN:STANDARD
TZOFFSETFROM:-0500
TZOFFSETTO:-0600
TZNAME:CST
DTSTART:20241103T070000
END:STANDARD
BEGIN:DAYLIGHT
TZOFFSETFROM:-0600
TZOFFSETTO:-0500
TZNAME:CDT
DTSTART:20250309T080000
END:DAYLIGHT
BEGIN:STANDARD
TZOFFSETFROM:-0500
TZOFFSETTO:-0600
TZNAME:CST
DTSTART:20251102T070000
END:STANDARD
BEGIN:DAYLIGHT
TZOFFSETFROM:-0600
TZOFFSETTO:-0500
TZNAME:CDT
DTSTART:20260308T080000
END:DAYLIGHT
BEGIN:STANDARD
TZOFFSETFROM:-0500
TZOFFSETTO:-0600
TZNAME:CST
DTSTART:20261101T070000
END:STANDARD
END:VTIMEZONE
BEGIN:VEVENT
DTSTART;TZID=America/Chicago:20250125T080000
DTEND;TZID=America/Chicago:20250125T170000
DTSTAMP:20260425T125444
CREATED:20250121T173354Z
LAST-MODIFIED:20250121T173354Z
UID:10002627-1737792000-1737824400@williamsonchamber.com
SUMMARY:Celebration of Nations/ 20th Anniversary of Twinning with Carleton Place\, Ontario\, Canada
DESCRIPTION:Celebration of Nations Event January 25\, 2025 \nThe Celebration of Nations\, presented by Sister Cities of Franklin and Williamson County\, will be held at the Williamson County Performing Arts Center on Saturday\, January 25\, 2025\, from 1:00 to 3:00 p.m. Thanks to the generosity of our sponsors\, tickets are available for $10 this year. Tickets are available through the link on sistercitiestn.org \nThis event\, a melting pot of international acts\, promises a family-friendly extravaganza. Attendees will be treated to a diverse array of showcase performances that celebrate traditions from around the world\, making it a truly unique and exciting experience.\nPrepare to join the fun and participate in the performances by swaying\, shimmying\, shaking\, polkaing\, and dancing with all the performers. \nThis event will take place on the 20th anniversary of Franklin’s First Sister City signing with Carleton Place\, Ontario\, Canada. Mayor Ken Moore read aloud a proclamation at the BOMA meeting on Tuesday\, January 14. The Proclamation will be reread on Saturday. A short reception will be held in conjunction with the musical event. Sister Cities of Franklin and Williamson County board members will provide refreshments.\nThis reception will serve as the Sister Cities’ annual meeting.
URL:https://williamsonchamber.com/member-event/celebration-of-nations-20th-anniversary-of-twinning-with-carleton-place-ontario-canada-2/2025-01-25/1/
LOCATION:Wiliamson County Performing Arts Center\, 112 Everbright Avenue\, Franklin\, TN\, 37064
ATTACH;FMTTYPE=image/jpeg:https://williamsonchamber.com/wp-content/uploads/2025/01/con-new.jpg
ORGANIZER;CN="Sister Cities of Franklin and Williamson County":MAILTO:sistercitiesfranklintn@gmail.com
END:VEVENT
BEGIN:VEVENT
DTSTART;TZID=America/Chicago:20250125T130000
DTEND;TZID=America/Chicago:20250125T150000
DTSTAMP:20260425T125444
CREATED:20250121T173354Z
LAST-MODIFIED:20250121T173354Z
UID:10002628-1737810000-1737817200@williamsonchamber.com
SUMMARY:Celebration of Nations/ 20th Anniversary of Twinning with Carleton Place\, Ontario\, Canada
DESCRIPTION:Celebration of Nations Event January 25\, 2025 \nThe Celebration of Nations\, presented by Sister Cities of Franklin and Williamson County\, will be held at the Williamson County Performing Arts Center on Saturday\, January 25\, 2025\, from 1:00 to 3:00 p.m. Thanks to the generosity of our sponsors\, tickets are available for $10 this year. Tickets are available through the link on sistercitiestn.org \nThis event\, a melting pot of international acts\, promises a family-friendly extravaganza. Attendees will be treated to a diverse array of showcase performances that celebrate traditions from around the world\, making it a truly unique and exciting experience.\nPrepare to join the fun and participate in the performances by swaying\, shimmying\, shaking\, polkaing\, and dancing with all the performers. \nThis event will take place on the 20th anniversary of Franklin’s First Sister City signing with Carleton Place\, Ontario\, Canada. Mayor Ken Moore read aloud a proclamation at the BOMA meeting on Tuesday\, January 14. The Proclamation will be reread on Saturday. A short reception will be held in conjunction with the musical event. Sister Cities of Franklin and Williamson County board members will provide refreshments.\nThis reception will serve as the Sister Cities’ annual meeting.
URL:https://williamsonchamber.com/member-event/celebration-of-nations-20th-anniversary-of-twinning-with-carleton-place-ontario-canada-2/2025-01-25/2/
LOCATION:Wiliamson County Performing Arts Center\, 112 Everbright Avenue\, Franklin\, TN\, 37064
ATTACH;FMTTYPE=image/jpeg:https://williamsonchamber.com/wp-content/uploads/2025/01/con-new.jpg
ORGANIZER;CN="Sister Cities of Franklin and Williamson County":MAILTO:sistercitiesfranklintn@gmail.com
END:VEVENT
END:VCALENDAR