BEGIN:VCALENDAR
VERSION:2.0
PRODID:-//Williamson, Inc. - ECPv6.15.18//NONSGML v1.0//EN
CALSCALE:GREGORIAN
METHOD:PUBLISH
X-ORIGINAL-URL:https://williamsonchamber.com
X-WR-CALDESC:Events for Williamson, Inc.
REFRESH-INTERVAL;VALUE=DURATION:PT1H
X-Robots-Tag:noindex
X-PUBLISHED-TTL:PT1H
BEGIN:VTIMEZONE
TZID:America/Chicago
BEGIN:DAYLIGHT
TZOFFSETFROM:-0600
TZOFFSETTO:-0500
TZNAME:CDT
DTSTART:20220313T080000
END:DAYLIGHT
BEGIN:STANDARD
TZOFFSETFROM:-0500
TZOFFSETTO:-0600
TZNAME:CST
DTSTART:20221106T070000
END:STANDARD
BEGIN:DAYLIGHT
TZOFFSETFROM:-0600
TZOFFSETTO:-0500
TZNAME:CDT
DTSTART:20230312T080000
END:DAYLIGHT
BEGIN:STANDARD
TZOFFSETFROM:-0500
TZOFFSETTO:-0600
TZNAME:CST
DTSTART:20231105T070000
END:STANDARD
BEGIN:DAYLIGHT
TZOFFSETFROM:-0600
TZOFFSETTO:-0500
TZNAME:CDT
DTSTART:20240310T080000
END:DAYLIGHT
BEGIN:STANDARD
TZOFFSETFROM:-0500
TZOFFSETTO:-0600
TZNAME:CST
DTSTART:20241103T070000
END:STANDARD
END:VTIMEZONE
BEGIN:VEVENT
DTSTART;TZID=America/Chicago:20231001T190000
DTEND;TZID=America/Chicago:20231001T210000
DTSTAMP:20260421T195019
CREATED:20230918T194051Z
LAST-MODIFIED:20230918T194051Z
UID:10000523-1696186800-1696194000@williamsonchamber.com
SUMMARY:Summer Shakespeare Much Ado About Nothing
DESCRIPTION:Welcome to Nashville\, 1973. Experience Much Ado About Nothing performed with a blend of nostalgia and contemporary relevance! We see the past was indeed prologue in this romantic comedy of miscommunication\, resulting in peace\, love\, and understanding. This performance is family-friendly and a treat for all ages!
URL:https://williamsonchamber.com/member-event/summer-shakespeare-much-ado-about-nothing/2023-10-01/
LOCATION:Williamson County Academy Park Field\, 110 Everbright Avenue\, Franklin\, 37064
ATTACH;FMTTYPE=image/png:https://williamsonchamber.com/wp-content/uploads/2023/09/summer-shakespear-much-ado.png
END:VEVENT
BEGIN:VEVENT
DTSTART;TZID=America/Chicago:20231007T120000
DTEND;TZID=America/Chicago:20231007T160000
DTSTAMP:20260421T195019
CREATED:20230905T235823Z
LAST-MODIFIED:20230905T235823Z
UID:10000454-1696680000-1696694400@williamsonchamber.com
SUMMARY:3rd Annual Brentwood Beer and Wine Festival
DESCRIPTION:Enjoy beer and wine tastings on a fall afternoon. Over 30 different breweries and 10 wineries will be present. Take the opportunity to enjoy ax throwing\, pumpkin tossing\, miniture golf\, college football on tv\, and food trucks as well. Lots of fun and all funds raised goes to the Advancement of Catholic Education. If you send your kid to a parochial school and you are having difficulty paying tuition\, ACE steps in and helps.
URL:https://williamsonchamber.com/member-event/3rd-annual-brentwood-beer-and-wine-festival/
LOCATION:Crockett Rd\, 9100 Crockett Rd\, Brentwood\, 37027
ATTACH;FMTTYPE=image/png:https://williamsonchamber.com/wp-content/uploads/2023/09/Brentwood-Beer-and-Wine-Festival-Crest.png
END:VEVENT
BEGIN:VEVENT
DTSTART;VALUE=DATE:20231021
DTEND;VALUE=DATE:20231022
DTSTAMP:20260421T195019
CREATED:20230706T162539Z
LAST-MODIFIED:20230706T162539Z
UID:10000293-1697846400-1697932799@williamsonchamber.com
SUMMARY:WCSA Sponsor Day Trunk or Treat
DESCRIPTION:Williamson County Soccer Association is holding its bi-annual Sponsor Day on Friday\, October 21st. Come out to the fields at 3157 Downs Boulevard to meet or sponsors\, win prizes\, and stock up on tasty treats! This is a family and kid friendly event\, so mark your calendars and come out for some fun!
URL:https://williamsonchamber.com/member-event/wcsa-sponsor-day-trunk-treat/
LOCATION:3157 Boyd Mill Avenue Franklin TN 37064
END:VEVENT
BEGIN:VEVENT
DTSTART;TZID=America/Chicago:20231028T100000
DTEND;TZID=America/Chicago:20231028T120000
DTSTAMP:20260421T195019
CREATED:20231003T153008Z
LAST-MODIFIED:20231003T153008Z
UID:10000594-1698487200-1698494400@williamsonchamber.com
SUMMARY:Fall Fest - Mobile Therapy Centers (MTC)
DESCRIPTION:2nd Annual Fall Fest at Mobile Therapy Centers in Franklin. Fun for the whole family! Trunk or Treating\, Crafts\, Games and More!
URL:https://williamsonchamber.com/member-event/fall-fest-mobile-therapy-centers-mtc/
LOCATION:Mobile Therapy Centers (MTC)\, 325 Seaboard Lane\, Franklin\, 37067
ATTACH;FMTTYPE=image/jpeg:https://williamsonchamber.com/wp-content/uploads/2023/10/Fall-Fest-TN-2023.jpeg
ORGANIZER;CN="Mobile Therapy Centers (MTC)":MAILTO:lkrasner@mtcus.com
END:VEVENT
END:VCALENDAR