BEGIN:VCALENDAR
VERSION:2.0
PRODID:-//Williamson, Inc. - ECPv6.15.18//NONSGML v1.0//EN
CALSCALE:GREGORIAN
METHOD:PUBLISH
X-ORIGINAL-URL:https://williamsonchamber.com
X-WR-CALDESC:Events for Williamson, Inc.
REFRESH-INTERVAL;VALUE=DURATION:PT1H
X-Robots-Tag:noindex
X-PUBLISHED-TTL:PT1H
BEGIN:VTIMEZONE
TZID:America/Chicago
BEGIN:DAYLIGHT
TZOFFSETFROM:-0600
TZOFFSETTO:-0500
TZNAME:CDT
DTSTART:20220313T080000
END:DAYLIGHT
BEGIN:STANDARD
TZOFFSETFROM:-0500
TZOFFSETTO:-0600
TZNAME:CST
DTSTART:20221106T070000
END:STANDARD
BEGIN:DAYLIGHT
TZOFFSETFROM:-0600
TZOFFSETTO:-0500
TZNAME:CDT
DTSTART:20230312T080000
END:DAYLIGHT
BEGIN:STANDARD
TZOFFSETFROM:-0500
TZOFFSETTO:-0600
TZNAME:CST
DTSTART:20231105T070000
END:STANDARD
BEGIN:DAYLIGHT
TZOFFSETFROM:-0600
TZOFFSETTO:-0500
TZNAME:CDT
DTSTART:20240310T080000
END:DAYLIGHT
BEGIN:STANDARD
TZOFFSETFROM:-0500
TZOFFSETTO:-0600
TZNAME:CST
DTSTART:20241103T070000
END:STANDARD
END:VTIMEZONE
BEGIN:VEVENT
DTSTART;TZID=America/Chicago:20230904T070000
DTEND;TZID=America/Chicago:20230904T110000
DTSTAMP:20260421T035853
CREATED:20230705T164607Z
LAST-MODIFIED:20230705T164607Z
UID:10000289-1693810800-1693825200@williamsonchamber.com
SUMMARY:Mercy Community Healthcare Franklin Classic
DESCRIPTION:Join us on the Public Square in Franklin\, TN on Labor Day\, September 4\, 2023! The Mercy Franklin Classic is a 5k\, 10k\, 15k and 1k Kids Run. We start and finish on the historic Franklin Square with the final sprint down Main Street. There will be music\, fun\, and a Kids Zone!
URL:https://williamsonchamber.com/member-event/mercy-community-healthcare-franklin-classic/
LOCATION:Historic Downtown Franklin\, Main Street\, Franklin\, TN\, 37064\, United States
ATTACH;FMTTYPE=image/jpeg:https://williamsonchamber.com/wp-content/uploads/2023/07/Final-Logo-2023-FC-with-date.jpg
ORGANIZER;CN="Mercy Community Healthcare":MAILTO:marketing
END:VEVENT
END:VCALENDAR