BEGIN:VCALENDAR
VERSION:2.0
PRODID:-//Williamson, Inc. - ECPv6.15.18//NONSGML v1.0//EN
CALSCALE:GREGORIAN
METHOD:PUBLISH
X-WR-CALNAME:Williamson, Inc.
X-ORIGINAL-URL:https://williamsonchamber.com
X-WR-CALDESC:Events for Williamson, Inc.
REFRESH-INTERVAL;VALUE=DURATION:PT1H
X-Robots-Tag:noindex
X-PUBLISHED-TTL:PT1H
BEGIN:VTIMEZONE
TZID:America/Chicago
BEGIN:DAYLIGHT
TZOFFSETFROM:-0600
TZOFFSETTO:-0500
TZNAME:CDT
DTSTART:20230312T080000
END:DAYLIGHT
BEGIN:STANDARD
TZOFFSETFROM:-0500
TZOFFSETTO:-0600
TZNAME:CST
DTSTART:20231105T070000
END:STANDARD
BEGIN:DAYLIGHT
TZOFFSETFROM:-0600
TZOFFSETTO:-0500
TZNAME:CDT
DTSTART:20240310T080000
END:DAYLIGHT
BEGIN:STANDARD
TZOFFSETFROM:-0500
TZOFFSETTO:-0600
TZNAME:CST
DTSTART:20241103T070000
END:STANDARD
BEGIN:DAYLIGHT
TZOFFSETFROM:-0600
TZOFFSETTO:-0500
TZNAME:CDT
DTSTART:20250309T080000
END:DAYLIGHT
BEGIN:STANDARD
TZOFFSETFROM:-0500
TZOFFSETTO:-0600
TZNAME:CST
DTSTART:20251102T070000
END:STANDARD
END:VTIMEZONE
BEGIN:VEVENT
DTSTART;TZID=America/Chicago:20240126T080000
DTEND;TZID=America/Chicago:20240126T140000
DTSTAMP:20260423T171844
CREATED:20231218T120857Z
LAST-MODIFIED:20231218T120857Z
UID:10000652-1706256000-1706277600@williamsonchamber.com
SUMMARY:FSSD Open House for Prospective Families
DESCRIPTION:All Franklin Special School District schools will host an Open House on Friday\, January 26\, 2024\, for prospective families interested in learning more about our schools. Each Open House is scheduled during the school day so prospective parents can see the school in operation and witness the exceptional teaching and learning environment. \nSchedule:\n8:00 AM – 1:00 PM\nFreedom Intermediate • Freedom Middle • Poplar Grove Elementary • Poplar Grove Middle \n9:00 AM – 2:00 PM\nFranklin Elementary • Johnson Elementary • Liberty Elementary • Moore Elementary \nThis is a great opportunity to meet principals\, visit classrooms\, tour the building\, and learn about the academic\, related arts\, fine arts\, enrichment\, and extracurricular offerings in each school. On this day\, FSSD’s beautiful new Performing Arts Center will also be open to visitors from 8:00 AM until 2:00 PM. Learn more about FSSD at www.fssd.org!
URL:https://williamsonchamber.com/member-event/fssd-open-house-for-prospective-families-2/
ATTACH;FMTTYPE=image/png:https://williamsonchamber.com/wp-content/uploads/2023/12/Open-House-January-2024-1.png
ORGANIZER;CN="Franklin Special School District":MAILTO:gentrys@fssd.org
END:VEVENT
END:VCALENDAR