BEGIN:VCALENDAR
VERSION:2.0
PRODID:-//Williamson, Inc. - ECPv6.15.18//NONSGML v1.0//EN
CALSCALE:GREGORIAN
METHOD:PUBLISH
X-WR-CALNAME:Williamson, Inc.
X-ORIGINAL-URL:https://williamsonchamber.com
X-WR-CALDESC:Events for Williamson, Inc.
REFRESH-INTERVAL;VALUE=DURATION:PT1H
X-Robots-Tag:noindex
X-PUBLISHED-TTL:PT1H
BEGIN:VTIMEZONE
TZID:America/Chicago
BEGIN:DAYLIGHT
TZOFFSETFROM:-0600
TZOFFSETTO:-0500
TZNAME:CDT
DTSTART:20230312T080000
END:DAYLIGHT
BEGIN:STANDARD
TZOFFSETFROM:-0500
TZOFFSETTO:-0600
TZNAME:CST
DTSTART:20231105T070000
END:STANDARD
BEGIN:DAYLIGHT
TZOFFSETFROM:-0600
TZOFFSETTO:-0500
TZNAME:CDT
DTSTART:20240310T080000
END:DAYLIGHT
BEGIN:STANDARD
TZOFFSETFROM:-0500
TZOFFSETTO:-0600
TZNAME:CST
DTSTART:20241103T070000
END:STANDARD
BEGIN:DAYLIGHT
TZOFFSETFROM:-0600
TZOFFSETTO:-0500
TZNAME:CDT
DTSTART:20250309T080000
END:DAYLIGHT
BEGIN:STANDARD
TZOFFSETFROM:-0500
TZOFFSETTO:-0600
TZNAME:CST
DTSTART:20251102T070000
END:STANDARD
END:VTIMEZONE
BEGIN:VEVENT
DTSTART;TZID=America/Chicago:20241108T130000
DTEND;TZID=America/Chicago:20241108T140000
DTSTAMP:20260424T110208
CREATED:20240903T162232Z
LAST-MODIFIED:20240903T162232Z
UID:10001969-1731070800-1731074400@williamsonchamber.com
SUMMARY:Un-therapy
DESCRIPTION:Mental health requires mental hygiene and that is what this experience is all about. Drop in to this workshop for a fun and enlightening session that will care for your heart\, mind and soul. Every session together will be different with some combination of art\, play\, experiential therapy\, solution-focused therapy\, brainspotting and specific interventions focused on navigating burnout and boundaries as well as building self-care\, self-esteem\, self-respect\, and self-regulation.\nCome when you can with what you have and\, hopefully\, leave with what you need.\nUse promo code: untherapy1 for 50% off your first Un-Therapy with us \nJenny Wise Black is a Licensed Marriage and Family Therapist\, writer\, keynote speaker and podcast host who specializes in how media impacts our mental health. Her favorite thing in the world is facilitating groups where clients get to experience the joy and miracle of what happens when we break away from our phones\, honor our human limitations\, and make room for our potential.
URL:https://williamsonchamber.com/member-event/un-therapy-2/2024-11-08/
LOCATION:230 Franklin Road\, Franklin\, TN\, 37064\, 230 Franklin Road\, Franklin\, 37064\, United States
ATTACH;FMTTYPE=image/jpeg:https://williamsonchamber.com/wp-content/uploads/2024/08/JennyBlack-Headshot-2.jpg
ORGANIZER;CN="Ground Floor Yoga and Wellbeing":MAILTO:hello@groundflooryoga.com
END:VEVENT
BEGIN:VEVENT
DTSTART;TZID=America/Chicago:20241113T100000
DTEND;TZID=America/Chicago:20241113T110000
DTSTAMP:20260424T110208
CREATED:20240815T144619Z
LAST-MODIFIED:20240815T144619Z
UID:10001749-1731492000-1731495600@williamsonchamber.com
SUMMARY:Mama's Reset
DESCRIPTION:We know that our kids can get overstimulated and the majority of the time when we slow down\, turn the outside noise off and get a drink of water we can help them settle and continue on. Sometimes we need the exact same thing to reset our nervous system.\nWe invite you to do just that with us every second Wednesday of the month. Robin Barnes with Sounds for the Soul will create a peaceful sound immersion where you will allow the sound vibrations to wash over you and reset your frazzled nervous system. You will be eased into the experience with guided breath. So drop your kiddos off at school\, invite a friend to join you and make your way to our welcoming space.\nWhen you arrive\, you will enjoy a complimentary drink.\nThis is the perfect Mama’s Reset to fill up your cup.
URL:https://williamsonchamber.com/member-event/mamas-reset/2024-11-13/
LOCATION:230 Franklin Road\, Franklin\, TN\, 37064\, 230 Franklin Road\, Franklin\, 37064\, United States
ATTACH;FMTTYPE=image/png:https://williamsonchamber.com/wp-content/uploads/2024/08/Mamas-Reset-facebook-event.png
ORGANIZER;CN="Ground Floor Yoga and Wellbeing":MAILTO:hello@groundflooryoga.com
END:VEVENT
BEGIN:VEVENT
DTSTART;TZID=America/Chicago:20241116T183000
DTEND;TZID=America/Chicago:20241116T193000
DTSTAMP:20260424T110208
CREATED:20240815T144651Z
LAST-MODIFIED:20240815T144651Z
UID:10001745-1731781800-1731785400@williamsonchamber.com
SUMMARY:Grounded Vibrations
DESCRIPTION:The best sound immersion that will leave you feeling grounded.\nJoin Robin Barnes and Lauren Deyoe as they curate the BEST sound and energy session in Wilco. As a true sound healer\, Robin creates specific\, intuitive and always unique sound baths using a wide range of ancient instruments while working with the energy of each group. Feel yourself be carried away to deep relaxation as the sound waves from singing bowls\, gongs\, flutes and drums wash over you as well as the Reiki energy directed by Lauren.\nThis monthly event is a fan favorite! We know that you will join us again and again.
URL:https://williamsonchamber.com/member-event/grounded-vibrations/2024-11-16/
LOCATION:230 Franklin Road\, Franklin\, TN\, 37064\, 230 Franklin Road\, Franklin\, 37064\, United States
ATTACH;FMTTYPE=image/png:https://williamsonchamber.com/wp-content/uploads/2024/08/grounded-vibrations-email.png
ORGANIZER;CN="Ground Floor Yoga and Wellbeing":MAILTO:hello@groundflooryoga.com
END:VEVENT
BEGIN:VEVENT
DTSTART;TZID=America/Chicago:20241120T193000
DTEND;TZID=America/Chicago:20241120T210000
DTSTAMP:20260424T110208
CREATED:20241104T152352Z
LAST-MODIFIED:20241104T152352Z
UID:10002527-1732131000-1732136400@williamsonchamber.com
SUMMARY:The National Anthem Musical
DESCRIPTION:About the Town Productions in support of the Tennessee American Legion presents\, The National Anthem Musical -a new one-man musical comedy about the fascinating American who wrote “The Star-Spangled Banner.” Francis Scott Key’s unwavering and sometimes unorthodox opinions on social matters as well as his unique and often unappreciated relationship with poetry is showcased in this 90-minute mix of lyrics and laughs. You’ll snicker in your knickers and cackle in your cloak as you discover more about the man whose name we all know…but whose history is a mystery. \nWally Nason\, writer/composer\, is the most prolific writer of performed musicals in the US having written and directed 20 musicals since 2009. His name is synonymous with family-friendly musicals. You can also see his musical\, The Confession\, featuring Chonda Pierce and John Schneider\, on Amazon Prime and GAITHER TV+. \nThe National Anthem Musical will be playing at The Mockingbird Theater at the Franklin Factory November 20-21. Go to www.AboutTheTownProductions.com for tickets!
URL:https://williamsonchamber.com/member-event/the-national-anthem-musical-2/
LOCATION:The Mockingbird Theatre\, 230 Franklin Rd\, Franklin\, 37064
ATTACH;FMTTYPE=image/png:https://williamsonchamber.com/wp-content/uploads/2024/11/National-Anthem-art-with-Alex.png
ORGANIZER;CN="About The Town Productions":MAILTO:AboutTheTownProductions@gmail.com
END:VEVENT
END:VCALENDAR