BEGIN:VCALENDAR
VERSION:2.0
PRODID:-//Williamson, Inc. - ECPv6.15.18//NONSGML v1.0//EN
CALSCALE:GREGORIAN
METHOD:PUBLISH
X-WR-CALNAME:Williamson, Inc.
X-ORIGINAL-URL:https://williamsonchamber.com
X-WR-CALDESC:Events for Williamson, Inc.
REFRESH-INTERVAL;VALUE=DURATION:PT1H
X-Robots-Tag:noindex
X-PUBLISHED-TTL:PT1H
BEGIN:VTIMEZONE
TZID:America/Chicago
BEGIN:DAYLIGHT
TZOFFSETFROM:-0600
TZOFFSETTO:-0500
TZNAME:CDT
DTSTART:20240310T080000
END:DAYLIGHT
BEGIN:STANDARD
TZOFFSETFROM:-0500
TZOFFSETTO:-0600
TZNAME:CST
DTSTART:20241103T070000
END:STANDARD
BEGIN:DAYLIGHT
TZOFFSETFROM:-0600
TZOFFSETTO:-0500
TZNAME:CDT
DTSTART:20250309T080000
END:DAYLIGHT
BEGIN:STANDARD
TZOFFSETFROM:-0500
TZOFFSETTO:-0600
TZNAME:CST
DTSTART:20251102T070000
END:STANDARD
BEGIN:DAYLIGHT
TZOFFSETFROM:-0600
TZOFFSETTO:-0500
TZNAME:CDT
DTSTART:20260308T080000
END:DAYLIGHT
BEGIN:STANDARD
TZOFFSETFROM:-0500
TZOFFSETTO:-0600
TZNAME:CST
DTSTART:20261101T070000
END:STANDARD
END:VTIMEZONE
BEGIN:VEVENT
DTSTART;TZID=America/Chicago:20250204T180000
DTEND;TZID=America/Chicago:20250204T200000
DTSTAMP:20260424T020237
CREATED:20250116T200257Z
LAST-MODIFIED:20250116T200257Z
UID:10002618-1738692000-1738699200@williamsonchamber.com
SUMMARY:Franklin Tomorrow's Exemplary Community Volunteer Awards
DESCRIPTION:Join us as we celebrate the incredible individuals\, organizations\, and businesses that make a difference in our community through selfless service\, leadership\, and generosity. This year’s event is presented by Lineage Bank and Williamson Memorial Funeral Home & Cremation Service\, as well as our Sustaining Partners\, Atmos Energy; Ragan Smith\, a Pape-Dawson company; and Williamson Health.
URL:https://williamsonchamber.com/member-event/franklin-tomorrows-exemplary-community-volunteer-awards/
LOCATION:Franklin Theater
ATTACH;FMTTYPE=image/png:https://williamsonchamber.com/wp-content/uploads/2025/01/PRESENTED-BY.png
ORGANIZER;CN="Franklin Tomorrow Inc.":MAILTO:mindy@franklintomorrow.org
END:VEVENT
BEGIN:VEVENT
DTSTART;TZID=America/Chicago:20250206T080000
DTEND;TZID=America/Chicago:20250206T090000
DTSTAMP:20260424T020237
CREATED:20250127T205232Z
LAST-MODIFIED:20250127T205232Z
UID:10002631-1738828800-1738832400@williamsonchamber.com
SUMMARY:Franklin Special District Central Office Ribbon Cutting
DESCRIPTION:Franklin Special District is excited to cut the ribbon for its new offices at 205 Eddy Lane\, Franklin\, TN 37064. One campus hosts the Central Office and the Facilities and Transportation Center (FTC).
URL:https://williamsonchamber.com/member-event/franklin-special-district-central-office-ribbon-cutting/
LOCATION:Franklin Special District\, 205 Eddy Lane\, Franklin\, TN\, 37064\, United States
ATTACH;FMTTYPE=image/png:https://williamsonchamber.com/wp-content/uploads/2025/01/FSD-Ribbon-Cutting.png
ORGANIZER;CN="FSD":MAILTO:info@fssd.org
END:VEVENT
BEGIN:VEVENT
DTSTART;TZID=America/Chicago:20250212T100000
DTEND;TZID=America/Chicago:20250212T110000
DTSTAMP:20260424T020237
CREATED:20240815T144619Z
LAST-MODIFIED:20240815T144619Z
UID:10001752-1739354400-1739358000@williamsonchamber.com
SUMMARY:Mama's Reset
DESCRIPTION:We know that our kids can get overstimulated and the majority of the time when we slow down\, turn the outside noise off and get a drink of water we can help them settle and continue on. Sometimes we need the exact same thing to reset our nervous system.\nWe invite you to do just that with us every second Wednesday of the month. Robin Barnes with Sounds for the Soul will create a peaceful sound immersion where you will allow the sound vibrations to wash over you and reset your frazzled nervous system. You will be eased into the experience with guided breath. So drop your kiddos off at school\, invite a friend to join you and make your way to our welcoming space.\nWhen you arrive\, you will enjoy a complimentary drink.\nThis is the perfect Mama’s Reset to fill up your cup.
URL:https://williamsonchamber.com/member-event/mamas-reset/2025-02-12/
LOCATION:230 Franklin Road\, Franklin\, TN\, 37064\, 230 Franklin Road\, Franklin\, 37064\, United States
ATTACH;FMTTYPE=image/png:https://williamsonchamber.com/wp-content/uploads/2024/08/Mamas-Reset-facebook-event.png
ORGANIZER;CN="Ground Floor Yoga and Wellbeing":MAILTO:hello@groundflooryoga.com
END:VEVENT
END:VCALENDAR