BEGIN:VCALENDAR
VERSION:2.0
PRODID:-//Williamson, Inc. - ECPv6.15.18//NONSGML v1.0//EN
CALSCALE:GREGORIAN
METHOD:PUBLISH
X-WR-CALNAME:Williamson, Inc.
X-ORIGINAL-URL:https://williamsonchamber.com
X-WR-CALDESC:Events for Williamson, Inc.
REFRESH-INTERVAL;VALUE=DURATION:PT1H
X-Robots-Tag:noindex
X-PUBLISHED-TTL:PT1H
BEGIN:VTIMEZONE
TZID:America/Chicago
BEGIN:DAYLIGHT
TZOFFSETFROM:-0600
TZOFFSETTO:-0500
TZNAME:CDT
DTSTART:20240310T080000
END:DAYLIGHT
BEGIN:STANDARD
TZOFFSETFROM:-0500
TZOFFSETTO:-0600
TZNAME:CST
DTSTART:20241103T070000
END:STANDARD
BEGIN:DAYLIGHT
TZOFFSETFROM:-0600
TZOFFSETTO:-0500
TZNAME:CDT
DTSTART:20250309T080000
END:DAYLIGHT
BEGIN:STANDARD
TZOFFSETFROM:-0500
TZOFFSETTO:-0600
TZNAME:CST
DTSTART:20251102T070000
END:STANDARD
BEGIN:DAYLIGHT
TZOFFSETFROM:-0600
TZOFFSETTO:-0500
TZNAME:CDT
DTSTART:20260308T080000
END:DAYLIGHT
BEGIN:STANDARD
TZOFFSETFROM:-0500
TZOFFSETTO:-0600
TZNAME:CST
DTSTART:20261101T070000
END:STANDARD
END:VTIMEZONE
BEGIN:VEVENT
DTSTART;TZID=America/Chicago:20250402T170000
DTEND;TZID=America/Chicago:20250402T190000
DTSTAMP:20260423T190908
CREATED:20250320T163310Z
LAST-MODIFIED:20250320T163310Z
UID:10002681-1743613200-1743620400@williamsonchamber.com
SUMMARY:Franklin Tomorrow Healthy Democracy survey results\, discussion
DESCRIPTION:Join Franklin Tomorrow on Wednesday\, April 2\, at the Williamson County Public Library to hear the results and analysis of the Health Democracy Project survey\, conducted recently by Franklin Tomorrow\, the National Civic League and the Bridge Alliance.\nMore than 300 local residents participated in the survey on civic engagement\, specifically how citizens connect\, collaborate and contribute to civic life.\nWe will gather starting at 5 p.m. at the Williamson County Public Library\, 1314 Columbia Ave.\, in downtown Franklin to enjoy a light dinner\, with our program beginning at 5:30 p.m. Joining us will be Nick Vlahos\, Deputy Director of the National Civic League’s Center for Democracy Innovation\, and Derek Okubo\, Senior Fellow with the National Civic League. They will offer insight into the survey results and then help us in roundtable discussions about the results and possible future steps.\nThe program will end at 7 p.m. and is free to the public.
URL:https://williamsonchamber.com/member-event/franklin-tomorrow-healthy-democracy-survey-results-discussion/
LOCATION:Williamson County Public Library\, 1314 Columbia Ave\, Franklin\, 37064
ATTACH;FMTTYPE=image/png:https://williamsonchamber.com/wp-content/uploads/2025/03/Healthy-Democracy-April-2nd-Event.png
ORGANIZER;CN="Franklin Tomorrow Inc.":MAILTO:mindy@franklintomorrow.org
END:VEVENT
BEGIN:VEVENT
DTSTART;TZID=America/Chicago:20250403T190000
DTEND;TZID=America/Chicago:20250403T200000
DTSTAMP:20260423T190908
CREATED:20250328T144156Z
LAST-MODIFIED:20250328T144156Z
UID:10002689-1743706800-1743710400@williamsonchamber.com
SUMMARY:Fusion Franklin Inspires: Nurturing Success: Embracing Relational Science to Support Student Emotional Regulation and Achievement
DESCRIPTION:“Nurturing Success: Embracing Relational Science to Support Student Emotional Regulation and Achievement.” Join us for a complimentary and engaging session exploring relational science’s critical role in fostering student success. In “Nurturing Success\,” we will examine how understanding relationships can empower parents and educators to create supportive\, thriving environments for children. This presentation will delve into the principles of relational science\, illustrating how strong\, positive connections enhance students’ emotional well-being\, academic performance\, and overall resilience. We’ll discuss practical strategies for building trust and open communication between parents and educators\, emphasizing collaboration as a cornerstone of effective support. Target Audience: Parents of adolescents\, Educators\, Providers who interface with adolescents.
URL:https://williamsonchamber.com/member-event/fusion-franklin-inspires-nurturing-success-embracing-relational-science-to-support-student-emotional-regulation-and-achievement/
LOCATION:Fusion Academy Franklin\, 2550 Meridian Blvd. Suite 100\, Franklin\, 37067
ATTACH;FMTTYPE=image/png:https://williamsonchamber.com/wp-content/uploads/2025/03/Fusion-Franklin-Inspires-Balancing-Nurture.png
ORGANIZER;CN="Fusion Academy Franklin":MAILTO:franklin@fusionacademy.com
END:VEVENT
END:VCALENDAR