BEGIN:VCALENDAR
VERSION:2.0
PRODID:-//Williamson, Inc. - ECPv6.15.18//NONSGML v1.0//EN
CALSCALE:GREGORIAN
METHOD:PUBLISH
X-WR-CALNAME:Williamson, Inc.
X-ORIGINAL-URL:https://williamsonchamber.com
X-WR-CALDESC:Events for Williamson, Inc.
REFRESH-INTERVAL;VALUE=DURATION:PT1H
X-Robots-Tag:noindex
X-PUBLISHED-TTL:PT1H
BEGIN:VTIMEZONE
TZID:America/Chicago
BEGIN:DAYLIGHT
TZOFFSETFROM:-0600
TZOFFSETTO:-0500
TZNAME:CDT
DTSTART:20240310T080000
END:DAYLIGHT
BEGIN:STANDARD
TZOFFSETFROM:-0500
TZOFFSETTO:-0600
TZNAME:CST
DTSTART:20241103T070000
END:STANDARD
BEGIN:DAYLIGHT
TZOFFSETFROM:-0600
TZOFFSETTO:-0500
TZNAME:CDT
DTSTART:20250309T080000
END:DAYLIGHT
BEGIN:STANDARD
TZOFFSETFROM:-0500
TZOFFSETTO:-0600
TZNAME:CST
DTSTART:20251102T070000
END:STANDARD
BEGIN:DAYLIGHT
TZOFFSETFROM:-0600
TZOFFSETTO:-0500
TZNAME:CDT
DTSTART:20260308T080000
END:DAYLIGHT
BEGIN:STANDARD
TZOFFSETFROM:-0500
TZOFFSETTO:-0600
TZNAME:CST
DTSTART:20261101T070000
END:STANDARD
END:VTIMEZONE
BEGIN:VEVENT
DTSTART;TZID=America/Chicago:20250806T073000
DTEND;TZID=America/Chicago:20250806T090000
DTSTAMP:20260423T101447
CREATED:20250714T175949Z
LAST-MODIFIED:20250714T175949Z
UID:10003010-1754465400-1754470800@williamsonchamber.com
SUMMARY:Breakfast & Conversations: Partnering for Student Success
DESCRIPTION:Join us on Wednesday\, August 6 at 7:30 a.m. for Breakfast & Conversations: Partnering for Student Success at the Franklin Special District (FSD) Office. This special event will feature remarks from Dr. Snowden (FSD Director of Schools)\, Robert Blair (FSD Chairman)\, and Amanda Morrissey (FSD Social Worker) as they share about the growing partnership between United4Hope and the Franklin Special District. \nUnited4Hope\, the education initiative of Operation Andrew Group\, builds structured partnerships between local public schools and inter-denominational churches that is grounded in best practices and respect for the legal separation of church and state. Since expanding into Franklin Special District\, United4Hope has supported schools through four key areas: student achievement (tutoring & mentoring)\, staff encouragement\, family engagement\, and in‑kind contributions \nDonor support enables United4Hope to onboard new partnerships effectively by providing orientation\, background checks\, and coaching for church volunteers while delivering consistent\, scalable engagement tailored to each school’s needs. This event is a chance to learn how your contribution can expand this proven model of community transformation. \nWe’d love to have you join us. Please feel free to share this invitation with others who may be interested in supporting the mission of United4Hope in our schools and community. \nImportant Information for Attendees:\nAll guests will need to park in the back of the building to access the event. To follow district guidelines\, please bring a government-issued ID with you for check-in. \nWe’ll have signage and friendly greeters to help guide you—just look out for them if you need assistance. \nThanks so much for your understanding. We can’t wait to see you!
URL:https://williamsonchamber.com/member-event/breakfast-conversations-partnering-for-student-success/
LOCATION:Franklin Special District\, 205 Eddy Lane\, Franklin\, TN\, 37064\, United States
ORGANIZER;CN="Operation Andrew Group":MAILTO:marian.campos@operationandrew.org
END:VEVENT
BEGIN:VEVENT
DTSTART;TZID=America/Chicago:20250814T190000
DTEND;TZID=America/Chicago:20250814T200000
DTSTAMP:20260423T101447
CREATED:20250723T214836Z
LAST-MODIFIED:20250723T214836Z
UID:10003045-1755198000-1755201600@williamsonchamber.com
SUMMARY:Seniors Got Talent Franklin
DESCRIPTION:The stage is set for another unforgettable night of senior talent! Seniors Got Talent is returning to The Franklin Theatre on October 14\, featuring amazing performers age 60+ from across Middle Tennessee. \nFrom singers and dancers to comedians and musicians\, local seniors will light up the stage—sharing their gifts and competing for the $1\,000 grand prize! \nAUDITION INFO \nAuditions are open to the public for anyone age 60 or older. Join us at one of these local Morning Pointe Senior Living campuses: \nTuesday\, August 19 – Morning Pointe of Brentwood | 1–3 PM \nWednesday\, August 20 – Morning Pointe of Franklin | 1–3 PM \nThursday\, August 21 – Morning Pointe of Columbia | 1–3 PM \nThursday\, August 21 – Morning Pointe of Spring Hill | 5–7 PM (During Family Night) \nAudition Deadline: All auditions must be completed by August 29 \nFinalist Notification: Top contestants will be notified by September 2 \nProceeds from the event benefit the Morning Pointe Foundation\, which provides nursing and allied health scholarships and supports caregiver education throughout the region. \nCome celebrate aging with purpose—and join us for a night of music\, laughter\, and heart!
URL:https://williamsonchamber.com/member-event/seniors-got-talent-franklin/
LOCATION:The Franklin Theatre\, 419 Main St\, Franklin\, 37064
ATTACH;FMTTYPE=image/jpeg:https://williamsonchamber.com/wp-content/uploads/2025/07/Eblast_1920x1080_FrankAuditions-2-scaled.jpg
ORGANIZER;CN="morning pointe senior living":MAILTO:comms-intern@ihpllc.com
END:VEVENT
BEGIN:VEVENT
DTSTART;TZID=America/Chicago:20250816T130000
DTEND;TZID=America/Chicago:20250816T160000
DTSTAMP:20260423T101447
CREATED:20250716T144741Z
LAST-MODIFIED:20250716T144741Z
UID:10003021-1755349200-1755360000@williamsonchamber.com
SUMMARY:Center for Advanced Dentistry Open House
DESCRIPTION:🎉 You’re Invited to Our Open House! 🎉\nJoin us for a relaxed drop-in event celebrating our new space\, our community\, and the journey ahead! \nRSVP is required (https://evite.me/ug5GDGRBaz) \n🕐 Drop in anytime between 1–4 PM \n✨ What to Expect:\n– Tour our beautiful new office\n– Meet our team and learn more about biological dentistry\n– Explore local wellness vendors\n– Enjoy light bites and drinks\n– Enter to win raffle prizes & giveaways\n– Swag bags for the first 100 guests! \nCome say hello\, bring a friend (extra raffle ticket if you bring a friend that isn’t a current patient)\, and celebrate with us—we’d love to see you there! 💚
URL:https://williamsonchamber.com/member-event/center-for-advanced-dentistry-open-house/
LOCATION:Park Place\, 701 Cool Springs Blvd\, Franklin\, 37067
ATTACH;FMTTYPE=image/png:https://williamsonchamber.com/wp-content/uploads/2025/07/Open-House-.png
ORGANIZER;CN="Center for Advanced Dentistry":MAILTO:office@biodentistrytn.com
END:VEVENT
BEGIN:VEVENT
DTSTART;VALUE=DATE:20250826
DTEND;VALUE=DATE:20250827
DTSTAMP:20260423T101447
CREATED:20250811T121632Z
LAST-MODIFIED:20250818T175729Z
UID:10003062-1756166400-1756252799@williamsonchamber.com
SUMMARY:Creative Instinct Sessions with Fire Kite
DESCRIPTION:Fire Kite\, the hottest* new ad agency in town\, is offering four local companies a rare chance to get top-tier branding and marketing strategy completely free. \nThe “Instinct Sessions” will be held on Tuesday\, August 26\, 2025 at the Williamson\, Inc. offices in Franklin. \nDesigned for CMOs\, Heads of Marketing\, and bold brand leaders\, the 90-minute session will focus on identifying untapped potential and helping companies spark their next leap forward. \n“This is for brands that are good\, but want to become legendary\,” said Alex Goulart\, Founder of Fire Kite. “If your brand feels stuck\, we can help you break through with our proven combination of strategic clarity and audacious creativity.” \nAlex and Tim bring 50+ years of national and global experience on brands like Google\, Expedia\, Maker’s Mark and Nissan. \nOnly four\, private one-on-one slots are available. \nEvent Details\nWhat: Instinct Sessions (1:1 brand/marketing consults)\nWhen: Tuesday\, August 26\, 2025\nWhere: Williamson\, Inc. Chamber of Commerce\n4031 Aspen Grove Drive\, Suite 630\, Franklin\, TN 37067\nWho: CMOs\, VPs or Heads of Marketing for local companies\nCost: Free \nHow to Register \nTo be considered\, email alex@firekite.co no later than August 22 with a brief note about your company and why you’re seeking branding or marketing support. Selected companies will be notified by August 22. \n* “Hottest” isn’t just a nod to the agency name. Fire Kite was the most awarded “Best of Show” agency at the 2025 Nashville ADDYs\, hosted by the American Advertising Federation. Learn more at firekite.co or on Instagram @firekitecreative
URL:https://williamsonchamber.com/member-event/creative-instinct-sessions-with-fire-kite/
LOCATION:4031 Aspen Grove Dr. Suite 630\, Franklin\, 37067
ATTACH;FMTTYPE=image/jpeg:https://williamsonchamber.com/wp-content/uploads/2025/08/InstinctSession_Final.jpg
ORGANIZER;CN="Fire Kite":MAILTO:alex@firekite.co
END:VEVENT
BEGIN:VEVENT
DTSTART;TZID=America/Chicago:20250830T100000
DTEND;TZID=America/Chicago:20250830T130000
DTSTAMP:20260423T101447
CREATED:20250714T130701Z
LAST-MODIFIED:20250714T130701Z
UID:10003011-1756548000-1756558800@williamsonchamber.com
SUMMARY:Paint-Your-Own-Hat Party with Tipsy Tennessee Hats
DESCRIPTION:Come paint your own hat with Tipsy Tennessee Hats\, created by Heidi Easley\, with fun styles inspired by Lainey Wilson and designed by you! \nYour class ticket includes a vegan suede adjustable hat with your choice of design (sunflowers\, flowers\, highlander) and color (tan\, dark brown\, dark green\, pink\, carmel). \nNo experience necessary; come enjoy a fun time of painting\, great music\, and great company at the Franklin Visitor Center. Whether you wear a hat or not\, the fun is in the creating. See you there! 🤠 \nNote: There are two time slots. One at 10am and one at 1pm
URL:https://williamsonchamber.com/member-event/paint-your-own-hat-party-with-tipsy-tennessee-hats/
LOCATION:Visit Franklin Visitors Center\, 400 Main Street ##130\, Franklin\, TN\, 37064
ATTACH;FMTTYPE=image/png:https://williamsonchamber.com/wp-content/uploads/2025/07/Hat-Painting-Event.png
END:VEVENT
END:VCALENDAR