BEGIN:VCALENDAR
VERSION:2.0
PRODID:-//Williamson, Inc. - ECPv6.15.18//NONSGML v1.0//EN
CALSCALE:GREGORIAN
METHOD:PUBLISH
X-ORIGINAL-URL:https://williamsonchamber.com
X-WR-CALDESC:Events for Williamson, Inc.
REFRESH-INTERVAL;VALUE=DURATION:PT1H
X-Robots-Tag:noindex
X-PUBLISHED-TTL:PT1H
BEGIN:VTIMEZONE
TZID:America/Chicago
BEGIN:DAYLIGHT
TZOFFSETFROM:-0600
TZOFFSETTO:-0500
TZNAME:CDT
DTSTART:20220313T080000
END:DAYLIGHT
BEGIN:STANDARD
TZOFFSETFROM:-0500
TZOFFSETTO:-0600
TZNAME:CST
DTSTART:20221106T070000
END:STANDARD
BEGIN:DAYLIGHT
TZOFFSETFROM:-0600
TZOFFSETTO:-0500
TZNAME:CDT
DTSTART:20230312T080000
END:DAYLIGHT
BEGIN:STANDARD
TZOFFSETFROM:-0500
TZOFFSETTO:-0600
TZNAME:CST
DTSTART:20231105T070000
END:STANDARD
BEGIN:DAYLIGHT
TZOFFSETFROM:-0600
TZOFFSETTO:-0500
TZNAME:CDT
DTSTART:20240310T080000
END:DAYLIGHT
BEGIN:STANDARD
TZOFFSETFROM:-0500
TZOFFSETTO:-0600
TZNAME:CST
DTSTART:20241103T070000
END:STANDARD
END:VTIMEZONE
BEGIN:VEVENT
DTSTART;TZID=America/Chicago:20230515T110000
DTEND;TZID=America/Chicago:20230515T170000
DTSTAMP:20260425T220943
CREATED:20230129T222401Z
LAST-MODIFIED:20230129T222401Z
UID:10000030-1684148400-1684170000@williamsonchamber.com
SUMMARY:Golf with Mercy Tournament 2023
DESCRIPTION:The Mercy Community Healthcare Golf Tournament is a celebration of funds raised for Mercy Community Healthcare. \nPrior to the day of the tournament\, each golfer/fundraiser identifies individuals and businesses that are interested in supporting the mission of Mercy – to reflect the love and compassion of Jesus Christ by providing excellent healthcare for ALL and support to their families. \nWe will celebrate on Monday\, May 15\, 2023 at Westhaven Golf Club with a fun day of golf\, food\, and prizes! Please contact Raye McDonald at rayem@mercytn.org to register your team or be a sponsor!
URL:https://williamsonchamber.com/member-event/golf-mercy-tournament-2023/
LOCATION:Westhaven Golf Club\, 4000 Golf Club Ln\, Franklin\, 37064
ATTACH;FMTTYPE=image/png:https://williamsonchamber.com/wp-content/uploads/2023/01/Color.png
ORGANIZER;CN="Mercy Community Healthcare":MAILTO:marketing
END:VEVENT
END:VCALENDAR