BEGIN:VCALENDAR
VERSION:2.0
PRODID:-//Williamson, Inc. - ECPv6.15.18//NONSGML v1.0//EN
CALSCALE:GREGORIAN
METHOD:PUBLISH
X-ORIGINAL-URL:https://williamsonchamber.com
X-WR-CALDESC:Events for Williamson, Inc.
REFRESH-INTERVAL;VALUE=DURATION:PT1H
X-Robots-Tag:noindex
X-PUBLISHED-TTL:PT1H
BEGIN:VTIMEZONE
TZID:America/Chicago
BEGIN:DAYLIGHT
TZOFFSETFROM:-0600
TZOFFSETTO:-0500
TZNAME:CDT
DTSTART:20230312T080000
END:DAYLIGHT
BEGIN:STANDARD
TZOFFSETFROM:-0500
TZOFFSETTO:-0600
TZNAME:CST
DTSTART:20231105T070000
END:STANDARD
BEGIN:DAYLIGHT
TZOFFSETFROM:-0600
TZOFFSETTO:-0500
TZNAME:CDT
DTSTART:20240310T080000
END:DAYLIGHT
BEGIN:STANDARD
TZOFFSETFROM:-0500
TZOFFSETTO:-0600
TZNAME:CST
DTSTART:20241103T070000
END:STANDARD
BEGIN:DAYLIGHT
TZOFFSETFROM:-0600
TZOFFSETTO:-0500
TZNAME:CDT
DTSTART:20250309T080000
END:DAYLIGHT
BEGIN:STANDARD
TZOFFSETFROM:-0500
TZOFFSETTO:-0600
TZNAME:CST
DTSTART:20251102T070000
END:STANDARD
END:VTIMEZONE
BEGIN:VEVENT
DTSTART;TZID=America/Chicago:20240910T190000
DTEND;TZID=America/Chicago:20240910T200000
DTSTAMP:20260425T131945
CREATED:20240903T162423Z
LAST-MODIFIED:20240903T162423Z
UID:10001967-1725994800-1725998400@williamsonchamber.com
SUMMARY:All Things Woo-Woo
DESCRIPTION:Join us for frank discussions with an intuitive healer. Alison Ledbetter is a Spiritual Coach\, a practicing Medium\, an Intuitive Healer\, a Shaman\, a Reiki Master\, and Mediation teacher. Join us for heart and eye opening discussions that will touch on all the things that exist just under the surface of our everyday lives. Come with curiosity and leave with a newfound understanding of a wide variety of All Things Woo-Woo! \nSept 10: Define intuition and psychic abilities: sudden knowing (whole concepts understood at once) clairvoyances\, clairaudience and empathy. What is it like to be super intuitive. How does it show up for me? We all have it\, it is innate and we can develop it with ease by bringing our attention back to our soul or heart connection. \nSept 17: How have myths and religion shaped our relationship with our intuition? We have the ability to read information on every level that information exists in\, we can learn to embrace our intuitions again. \nSept 24: How can you be comfortable with your intuition? It begins with acceptance of others just the way they are and creating boundaries\, and practicing.
URL:https://williamsonchamber.com/member-event/all-things-woo-woo/
LOCATION:230 Franklin Road\, Franklin\, TN\, 37064\, 230 Franklin Road\, Franklin\, 37064\, United States
ATTACH;FMTTYPE=image/png:https://williamsonchamber.com/wp-content/uploads/2024/08/all-things-woo-woo-sept.png
ORGANIZER;CN="Ground Floor Yoga and Wellbeing":MAILTO:hello@groundflooryoga.com
END:VEVENT
END:VCALENDAR