BEGIN:VCALENDAR
VERSION:2.0
PRODID:-//Williamson, Inc. - ECPv6.15.18//NONSGML v1.0//EN
CALSCALE:GREGORIAN
METHOD:PUBLISH
X-WR-CALNAME:Williamson, Inc.
X-ORIGINAL-URL:https://williamsonchamber.com
X-WR-CALDESC:Events for Williamson, Inc.
REFRESH-INTERVAL;VALUE=DURATION:PT1H
X-Robots-Tag:noindex
X-PUBLISHED-TTL:PT1H
BEGIN:VTIMEZONE
TZID:America/Chicago
BEGIN:DAYLIGHT
TZOFFSETFROM:-0600
TZOFFSETTO:-0500
TZNAME:CDT
DTSTART:20230312T080000
END:DAYLIGHT
BEGIN:STANDARD
TZOFFSETFROM:-0500
TZOFFSETTO:-0600
TZNAME:CST
DTSTART:20231105T070000
END:STANDARD
BEGIN:DAYLIGHT
TZOFFSETFROM:-0600
TZOFFSETTO:-0500
TZNAME:CDT
DTSTART:20240310T080000
END:DAYLIGHT
BEGIN:STANDARD
TZOFFSETFROM:-0500
TZOFFSETTO:-0600
TZNAME:CST
DTSTART:20241103T070000
END:STANDARD
BEGIN:DAYLIGHT
TZOFFSETFROM:-0600
TZOFFSETTO:-0500
TZNAME:CDT
DTSTART:20250309T080000
END:DAYLIGHT
BEGIN:STANDARD
TZOFFSETFROM:-0500
TZOFFSETTO:-0600
TZNAME:CST
DTSTART:20251102T070000
END:STANDARD
END:VTIMEZONE
BEGIN:VEVENT
DTSTART;TZID=America/Chicago:20240914T140000
DTEND;TZID=America/Chicago:20240914T153000
DTSTAMP:20260425T110538
CREATED:20240822T155246Z
LAST-MODIFIED:20240822T155246Z
UID:10001947-1726322400-1726327800@williamsonchamber.com
SUMMARY:Success from Within
DESCRIPTION:Join us as Shannon Santerelli-Freeman leads us in an energetic workshop and mediation experience. We will explore the energy system of the body\, focusing in on the solar plexus and it’s pivotal role in accomplished women. You will learn how to lead a more aligned life by leaning into the power of the solar plexus. This workshop is perfect for those that “do everything” and could benefit from this opportunity to hit the reset button.
URL:https://williamsonchamber.com/member-event/success-from-within/
LOCATION:230 Franklin Road\, Franklin\, TN\, 37064\, 230 Franklin Road\, Franklin\, 37064\, United States
ATTACH;FMTTYPE=image/png:https://williamsonchamber.com/wp-content/uploads/2024/08/Success-from-within-email-image.png
ORGANIZER;CN="Ground Floor Yoga and Wellbeing":MAILTO:hello@groundflooryoga.com
END:VEVENT
END:VCALENDAR