BEGIN:VCALENDAR
VERSION:2.0
PRODID:-//Williamson, Inc. - ECPv6.15.18//NONSGML v1.0//EN
CALSCALE:GREGORIAN
METHOD:PUBLISH
X-ORIGINAL-URL:https://williamsonchamber.com
X-WR-CALDESC:Events for Williamson, Inc.
REFRESH-INTERVAL;VALUE=DURATION:PT1H
X-Robots-Tag:noindex
X-PUBLISHED-TTL:PT1H
BEGIN:VTIMEZONE
TZID:America/Chicago
BEGIN:DAYLIGHT
TZOFFSETFROM:-0600
TZOFFSETTO:-0500
TZNAME:CDT
DTSTART:20230312T080000
END:DAYLIGHT
BEGIN:STANDARD
TZOFFSETFROM:-0500
TZOFFSETTO:-0600
TZNAME:CST
DTSTART:20231105T070000
END:STANDARD
BEGIN:DAYLIGHT
TZOFFSETFROM:-0600
TZOFFSETTO:-0500
TZNAME:CDT
DTSTART:20240310T080000
END:DAYLIGHT
BEGIN:STANDARD
TZOFFSETFROM:-0500
TZOFFSETTO:-0600
TZNAME:CST
DTSTART:20241103T070000
END:STANDARD
BEGIN:DAYLIGHT
TZOFFSETFROM:-0600
TZOFFSETTO:-0500
TZNAME:CDT
DTSTART:20250309T080000
END:DAYLIGHT
BEGIN:STANDARD
TZOFFSETFROM:-0500
TZOFFSETTO:-0600
TZNAME:CST
DTSTART:20251102T070000
END:STANDARD
END:VTIMEZONE
BEGIN:VEVENT
DTSTART;TZID=America/Chicago:20240920T130000
DTEND;TZID=America/Chicago:20240920T140000
DTSTAMP:20260425T132006
CREATED:20240822T155216Z
LAST-MODIFIED:20240822T155216Z
UID:10001946-1726837200-1726840800@williamsonchamber.com
SUMMARY:Un-therapy
DESCRIPTION:Mental health requires mental hygiene and that is what this experience is all about. Drop in to this workshop for a fun and enlightening session that will care for your heart\, mind and soul. Every session together will be different with some combination of art\, play\, experiential therapy\, solution-focused therapy\, brainspotting and specific interventions focused on navigating burnout and boundaries as well as building self-care\, self-esteem\, self-respect\, and self-regulation.\nCome when you can with what you have and\, hopefully\, leave with what you need.\nUn-Therapy:\nUsing research-based therapy in creative\, thoughtful\, and playful ways that heal.
URL:https://williamsonchamber.com/member-event/un-therapy/
LOCATION:230 Franklin Road\, Franklin\, TN\, 37064\, 230 Franklin Road\, Franklin\, 37064\, United States
ATTACH;FMTTYPE=image/jpeg:https://williamsonchamber.com/wp-content/uploads/2024/08/JennyBlack-Headshot.jpg
ORGANIZER;CN="Ground Floor Yoga and Wellbeing":MAILTO:hello@groundflooryoga.com
END:VEVENT
END:VCALENDAR