BEGIN:VCALENDAR
VERSION:2.0
PRODID:-//Williamson, Inc. - ECPv6.15.18//NONSGML v1.0//EN
CALSCALE:GREGORIAN
METHOD:PUBLISH
X-ORIGINAL-URL:https://williamsonchamber.com
X-WR-CALDESC:Events for Williamson, Inc.
REFRESH-INTERVAL;VALUE=DURATION:PT1H
X-Robots-Tag:noindex
X-PUBLISHED-TTL:PT1H
BEGIN:VTIMEZONE
TZID:America/Chicago
BEGIN:DAYLIGHT
TZOFFSETFROM:-0600
TZOFFSETTO:-0500
TZNAME:CDT
DTSTART:20230312T080000
END:DAYLIGHT
BEGIN:STANDARD
TZOFFSETFROM:-0500
TZOFFSETTO:-0600
TZNAME:CST
DTSTART:20231105T070000
END:STANDARD
BEGIN:DAYLIGHT
TZOFFSETFROM:-0600
TZOFFSETTO:-0500
TZNAME:CDT
DTSTART:20240310T080000
END:DAYLIGHT
BEGIN:STANDARD
TZOFFSETFROM:-0500
TZOFFSETTO:-0600
TZNAME:CST
DTSTART:20241103T070000
END:STANDARD
BEGIN:DAYLIGHT
TZOFFSETFROM:-0600
TZOFFSETTO:-0500
TZNAME:CDT
DTSTART:20250309T080000
END:DAYLIGHT
BEGIN:STANDARD
TZOFFSETFROM:-0500
TZOFFSETTO:-0600
TZNAME:CST
DTSTART:20251102T070000
END:STANDARD
END:VTIMEZONE
BEGIN:VEVENT
DTSTART;TZID=America/Chicago:20241003T100000
DTEND;TZID=America/Chicago:20241003T110000
DTSTAMP:20260425T072507
CREATED:20240815T185438Z
LAST-MODIFIED:20240819T175458Z
UID:10001757-1727949600-1727953200@williamsonchamber.com
SUMMARY:Fall Homeschool Kids Series
DESCRIPTION:Exploration of the yoga tradition for kids!\nThis 6 week series is designed to enrich your homeschool curriculum. Deborah will lead your kids age 6-11 through learning yoga postures (asana)\, breath work (pranayma practices) and mindfulness practices. Learning will be done through play\, stories and appropriate repetition over the 6 weeks. Some benefits of adopting a yoga practice include emotional regulation\, self acceptance and deep compassion for others and of course feeling good in the physical body. Contact us for siblings discount.\n**We are located in building 8 at The Factory at Franklin with Third Coast Clay and Fork of the South in their new locations.
URL:https://williamsonchamber.com/member-event/fall-homeschool-kids-series/2024-10-03/
LOCATION:230 Franklin Road\, Franklin\, TN\, 37064\, 230 Franklin Road\, Franklin\, 37064\, United States
ATTACH;FMTTYPE=image/png:https://williamsonchamber.com/wp-content/uploads/2024/08/Fall-kids-yoga-facebook-event.png
ORGANIZER;CN="Ground Floor Yoga and Wellbeing":MAILTO:hello@groundflooryoga.com
END:VEVENT
END:VCALENDAR