BEGIN:VCALENDAR
VERSION:2.0
PRODID:-//Williamson, Inc. - ECPv6.15.18//NONSGML v1.0//EN
CALSCALE:GREGORIAN
METHOD:PUBLISH
X-WR-CALNAME:Williamson, Inc.
X-ORIGINAL-URL:https://williamsonchamber.com
X-WR-CALDESC:Events for Williamson, Inc.
REFRESH-INTERVAL;VALUE=DURATION:PT1H
X-Robots-Tag:noindex
X-PUBLISHED-TTL:PT1H
BEGIN:VTIMEZONE
TZID:America/Chicago
BEGIN:DAYLIGHT
TZOFFSETFROM:-0600
TZOFFSETTO:-0500
TZNAME:CDT
DTSTART:20230312T080000
END:DAYLIGHT
BEGIN:STANDARD
TZOFFSETFROM:-0500
TZOFFSETTO:-0600
TZNAME:CST
DTSTART:20231105T070000
END:STANDARD
BEGIN:DAYLIGHT
TZOFFSETFROM:-0600
TZOFFSETTO:-0500
TZNAME:CDT
DTSTART:20240310T080000
END:DAYLIGHT
BEGIN:STANDARD
TZOFFSETFROM:-0500
TZOFFSETTO:-0600
TZNAME:CST
DTSTART:20241103T070000
END:STANDARD
BEGIN:DAYLIGHT
TZOFFSETFROM:-0600
TZOFFSETTO:-0500
TZNAME:CDT
DTSTART:20250309T080000
END:DAYLIGHT
BEGIN:STANDARD
TZOFFSETFROM:-0500
TZOFFSETTO:-0600
TZNAME:CST
DTSTART:20251102T070000
END:STANDARD
END:VTIMEZONE
BEGIN:VEVENT
DTSTART;TZID=America/Chicago:20241213T130000
DTEND;TZID=America/Chicago:20241213T140000
DTSTAMP:20260425T061551
CREATED:20240903T162232Z
LAST-MODIFIED:20240903T162232Z
UID:10001970-1734094800-1734098400@williamsonchamber.com
SUMMARY:Un-therapy
DESCRIPTION:Mental health requires mental hygiene and that is what this experience is all about. Drop in to this workshop for a fun and enlightening session that will care for your heart\, mind and soul. Every session together will be different with some combination of art\, play\, experiential therapy\, solution-focused therapy\, brainspotting and specific interventions focused on navigating burnout and boundaries as well as building self-care\, self-esteem\, self-respect\, and self-regulation.\nCome when you can with what you have and\, hopefully\, leave with what you need.\nUse promo code: untherapy1 for 50% off your first Un-Therapy with us \nJenny Wise Black is a Licensed Marriage and Family Therapist\, writer\, keynote speaker and podcast host who specializes in how media impacts our mental health. Her favorite thing in the world is facilitating groups where clients get to experience the joy and miracle of what happens when we break away from our phones\, honor our human limitations\, and make room for our potential.
URL:https://williamsonchamber.com/member-event/un-therapy-2/2024-12-13/
LOCATION:230 Franklin Road\, Franklin\, TN\, 37064\, 230 Franklin Road\, Franklin\, 37064\, United States
ATTACH;FMTTYPE=image/jpeg:https://williamsonchamber.com/wp-content/uploads/2024/08/JennyBlack-Headshot-2.jpg
ORGANIZER;CN="Ground Floor Yoga and Wellbeing":MAILTO:hello@groundflooryoga.com
END:VEVENT
END:VCALENDAR