BEGIN:VCALENDAR
VERSION:2.0
PRODID:-//Williamson, Inc. - ECPv6.15.18//NONSGML v1.0//EN
CALSCALE:GREGORIAN
METHOD:PUBLISH
X-ORIGINAL-URL:https://williamsonchamber.com
X-WR-CALDESC:Events for Williamson, Inc.
REFRESH-INTERVAL;VALUE=DURATION:PT1H
X-Robots-Tag:noindex
X-PUBLISHED-TTL:PT1H
BEGIN:VTIMEZONE
TZID:America/Chicago
BEGIN:DAYLIGHT
TZOFFSETFROM:-0600
TZOFFSETTO:-0500
TZNAME:CDT
DTSTART:20240310T080000
END:DAYLIGHT
BEGIN:STANDARD
TZOFFSETFROM:-0500
TZOFFSETTO:-0600
TZNAME:CST
DTSTART:20241103T070000
END:STANDARD
BEGIN:DAYLIGHT
TZOFFSETFROM:-0600
TZOFFSETTO:-0500
TZNAME:CDT
DTSTART:20250309T080000
END:DAYLIGHT
BEGIN:STANDARD
TZOFFSETFROM:-0500
TZOFFSETTO:-0600
TZNAME:CST
DTSTART:20251102T070000
END:STANDARD
BEGIN:DAYLIGHT
TZOFFSETFROM:-0600
TZOFFSETTO:-0500
TZNAME:CDT
DTSTART:20260308T080000
END:DAYLIGHT
BEGIN:STANDARD
TZOFFSETFROM:-0500
TZOFFSETTO:-0600
TZNAME:CST
DTSTART:20261101T070000
END:STANDARD
END:VTIMEZONE
BEGIN:VEVENT
DTSTART;TZID=America/Chicago:20250306T070000
DTEND;TZID=America/Chicago:20250306T083000
DTSTAMP:20260423T223622
CREATED:20250205T202635Z
LAST-MODIFIED:20250205T202635Z
UID:10002636-1741244400-1741249800@williamsonchamber.com
SUMMARY:Waves Annual Fundraising Breakfast
DESCRIPTION:Join Us for Our Annual Fundraising Breakfast \nJoin us on Thursday\, March 6\, from 7:00 a.m. to 8:30 a.m.\, at the Williamson County Enrichment Center at Academy Park for a morning of inspiration and connection. \nDoors open at 7:00 a.m.\, followed by inspiring programs beginning at 7:30 a.m. Together\, we’ll reflect on the incredible progress Waves has made and envision the brighter\, more inclusive future we can build together. \nEnjoy a delicious\, free meal as you listen to heartfelt stories from Waves families about how your kindness and generosity empower individuals and families in our community. Discover the extraordinary difference you’re making and the potential to achieve even more\, together. \nIf you’re unable to join us in person\, you can still be part of this meaningful journey. Your support can make a lasting impact—donate today: https://wavesinc.kindful.com/. \nLet’s gather to celebrate hope\, create opportunity\, and continue changing lives. Together\, we can Make Waves that matter.
URL:https://williamsonchamber.com/member-event/waves-annual-fundraising-breakfast/
LOCATION:Williamson County Enrichment Center\, 110 Everbright Ave\, Franklin\, 37064
ATTACH;FMTTYPE=image/png:https://williamsonchamber.com/wp-content/uploads/2025/02/Breakfast-FB-Banner_25.png
ORGANIZER;CN="Waves%2C Inc.":MAILTO:sdavis@wavesinc.com
END:VEVENT
END:VCALENDAR