BEGIN:VCALENDAR
VERSION:2.0
PRODID:-//Williamson, Inc. - ECPv6.15.18//NONSGML v1.0//EN
CALSCALE:GREGORIAN
METHOD:PUBLISH
X-WR-CALNAME:Williamson, Inc.
X-ORIGINAL-URL:https://williamsonchamber.com
X-WR-CALDESC:Events for Williamson, Inc.
REFRESH-INTERVAL;VALUE=DURATION:PT1H
X-Robots-Tag:noindex
X-PUBLISHED-TTL:PT1H
BEGIN:VTIMEZONE
TZID:America/Chicago
BEGIN:DAYLIGHT
TZOFFSETFROM:-0600
TZOFFSETTO:-0500
TZNAME:CDT
DTSTART:20250309T080000
END:DAYLIGHT
BEGIN:STANDARD
TZOFFSETFROM:-0500
TZOFFSETTO:-0600
TZNAME:CST
DTSTART:20251102T070000
END:STANDARD
BEGIN:DAYLIGHT
TZOFFSETFROM:-0600
TZOFFSETTO:-0500
TZNAME:CDT
DTSTART:20260308T080000
END:DAYLIGHT
BEGIN:STANDARD
TZOFFSETFROM:-0500
TZOFFSETTO:-0600
TZNAME:CST
DTSTART:20261101T070000
END:STANDARD
BEGIN:DAYLIGHT
TZOFFSETFROM:-0600
TZOFFSETTO:-0500
TZNAME:CDT
DTSTART:20270314T080000
END:DAYLIGHT
BEGIN:STANDARD
TZOFFSETFROM:-0500
TZOFFSETTO:-0600
TZNAME:CST
DTSTART:20271107T070000
END:STANDARD
END:VTIMEZONE
BEGIN:VEVENT
DTSTART;TZID=America/Chicago:20260518T090000
DTEND;TZID=America/Chicago:20260518T150000
DTSTAMP:20260422T182432
CREATED:20260128T201029Z
LAST-MODIFIED:20260128T201029Z
UID:10003555-1779094800-1779116400@williamsonchamber.com
SUMMARY:Golf with Mercy
DESCRIPTION:Golf with Mercy to raise funds for Mercy Community Healthcare. This year’s golf outing will be held at Westhaven Golf Club on Monday\, May 18. Registration opens at 7:45am\, shotgun start is at 9am\, and lunch will immediately follow the rounds. \nPlayers raise $5\,500 for their team using a peer-to-peer fundraising model. This means they ask their friends and family to support them at Golf with Mercy. Mercy Community Healthcare must raise approximately $1.5 million each year to sustain its current level of patient care. The cost for one visit for primary medical care or mental health counseling for someone without insurance is $125. The funding raised from Golf with Mercy is designated for general expenses\, so it’s used where help is needed the most.
URL:https://williamsonchamber.com/member-event/golf-with-mercy-3/
LOCATION:Westhaven Golf Club\, 4000 Golf Club Ln\, Franklin\, 37064
ATTACH;FMTTYPE=image/jpeg:https://williamsonchamber.com/wp-content/uploads/2026/01/Golf-with-Mercy-Logo.jpg
ORGANIZER;CN="Mercy Community Healthcare":MAILTO:marketing
END:VEVENT
BEGIN:VEVENT
DTSTART;TZID=America/Chicago:20260530T170000
DTEND;TZID=America/Chicago:20260530T210000
DTSTAMP:20260422T182432
CREATED:20260409T133325Z
LAST-MODIFIED:20260409T133325Z
UID:10003607-1780160400-1780174800@williamsonchamber.com
SUMMARY:BrightStone's A Night Full of Stars
DESCRIPTION:A fun-filled and impactful evening of great music with GRAMMY\, CMA & ACM Award-winning country star Carly Pearce. Benefitting BrightStone’s programs that empower and enrich the lives of adults with intellectual and developmental disabilities. Dinner\, concert\, silent auction\, and a special performance from the BrightStone Show Choir. \nPresented by Atmos Energy.
URL:https://williamsonchamber.com/member-event/brightstones-a-night-full-of-stars/
LOCATION:Liberty Hall in the Factory at Franklin\, 230 Franklin Road\, Franklin\, 37064
ATTACH;FMTTYPE=image/png:https://williamsonchamber.com/wp-content/uploads/2026/04/carly-small.png
ORGANIZER;CN="Brightstone":MAILTO:kerri.bryant@brightstone.org
END:VEVENT
END:VCALENDAR