BEGIN:VCALENDAR
VERSION:2.0
PRODID:-//Williamson, Inc. - ECPv6.15.18//NONSGML v1.0//EN
CALSCALE:GREGORIAN
METHOD:PUBLISH
X-WR-CALNAME:Williamson, Inc.
X-ORIGINAL-URL:https://williamsonchamber.com
X-WR-CALDESC:Events for Williamson, Inc.
REFRESH-INTERVAL;VALUE=DURATION:PT1H
X-Robots-Tag:noindex
X-PUBLISHED-TTL:PT1H
BEGIN:VTIMEZONE
TZID:America/Chicago
BEGIN:DAYLIGHT
TZOFFSETFROM:-0600
TZOFFSETTO:-0500
TZNAME:CDT
DTSTART:20240310T080000
END:DAYLIGHT
BEGIN:STANDARD
TZOFFSETFROM:-0500
TZOFFSETTO:-0600
TZNAME:CST
DTSTART:20241103T070000
END:STANDARD
BEGIN:DAYLIGHT
TZOFFSETFROM:-0600
TZOFFSETTO:-0500
TZNAME:CDT
DTSTART:20250309T080000
END:DAYLIGHT
BEGIN:STANDARD
TZOFFSETFROM:-0500
TZOFFSETTO:-0600
TZNAME:CST
DTSTART:20251102T070000
END:STANDARD
BEGIN:DAYLIGHT
TZOFFSETFROM:-0600
TZOFFSETTO:-0500
TZNAME:CDT
DTSTART:20260308T080000
END:DAYLIGHT
BEGIN:STANDARD
TZOFFSETFROM:-0500
TZOFFSETTO:-0600
TZNAME:CST
DTSTART:20261101T070000
END:STANDARD
END:VTIMEZONE
BEGIN:VEVENT
DTSTART;TZID=America/Chicago:20251113T173000
DTEND;TZID=America/Chicago:20251113T203000
DTSTAMP:20260424T195435
CREATED:20251001T191343Z
LAST-MODIFIED:20251001T191343Z
UID:10003113-1763055000-1763065800@williamsonchamber.com
SUMMARY:Mercy Community Healthcare's Harvest Homecoming
DESCRIPTION:Mercy Community Healthcare provides pediatric and adult primary care and mental health care\, including counseling and psychiatry\, to the underserved community of Middle TN. Join us for our annual fall dinner benefitting Mercy’s Centers of Excellence: Primary Care\, Mental Health and Patient & Family Support. The evening includes a cocktail hour\, dinner\, a program and music and dancing.
URL:https://williamsonchamber.com/member-event/mercy-community-healthcares-harvest-homecoming/
LOCATION:Williamson County Enrichment Center\, 110 Everbright Ave\, Franklin\, 37064
ATTACH;FMTTYPE=image/png:https://williamsonchamber.com/wp-content/uploads/2025/10/Harvest-Homecoming-Image.png
ORGANIZER;CN="Mercy Community Healthcare":MAILTO:marketing
END:VEVENT
BEGIN:VEVENT
DTSTART;TZID=America/Chicago:20251114T083000
DTEND;TZID=America/Chicago:20251114T110000
DTSTAMP:20260424T195435
CREATED:20251028T174322Z
LAST-MODIFIED:20251028T174322Z
UID:10003508-1763109000-1763118000@williamsonchamber.com
SUMMARY:2025 State of Diabetes: Nashville
DESCRIPTION:Addressing Obesity and Diabetes: Strategies for Healthier Lives and Lower Costs\nJoin us at State of Diabetes Tennessee\, a no-cost event featuring a panel discussion on how managing obesity can help prevent and even put type 2 diabetes in remission. Explore new treatments\, lifestyle changes\, and ways to make obesity care more accessible – helping individuals\, families\, and employers support healthier lives and reduce overall medical costs. \nDATE: November 14\, 2025\nTIME: 8:30 a.m. – 11:00 a.m.\nLOCATION: Riverside Revival (1600 Riverside Dr\, Nashville\, TN 37216) \nRegister at no cost: https://stateofdiabetes-diabetes.donordrive.com/sodnashville\nWant to know more? Reach out to us at BFarmer@diabetes.org
URL:https://williamsonchamber.com/member-event/2025-state-of-diabetes-nashville/
LOCATION:Riverside Revival\, 1600 Riverside Dr\, Nashville\, 37216
ATTACH;FMTTYPE=image/png:https://williamsonchamber.com/wp-content/uploads/2025/10/2025-State-of-Diabetes-Nashville-Invitation.png
ORGANIZER;CN="American Diabetes Association":MAILTO:bfarmer@diabetes.org
END:VEVENT
BEGIN:VEVENT
DTSTART;TZID=America/Chicago:20251125T130000
DTEND;TZID=America/Chicago:20251125T180000
DTSTAMP:20260424T195435
CREATED:20240325T143046Z
LAST-MODIFIED:20240325T143046Z
UID:10001475-1764075600-1764093600@williamsonchamber.com
SUMMARY:Public Blood Drive
DESCRIPTION:Bone and Joint Institute is hosting a public blood drive from 1pm to 6pm.\nBlood Assurance is the only local blood bank in Middle Tennessee\, and we need your help.\nPlease be a hero\, and save three lives by donating blood today!
URL:https://williamsonchamber.com/member-event/public-blood-drive/2025-11-25/
LOCATION:Bone And Joint Institute\, 3000 Edward Curd Lane\, Franklin\, 37206\, United States
ATTACH;FMTTYPE=image/png:https://williamsonchamber.com/wp-content/uploads/2024/03/BA-Logo.png
ORGANIZER;CN="Blood Assurance":MAILTO:timhibbs@bloodassurance.org
END:VEVENT
END:VCALENDAR