BEGIN:VCALENDAR
VERSION:2.0
PRODID:-//Williamson, Inc. - ECPv6.15.18//NONSGML v1.0//EN
CALSCALE:GREGORIAN
METHOD:PUBLISH
X-WR-CALNAME:Williamson, Inc.
X-ORIGINAL-URL:https://williamsonchamber.com
X-WR-CALDESC:Events for Williamson, Inc.
REFRESH-INTERVAL;VALUE=DURATION:PT1H
X-Robots-Tag:noindex
X-PUBLISHED-TTL:PT1H
BEGIN:VTIMEZONE
TZID:America/Chicago
BEGIN:DAYLIGHT
TZOFFSETFROM:-0600
TZOFFSETTO:-0500
TZNAME:CDT
DTSTART:20260308T080000
END:DAYLIGHT
BEGIN:STANDARD
TZOFFSETFROM:-0500
TZOFFSETTO:-0600
TZNAME:CST
DTSTART:20261101T070000
END:STANDARD
BEGIN:DAYLIGHT
TZOFFSETFROM:-0600
TZOFFSETTO:-0500
TZNAME:CDT
DTSTART:20270314T080000
END:DAYLIGHT
BEGIN:STANDARD
TZOFFSETFROM:-0500
TZOFFSETTO:-0600
TZNAME:CST
DTSTART:20271107T070000
END:STANDARD
BEGIN:DAYLIGHT
TZOFFSETFROM:-0600
TZOFFSETTO:-0500
TZNAME:CDT
DTSTART:20280312T080000
END:DAYLIGHT
BEGIN:STANDARD
TZOFFSETFROM:-0500
TZOFFSETTO:-0600
TZNAME:CST
DTSTART:20281105T070000
END:STANDARD
BEGIN:DAYLIGHT
TZOFFSETFROM:-0600
TZOFFSETTO:-0500
TZNAME:CDT
DTSTART:20290311T080000
END:DAYLIGHT
BEGIN:STANDARD
TZOFFSETFROM:-0500
TZOFFSETTO:-0600
TZNAME:CST
DTSTART:20291104T070000
END:STANDARD
BEGIN:DAYLIGHT
TZOFFSETFROM:-0600
TZOFFSETTO:-0500
TZNAME:CDT
DTSTART:20300310T080000
END:DAYLIGHT
BEGIN:STANDARD
TZOFFSETFROM:-0500
TZOFFSETTO:-0600
TZNAME:CST
DTSTART:20301103T070000
END:STANDARD
END:VTIMEZONE
BEGIN:VEVENT
DTSTART;TZID=America/Chicago:20270323T130000
DTEND;TZID=America/Chicago:20270323T180000
DTSTAMP:20260423T144452
CREATED:20240325T143046Z
LAST-MODIFIED:20240325T143046Z
UID:10001491-1805806800-1805824800@williamsonchamber.com
SUMMARY:Public Blood Drive
DESCRIPTION:Bone and Joint Institute is hosting a public blood drive from 1pm to 6pm.\nBlood Assurance is the only local blood bank in Middle Tennessee\, and we need your help.\nPlease be a hero\, and save three lives by donating blood today!
URL:https://williamsonchamber.com/member-event/public-blood-drive/2027-03-23/
LOCATION:Bone And Joint Institute\, 3000 Edward Curd Lane\, Franklin\, 37206\, United States
ATTACH;FMTTYPE=image/png:https://williamsonchamber.com/wp-content/uploads/2024/03/BA-Logo.png
ORGANIZER;CN="Blood Assurance":MAILTO:timhibbs@bloodassurance.org
END:VEVENT
BEGIN:VEVENT
DTSTART;TZID=America/Chicago:20270427T130000
DTEND;TZID=America/Chicago:20270427T180000
DTSTAMP:20260423T144452
CREATED:20240325T143046Z
LAST-MODIFIED:20240325T143046Z
UID:10001492-1808830800-1808848800@williamsonchamber.com
SUMMARY:Public Blood Drive
DESCRIPTION:Bone and Joint Institute is hosting a public blood drive from 1pm to 6pm.\nBlood Assurance is the only local blood bank in Middle Tennessee\, and we need your help.\nPlease be a hero\, and save three lives by donating blood today!
URL:https://williamsonchamber.com/member-event/public-blood-drive/2027-04-27/
LOCATION:Bone And Joint Institute\, 3000 Edward Curd Lane\, Franklin\, 37206\, United States
ATTACH;FMTTYPE=image/png:https://williamsonchamber.com/wp-content/uploads/2024/03/BA-Logo.png
ORGANIZER;CN="Blood Assurance":MAILTO:timhibbs@bloodassurance.org
END:VEVENT
BEGIN:VEVENT
DTSTART;TZID=America/Chicago:20270525T130000
DTEND;TZID=America/Chicago:20270525T180000
DTSTAMP:20260423T144452
CREATED:20240325T143046Z
LAST-MODIFIED:20240325T143046Z
UID:10001493-1811250000-1811268000@williamsonchamber.com
SUMMARY:Public Blood Drive
DESCRIPTION:Bone and Joint Institute is hosting a public blood drive from 1pm to 6pm.\nBlood Assurance is the only local blood bank in Middle Tennessee\, and we need your help.\nPlease be a hero\, and save three lives by donating blood today!
URL:https://williamsonchamber.com/member-event/public-blood-drive/2027-05-25/
LOCATION:Bone And Joint Institute\, 3000 Edward Curd Lane\, Franklin\, 37206\, United States
ATTACH;FMTTYPE=image/png:https://williamsonchamber.com/wp-content/uploads/2024/03/BA-Logo.png
ORGANIZER;CN="Blood Assurance":MAILTO:timhibbs@bloodassurance.org
END:VEVENT
BEGIN:VEVENT
DTSTART;TZID=America/Chicago:20270622T130000
DTEND;TZID=America/Chicago:20270622T180000
DTSTAMP:20260423T144452
CREATED:20240325T143046Z
LAST-MODIFIED:20240325T143046Z
UID:10001494-1813669200-1813687200@williamsonchamber.com
SUMMARY:Public Blood Drive
DESCRIPTION:Bone and Joint Institute is hosting a public blood drive from 1pm to 6pm.\nBlood Assurance is the only local blood bank in Middle Tennessee\, and we need your help.\nPlease be a hero\, and save three lives by donating blood today!
URL:https://williamsonchamber.com/member-event/public-blood-drive/2027-06-22/
LOCATION:Bone And Joint Institute\, 3000 Edward Curd Lane\, Franklin\, 37206\, United States
ATTACH;FMTTYPE=image/png:https://williamsonchamber.com/wp-content/uploads/2024/03/BA-Logo.png
ORGANIZER;CN="Blood Assurance":MAILTO:timhibbs@bloodassurance.org
END:VEVENT
BEGIN:VEVENT
DTSTART;TZID=America/Chicago:20270727T130000
DTEND;TZID=America/Chicago:20270727T180000
DTSTAMP:20260423T144452
CREATED:20240325T143046Z
LAST-MODIFIED:20240325T143046Z
UID:10001495-1816693200-1816711200@williamsonchamber.com
SUMMARY:Public Blood Drive
DESCRIPTION:Bone and Joint Institute is hosting a public blood drive from 1pm to 6pm.\nBlood Assurance is the only local blood bank in Middle Tennessee\, and we need your help.\nPlease be a hero\, and save three lives by donating blood today!
URL:https://williamsonchamber.com/member-event/public-blood-drive/2027-07-27/
LOCATION:Bone And Joint Institute\, 3000 Edward Curd Lane\, Franklin\, 37206\, United States
ATTACH;FMTTYPE=image/png:https://williamsonchamber.com/wp-content/uploads/2024/03/BA-Logo.png
ORGANIZER;CN="Blood Assurance":MAILTO:timhibbs@bloodassurance.org
END:VEVENT
BEGIN:VEVENT
DTSTART;TZID=America/Chicago:20270824T130000
DTEND;TZID=America/Chicago:20270824T180000
DTSTAMP:20260423T144452
CREATED:20240325T143046Z
LAST-MODIFIED:20240325T143046Z
UID:10001496-1819112400-1819130400@williamsonchamber.com
SUMMARY:Public Blood Drive
DESCRIPTION:Bone and Joint Institute is hosting a public blood drive from 1pm to 6pm.\nBlood Assurance is the only local blood bank in Middle Tennessee\, and we need your help.\nPlease be a hero\, and save three lives by donating blood today!
URL:https://williamsonchamber.com/member-event/public-blood-drive/2027-08-24/
LOCATION:Bone And Joint Institute\, 3000 Edward Curd Lane\, Franklin\, 37206\, United States
ATTACH;FMTTYPE=image/png:https://williamsonchamber.com/wp-content/uploads/2024/03/BA-Logo.png
ORGANIZER;CN="Blood Assurance":MAILTO:timhibbs@bloodassurance.org
END:VEVENT
BEGIN:VEVENT
DTSTART;TZID=America/Chicago:20270928T130000
DTEND;TZID=America/Chicago:20270928T180000
DTSTAMP:20260423T144452
CREATED:20240325T143046Z
LAST-MODIFIED:20240325T143046Z
UID:10001497-1822136400-1822154400@williamsonchamber.com
SUMMARY:Public Blood Drive
DESCRIPTION:Bone and Joint Institute is hosting a public blood drive from 1pm to 6pm.\nBlood Assurance is the only local blood bank in Middle Tennessee\, and we need your help.\nPlease be a hero\, and save three lives by donating blood today!
URL:https://williamsonchamber.com/member-event/public-blood-drive/2027-09-28/
LOCATION:Bone And Joint Institute\, 3000 Edward Curd Lane\, Franklin\, 37206\, United States
ATTACH;FMTTYPE=image/png:https://williamsonchamber.com/wp-content/uploads/2024/03/BA-Logo.png
ORGANIZER;CN="Blood Assurance":MAILTO:timhibbs@bloodassurance.org
END:VEVENT
BEGIN:VEVENT
DTSTART;TZID=America/Chicago:20271026T130000
DTEND;TZID=America/Chicago:20271026T180000
DTSTAMP:20260423T144453
CREATED:20240325T143046Z
LAST-MODIFIED:20240325T143046Z
UID:10001498-1824555600-1824573600@williamsonchamber.com
SUMMARY:Public Blood Drive
DESCRIPTION:Bone and Joint Institute is hosting a public blood drive from 1pm to 6pm.\nBlood Assurance is the only local blood bank in Middle Tennessee\, and we need your help.\nPlease be a hero\, and save three lives by donating blood today!
URL:https://williamsonchamber.com/member-event/public-blood-drive/2027-10-26/
LOCATION:Bone And Joint Institute\, 3000 Edward Curd Lane\, Franklin\, 37206\, United States
ATTACH;FMTTYPE=image/png:https://williamsonchamber.com/wp-content/uploads/2024/03/BA-Logo.png
ORGANIZER;CN="Blood Assurance":MAILTO:timhibbs@bloodassurance.org
END:VEVENT
BEGIN:VEVENT
DTSTART;TZID=America/Chicago:20271123T130000
DTEND;TZID=America/Chicago:20271123T180000
DTSTAMP:20260423T144453
CREATED:20240325T143046Z
LAST-MODIFIED:20240325T143046Z
UID:10001499-1826974800-1826992800@williamsonchamber.com
SUMMARY:Public Blood Drive
DESCRIPTION:Bone and Joint Institute is hosting a public blood drive from 1pm to 6pm.\nBlood Assurance is the only local blood bank in Middle Tennessee\, and we need your help.\nPlease be a hero\, and save three lives by donating blood today!
URL:https://williamsonchamber.com/member-event/public-blood-drive/2027-11-23/
LOCATION:Bone And Joint Institute\, 3000 Edward Curd Lane\, Franklin\, 37206\, United States
ATTACH;FMTTYPE=image/png:https://williamsonchamber.com/wp-content/uploads/2024/03/BA-Logo.png
ORGANIZER;CN="Blood Assurance":MAILTO:timhibbs@bloodassurance.org
END:VEVENT
BEGIN:VEVENT
DTSTART;TZID=America/Chicago:20271228T130000
DTEND;TZID=America/Chicago:20271228T180000
DTSTAMP:20260423T144453
CREATED:20240325T143046Z
LAST-MODIFIED:20240325T143046Z
UID:10001500-1829998800-1830016800@williamsonchamber.com
SUMMARY:Public Blood Drive
DESCRIPTION:Bone and Joint Institute is hosting a public blood drive from 1pm to 6pm.\nBlood Assurance is the only local blood bank in Middle Tennessee\, and we need your help.\nPlease be a hero\, and save three lives by donating blood today!
URL:https://williamsonchamber.com/member-event/public-blood-drive/2027-12-28/
LOCATION:Bone And Joint Institute\, 3000 Edward Curd Lane\, Franklin\, 37206\, United States
ATTACH;FMTTYPE=image/png:https://williamsonchamber.com/wp-content/uploads/2024/03/BA-Logo.png
ORGANIZER;CN="Blood Assurance":MAILTO:timhibbs@bloodassurance.org
END:VEVENT
BEGIN:VEVENT
DTSTART;TZID=America/Chicago:20280125T130000
DTEND;TZID=America/Chicago:20280125T180000
DTSTAMP:20260423T144453
CREATED:20240325T143046Z
LAST-MODIFIED:20240325T143046Z
UID:10001501-1832418000-1832436000@williamsonchamber.com
SUMMARY:Public Blood Drive
DESCRIPTION:Bone and Joint Institute is hosting a public blood drive from 1pm to 6pm.\nBlood Assurance is the only local blood bank in Middle Tennessee\, and we need your help.\nPlease be a hero\, and save three lives by donating blood today!
URL:https://williamsonchamber.com/member-event/public-blood-drive/2028-01-25/
LOCATION:Bone And Joint Institute\, 3000 Edward Curd Lane\, Franklin\, 37206\, United States
ATTACH;FMTTYPE=image/png:https://williamsonchamber.com/wp-content/uploads/2024/03/BA-Logo.png
ORGANIZER;CN="Blood Assurance":MAILTO:timhibbs@bloodassurance.org
END:VEVENT
BEGIN:VEVENT
DTSTART;TZID=America/Chicago:20280222T130000
DTEND;TZID=America/Chicago:20280222T180000
DTSTAMP:20260423T144453
CREATED:20240325T143046Z
LAST-MODIFIED:20240325T143046Z
UID:10001502-1834837200-1834855200@williamsonchamber.com
SUMMARY:Public Blood Drive
DESCRIPTION:Bone and Joint Institute is hosting a public blood drive from 1pm to 6pm.\nBlood Assurance is the only local blood bank in Middle Tennessee\, and we need your help.\nPlease be a hero\, and save three lives by donating blood today!
URL:https://williamsonchamber.com/member-event/public-blood-drive/2028-02-22/
LOCATION:Bone And Joint Institute\, 3000 Edward Curd Lane\, Franklin\, 37206\, United States
ATTACH;FMTTYPE=image/png:https://williamsonchamber.com/wp-content/uploads/2024/03/BA-Logo.png
ORGANIZER;CN="Blood Assurance":MAILTO:timhibbs@bloodassurance.org
END:VEVENT
BEGIN:VEVENT
DTSTART;TZID=America/Chicago:20280328T130000
DTEND;TZID=America/Chicago:20280328T180000
DTSTAMP:20260423T144453
CREATED:20240325T143046Z
LAST-MODIFIED:20240325T143046Z
UID:10001503-1837861200-1837879200@williamsonchamber.com
SUMMARY:Public Blood Drive
DESCRIPTION:Bone and Joint Institute is hosting a public blood drive from 1pm to 6pm.\nBlood Assurance is the only local blood bank in Middle Tennessee\, and we need your help.\nPlease be a hero\, and save three lives by donating blood today!
URL:https://williamsonchamber.com/member-event/public-blood-drive/2028-03-28/
LOCATION:Bone And Joint Institute\, 3000 Edward Curd Lane\, Franklin\, 37206\, United States
ATTACH;FMTTYPE=image/png:https://williamsonchamber.com/wp-content/uploads/2024/03/BA-Logo.png
ORGANIZER;CN="Blood Assurance":MAILTO:timhibbs@bloodassurance.org
END:VEVENT
BEGIN:VEVENT
DTSTART;TZID=America/Chicago:20280425T130000
DTEND;TZID=America/Chicago:20280425T180000
DTSTAMP:20260423T144453
CREATED:20240325T143046Z
LAST-MODIFIED:20240325T143046Z
UID:10001504-1840280400-1840298400@williamsonchamber.com
SUMMARY:Public Blood Drive
DESCRIPTION:Bone and Joint Institute is hosting a public blood drive from 1pm to 6pm.\nBlood Assurance is the only local blood bank in Middle Tennessee\, and we need your help.\nPlease be a hero\, and save three lives by donating blood today!
URL:https://williamsonchamber.com/member-event/public-blood-drive/2028-04-25/
LOCATION:Bone And Joint Institute\, 3000 Edward Curd Lane\, Franklin\, 37206\, United States
ATTACH;FMTTYPE=image/png:https://williamsonchamber.com/wp-content/uploads/2024/03/BA-Logo.png
ORGANIZER;CN="Blood Assurance":MAILTO:timhibbs@bloodassurance.org
END:VEVENT
BEGIN:VEVENT
DTSTART;TZID=America/Chicago:20280523T130000
DTEND;TZID=America/Chicago:20280523T180000
DTSTAMP:20260423T144453
CREATED:20240325T143046Z
LAST-MODIFIED:20240325T143046Z
UID:10001505-1842699600-1842717600@williamsonchamber.com
SUMMARY:Public Blood Drive
DESCRIPTION:Bone and Joint Institute is hosting a public blood drive from 1pm to 6pm.\nBlood Assurance is the only local blood bank in Middle Tennessee\, and we need your help.\nPlease be a hero\, and save three lives by donating blood today!
URL:https://williamsonchamber.com/member-event/public-blood-drive/2028-05-23/
LOCATION:Bone And Joint Institute\, 3000 Edward Curd Lane\, Franklin\, 37206\, United States
ATTACH;FMTTYPE=image/png:https://williamsonchamber.com/wp-content/uploads/2024/03/BA-Logo.png
ORGANIZER;CN="Blood Assurance":MAILTO:timhibbs@bloodassurance.org
END:VEVENT
BEGIN:VEVENT
DTSTART;TZID=America/Chicago:20280627T130000
DTEND;TZID=America/Chicago:20280627T180000
DTSTAMP:20260423T144453
CREATED:20240325T143046Z
LAST-MODIFIED:20240325T143046Z
UID:10001506-1845723600-1845741600@williamsonchamber.com
SUMMARY:Public Blood Drive
DESCRIPTION:Bone and Joint Institute is hosting a public blood drive from 1pm to 6pm.\nBlood Assurance is the only local blood bank in Middle Tennessee\, and we need your help.\nPlease be a hero\, and save three lives by donating blood today!
URL:https://williamsonchamber.com/member-event/public-blood-drive/2028-06-27/
LOCATION:Bone And Joint Institute\, 3000 Edward Curd Lane\, Franklin\, 37206\, United States
ATTACH;FMTTYPE=image/png:https://williamsonchamber.com/wp-content/uploads/2024/03/BA-Logo.png
ORGANIZER;CN="Blood Assurance":MAILTO:timhibbs@bloodassurance.org
END:VEVENT
BEGIN:VEVENT
DTSTART;TZID=America/Chicago:20280725T130000
DTEND;TZID=America/Chicago:20280725T180000
DTSTAMP:20260423T144453
CREATED:20240325T143046Z
LAST-MODIFIED:20240325T143046Z
UID:10001507-1848142800-1848160800@williamsonchamber.com
SUMMARY:Public Blood Drive
DESCRIPTION:Bone and Joint Institute is hosting a public blood drive from 1pm to 6pm.\nBlood Assurance is the only local blood bank in Middle Tennessee\, and we need your help.\nPlease be a hero\, and save three lives by donating blood today!
URL:https://williamsonchamber.com/member-event/public-blood-drive/2028-07-25/
LOCATION:Bone And Joint Institute\, 3000 Edward Curd Lane\, Franklin\, 37206\, United States
ATTACH;FMTTYPE=image/png:https://williamsonchamber.com/wp-content/uploads/2024/03/BA-Logo.png
ORGANIZER;CN="Blood Assurance":MAILTO:timhibbs@bloodassurance.org
END:VEVENT
BEGIN:VEVENT
DTSTART;TZID=America/Chicago:20280822T130000
DTEND;TZID=America/Chicago:20280822T180000
DTSTAMP:20260423T144453
CREATED:20240325T143046Z
LAST-MODIFIED:20240325T143046Z
UID:10001508-1850562000-1850580000@williamsonchamber.com
SUMMARY:Public Blood Drive
DESCRIPTION:Bone and Joint Institute is hosting a public blood drive from 1pm to 6pm.\nBlood Assurance is the only local blood bank in Middle Tennessee\, and we need your help.\nPlease be a hero\, and save three lives by donating blood today!
URL:https://williamsonchamber.com/member-event/public-blood-drive/2028-08-22/
LOCATION:Bone And Joint Institute\, 3000 Edward Curd Lane\, Franklin\, 37206\, United States
ATTACH;FMTTYPE=image/png:https://williamsonchamber.com/wp-content/uploads/2024/03/BA-Logo.png
ORGANIZER;CN="Blood Assurance":MAILTO:timhibbs@bloodassurance.org
END:VEVENT
BEGIN:VEVENT
DTSTART;TZID=America/Chicago:20280926T130000
DTEND;TZID=America/Chicago:20280926T180000
DTSTAMP:20260423T144453
CREATED:20240325T143046Z
LAST-MODIFIED:20240325T143046Z
UID:10001509-1853586000-1853604000@williamsonchamber.com
SUMMARY:Public Blood Drive
DESCRIPTION:Bone and Joint Institute is hosting a public blood drive from 1pm to 6pm.\nBlood Assurance is the only local blood bank in Middle Tennessee\, and we need your help.\nPlease be a hero\, and save three lives by donating blood today!
URL:https://williamsonchamber.com/member-event/public-blood-drive/2028-09-26/
LOCATION:Bone And Joint Institute\, 3000 Edward Curd Lane\, Franklin\, 37206\, United States
ATTACH;FMTTYPE=image/png:https://williamsonchamber.com/wp-content/uploads/2024/03/BA-Logo.png
ORGANIZER;CN="Blood Assurance":MAILTO:timhibbs@bloodassurance.org
END:VEVENT
BEGIN:VEVENT
DTSTART;TZID=America/Chicago:20281024T130000
DTEND;TZID=America/Chicago:20281024T180000
DTSTAMP:20260423T144453
CREATED:20240325T143046Z
LAST-MODIFIED:20240325T143046Z
UID:10001510-1856005200-1856023200@williamsonchamber.com
SUMMARY:Public Blood Drive
DESCRIPTION:Bone and Joint Institute is hosting a public blood drive from 1pm to 6pm.\nBlood Assurance is the only local blood bank in Middle Tennessee\, and we need your help.\nPlease be a hero\, and save three lives by donating blood today!
URL:https://williamsonchamber.com/member-event/public-blood-drive/2028-10-24/
LOCATION:Bone And Joint Institute\, 3000 Edward Curd Lane\, Franklin\, 37206\, United States
ATTACH;FMTTYPE=image/png:https://williamsonchamber.com/wp-content/uploads/2024/03/BA-Logo.png
ORGANIZER;CN="Blood Assurance":MAILTO:timhibbs@bloodassurance.org
END:VEVENT
BEGIN:VEVENT
DTSTART;TZID=America/Chicago:20281128T130000
DTEND;TZID=America/Chicago:20281128T180000
DTSTAMP:20260423T144453
CREATED:20240325T143046Z
LAST-MODIFIED:20240325T143046Z
UID:10001511-1859029200-1859047200@williamsonchamber.com
SUMMARY:Public Blood Drive
DESCRIPTION:Bone and Joint Institute is hosting a public blood drive from 1pm to 6pm.\nBlood Assurance is the only local blood bank in Middle Tennessee\, and we need your help.\nPlease be a hero\, and save three lives by donating blood today!
URL:https://williamsonchamber.com/member-event/public-blood-drive/2028-11-28/
LOCATION:Bone And Joint Institute\, 3000 Edward Curd Lane\, Franklin\, 37206\, United States
ATTACH;FMTTYPE=image/png:https://williamsonchamber.com/wp-content/uploads/2024/03/BA-Logo.png
ORGANIZER;CN="Blood Assurance":MAILTO:timhibbs@bloodassurance.org
END:VEVENT
BEGIN:VEVENT
DTSTART;TZID=America/Chicago:20281226T130000
DTEND;TZID=America/Chicago:20281226T180000
DTSTAMP:20260423T144453
CREATED:20240325T143046Z
LAST-MODIFIED:20240325T143046Z
UID:10001512-1861448400-1861466400@williamsonchamber.com
SUMMARY:Public Blood Drive
DESCRIPTION:Bone and Joint Institute is hosting a public blood drive from 1pm to 6pm.\nBlood Assurance is the only local blood bank in Middle Tennessee\, and we need your help.\nPlease be a hero\, and save three lives by donating blood today!
URL:https://williamsonchamber.com/member-event/public-blood-drive/2028-12-26/
LOCATION:Bone And Joint Institute\, 3000 Edward Curd Lane\, Franklin\, 37206\, United States
ATTACH;FMTTYPE=image/png:https://williamsonchamber.com/wp-content/uploads/2024/03/BA-Logo.png
ORGANIZER;CN="Blood Assurance":MAILTO:timhibbs@bloodassurance.org
END:VEVENT
BEGIN:VEVENT
DTSTART;TZID=America/Chicago:20290123T130000
DTEND;TZID=America/Chicago:20290123T180000
DTSTAMP:20260423T144453
CREATED:20240325T143046Z
LAST-MODIFIED:20240325T143046Z
UID:10001513-1863867600-1863885600@williamsonchamber.com
SUMMARY:Public Blood Drive
DESCRIPTION:Bone and Joint Institute is hosting a public blood drive from 1pm to 6pm.\nBlood Assurance is the only local blood bank in Middle Tennessee\, and we need your help.\nPlease be a hero\, and save three lives by donating blood today!
URL:https://williamsonchamber.com/member-event/public-blood-drive/2029-01-23/
LOCATION:Bone And Joint Institute\, 3000 Edward Curd Lane\, Franklin\, 37206\, United States
ATTACH;FMTTYPE=image/png:https://williamsonchamber.com/wp-content/uploads/2024/03/BA-Logo.png
ORGANIZER;CN="Blood Assurance":MAILTO:timhibbs@bloodassurance.org
END:VEVENT
BEGIN:VEVENT
DTSTART;TZID=America/Chicago:20290227T130000
DTEND;TZID=America/Chicago:20290227T180000
DTSTAMP:20260423T144453
CREATED:20240325T143046Z
LAST-MODIFIED:20240325T143046Z
UID:10001514-1866891600-1866909600@williamsonchamber.com
SUMMARY:Public Blood Drive
DESCRIPTION:Bone and Joint Institute is hosting a public blood drive from 1pm to 6pm.\nBlood Assurance is the only local blood bank in Middle Tennessee\, and we need your help.\nPlease be a hero\, and save three lives by donating blood today!
URL:https://williamsonchamber.com/member-event/public-blood-drive/2029-02-27/
LOCATION:Bone And Joint Institute\, 3000 Edward Curd Lane\, Franklin\, 37206\, United States
ATTACH;FMTTYPE=image/png:https://williamsonchamber.com/wp-content/uploads/2024/03/BA-Logo.png
ORGANIZER;CN="Blood Assurance":MAILTO:timhibbs@bloodassurance.org
END:VEVENT
END:VCALENDAR