BEGIN:VCALENDAR
VERSION:2.0
PRODID:-//Williamson, Inc. - ECPv6.15.18//NONSGML v1.0//EN
CALSCALE:GREGORIAN
METHOD:PUBLISH
X-ORIGINAL-URL:https://williamsonchamber.com
X-WR-CALDESC:Events for Williamson, Inc.
REFRESH-INTERVAL;VALUE=DURATION:PT1H
X-Robots-Tag:noindex
X-PUBLISHED-TTL:PT1H
BEGIN:VTIMEZONE
TZID:America/Chicago
BEGIN:DAYLIGHT
TZOFFSETFROM:-0600
TZOFFSETTO:-0500
TZNAME:CDT
DTSTART:20220313T080000
END:DAYLIGHT
BEGIN:STANDARD
TZOFFSETFROM:-0500
TZOFFSETTO:-0600
TZNAME:CST
DTSTART:20221106T070000
END:STANDARD
BEGIN:DAYLIGHT
TZOFFSETFROM:-0600
TZOFFSETTO:-0500
TZNAME:CDT
DTSTART:20230312T080000
END:DAYLIGHT
BEGIN:STANDARD
TZOFFSETFROM:-0500
TZOFFSETTO:-0600
TZNAME:CST
DTSTART:20231105T070000
END:STANDARD
BEGIN:DAYLIGHT
TZOFFSETFROM:-0600
TZOFFSETTO:-0500
TZNAME:CDT
DTSTART:20240310T080000
END:DAYLIGHT
BEGIN:STANDARD
TZOFFSETFROM:-0500
TZOFFSETTO:-0600
TZNAME:CST
DTSTART:20241103T070000
END:STANDARD
END:VTIMEZONE
BEGIN:VEVENT
DTSTART;TZID=America/Chicago:20231204T180000
DTEND;TZID=America/Chicago:20231209T210000
DTSTAMP:20260422T060655
CREATED:20231205T205326Z
LAST-MODIFIED:20231205T205326Z
UID:10000645-1701712800-1702155600@williamsonchamber.com
SUMMARY:Santa & Carolers at The Factory at Franklin!
DESCRIPTION:Celebrate the holidays with Santa at The Factory at Franklin this Saturday! He’ll be waiting in our huge rocking chair next to our giant Christmas Tree in the Grand Hall. Plus\, we’ll be joined throughout the day by carolers from our local schools. Don’t forget your camera to capture these sweet family memories! \nSANTA – 1:30pm-3:30pm \nWinstead Elementary 10am-10:30am\nPoplar Grove Elementary 11am-11:30am\nCentennial H.S. 12pm-12:30pm\nRavenwood H.S. 1pm-1:30pm
URL:https://williamsonchamber.com/member-event/santa-carolers-at-the-factory-at-franklin-2/
ATTACH;FMTTYPE=image/jpeg:https://williamsonchamber.com/wp-content/uploads/2023/12/The-Factory-at-Franklin-Christmas.jpg
ORGANIZER;CN="The Factory at Franklin":MAILTO:frontdesk@factoryatfranklin.com
END:VEVENT
END:VCALENDAR