BEGIN:VCALENDAR
VERSION:2.0
PRODID:-//Williamson, Inc. - ECPv6.15.18//NONSGML v1.0//EN
CALSCALE:GREGORIAN
METHOD:PUBLISH
X-WR-CALNAME:Williamson, Inc.
X-ORIGINAL-URL:https://williamsonchamber.com
X-WR-CALDESC:Events for Williamson, Inc.
REFRESH-INTERVAL;VALUE=DURATION:PT1H
X-Robots-Tag:noindex
X-PUBLISHED-TTL:PT1H
BEGIN:VTIMEZONE
TZID:America/Chicago
BEGIN:DAYLIGHT
TZOFFSETFROM:-0600
TZOFFSETTO:-0500
TZNAME:CDT
DTSTART:20220313T080000
END:DAYLIGHT
BEGIN:STANDARD
TZOFFSETFROM:-0500
TZOFFSETTO:-0600
TZNAME:CST
DTSTART:20221106T070000
END:STANDARD
BEGIN:DAYLIGHT
TZOFFSETFROM:-0600
TZOFFSETTO:-0500
TZNAME:CDT
DTSTART:20230312T080000
END:DAYLIGHT
BEGIN:STANDARD
TZOFFSETFROM:-0500
TZOFFSETTO:-0600
TZNAME:CST
DTSTART:20231105T070000
END:STANDARD
BEGIN:DAYLIGHT
TZOFFSETFROM:-0600
TZOFFSETTO:-0500
TZNAME:CDT
DTSTART:20240310T080000
END:DAYLIGHT
BEGIN:STANDARD
TZOFFSETFROM:-0500
TZOFFSETTO:-0600
TZNAME:CST
DTSTART:20241103T070000
END:STANDARD
END:VTIMEZONE
BEGIN:VEVENT
DTSTART;TZID=America/Chicago:20230425T070000
DTEND;TZID=America/Chicago:20230425T090000
DTSTAMP:20260422T171450
CREATED:20230328T174859Z
LAST-MODIFIED:20230328T174859Z
UID:10000114-1682406000-1682413200@williamsonchamber.com
SUMMARY:Franklin Tomorrow Breakfast With the Mayors
DESCRIPTION:Franklin Tomorrow’s quarterly Breakfast With the Mayors\, featuring Williamson County Mayor Rogers Anderson and Franklin Mayor Dr. Ken Moore\, as well as special guests\, discussing topics and opportunities in our community. This event is free and features a networking breakfast provided by Puckett’s Gro. & Restaurant and Lyon Leadership Group\, our local McDonald’s franchisee.\nBreakfast With the Mayors is presented by Pinnacle Financial Partners and Gresham Smith\, with sustaining support by Atmos Energy and Williamson Health.
URL:https://williamsonchamber.com/member-event/franklin-tomorrow-breakfast-mayors-2/
LOCATION:Rolling Hills Community Church\, 1810 Columbia Avenue\, Franklin\, TN\, 37064\, United States
ATTACH;FMTTYPE=image/png:https://williamsonchamber.com/wp-content/uploads/2023/03/2023-BWTM-Eventbrite.png
ORGANIZER;CN="Franklin Tomorrow Inc.":MAILTO:mindy@franklintomorrow.org
END:VEVENT
END:VCALENDAR