BEGIN:VCALENDAR
VERSION:2.0
PRODID:-//Williamson, Inc. - ECPv6.15.18//NONSGML v1.0//EN
CALSCALE:GREGORIAN
METHOD:PUBLISH
X-WR-CALNAME:Williamson, Inc.
X-ORIGINAL-URL:https://williamsonchamber.com
X-WR-CALDESC:Events for Williamson, Inc.
REFRESH-INTERVAL;VALUE=DURATION:PT1H
X-Robots-Tag:noindex
X-PUBLISHED-TTL:PT1H
BEGIN:VTIMEZONE
TZID:America/Chicago
BEGIN:DAYLIGHT
TZOFFSETFROM:-0600
TZOFFSETTO:-0500
TZNAME:CDT
DTSTART:20220313T080000
END:DAYLIGHT
BEGIN:STANDARD
TZOFFSETFROM:-0500
TZOFFSETTO:-0600
TZNAME:CST
DTSTART:20221106T070000
END:STANDARD
BEGIN:DAYLIGHT
TZOFFSETFROM:-0600
TZOFFSETTO:-0500
TZNAME:CDT
DTSTART:20230312T080000
END:DAYLIGHT
BEGIN:STANDARD
TZOFFSETFROM:-0500
TZOFFSETTO:-0600
TZNAME:CST
DTSTART:20231105T070000
END:STANDARD
BEGIN:DAYLIGHT
TZOFFSETFROM:-0600
TZOFFSETTO:-0500
TZNAME:CDT
DTSTART:20240310T080000
END:DAYLIGHT
BEGIN:STANDARD
TZOFFSETFROM:-0500
TZOFFSETTO:-0600
TZNAME:CST
DTSTART:20241103T070000
END:STANDARD
END:VTIMEZONE
BEGIN:VEVENT
DTSTART;TZID=America/Chicago:20230908T173000
DTEND;TZID=America/Chicago:20230908T223000
DTSTAMP:20260423T105557
CREATED:20230807T185724Z
LAST-MODIFIED:20230807T185724Z
UID:10000362-1694194200-1694212200@williamsonchamber.com
SUMMARY:FrankTown's Annual Dinner\, "Putting Down Roots"
DESCRIPTION:The “Putting Down Roots” theme for this year’s Annual Dinner underscores the importance of laying a strong foundation for at-risk youth to thrive and grow. Attendees will have the opportunity to engage with the mission of FrankTown\, hear inspiring stories\, and contribute to a cause that has a profound impact on the lives of children and families in need. \nThe Annual Dinner will feature a captivating program\, inspiring guest speakers\, a silent and live auction\, and a delectable dinner experience. New this year\, an after-party with Rubiks Groove promises to be a highlight of the evening\, providing a perfect blend of entertainment\, nostalgia\, and celebration. \nTo ensure your place at this must-attend event\, we encourage you to purchase your table today. Last year’s event sold out\, so don’t miss out on this exceptional experience. Tables of 8 are available for $1000 and can be purchased at FrankTownOpenHearts.com. FrankTown also invites businesses\, organizations\, and individuals within the community to consider becoming event sponsors.
URL:https://williamsonchamber.com/member-event/franktowns-annual-dinner-putting-down-roots/
LOCATION:Franklin Marriott Cool Springs\, 700 Cool Springs Blvd\, Franklin\, 37067
ATTACH;FMTTYPE=image/png:https://williamsonchamber.com/wp-content/uploads/2023/08/Annual-Dinner.png
END:VEVENT
END:VCALENDAR