BEGIN:VCALENDAR
VERSION:2.0
PRODID:-//Williamson, Inc. - ECPv6.15.18//NONSGML v1.0//EN
CALSCALE:GREGORIAN
METHOD:PUBLISH
X-WR-CALNAME:Williamson, Inc.
X-ORIGINAL-URL:https://williamsonchamber.com
X-WR-CALDESC:Events for Williamson, Inc.
REFRESH-INTERVAL;VALUE=DURATION:PT1H
X-Robots-Tag:noindex
X-PUBLISHED-TTL:PT1H
BEGIN:VTIMEZONE
TZID:America/Chicago
BEGIN:DAYLIGHT
TZOFFSETFROM:-0600
TZOFFSETTO:-0500
TZNAME:CDT
DTSTART:20230312T080000
END:DAYLIGHT
BEGIN:STANDARD
TZOFFSETFROM:-0500
TZOFFSETTO:-0600
TZNAME:CST
DTSTART:20231105T070000
END:STANDARD
BEGIN:DAYLIGHT
TZOFFSETFROM:-0600
TZOFFSETTO:-0500
TZNAME:CDT
DTSTART:20240310T080000
END:DAYLIGHT
BEGIN:STANDARD
TZOFFSETFROM:-0500
TZOFFSETTO:-0600
TZNAME:CST
DTSTART:20241103T070000
END:STANDARD
BEGIN:DAYLIGHT
TZOFFSETFROM:-0600
TZOFFSETTO:-0500
TZNAME:CDT
DTSTART:20250309T080000
END:DAYLIGHT
BEGIN:STANDARD
TZOFFSETFROM:-0500
TZOFFSETTO:-0600
TZNAME:CST
DTSTART:20251102T070000
END:STANDARD
END:VTIMEZONE
BEGIN:VEVENT
DTSTART;TZID=America/Chicago:20240306T180000
DTEND;TZID=America/Chicago:20240306T210000
DTSTAMP:20260422T010717
CREATED:20240212T234021Z
LAST-MODIFIED:20240212T234021Z
UID:10001081-1709748000-1709758800@williamsonchamber.com
SUMMARY:Founders Live Nashville
DESCRIPTION:It’s that exciting time again! Founders Live hashtag#Nashville is back on March 6th. As part of the audience\, you will be the judge of the latest and greatest new product. Hear from 5 of the best new startups in Nashville. Reserve your tickets now. \nFor a special treat\, you will also hear from the Entrepreneurship & Innovation Center student founders. \nFounders\nFirst Rule – Joel Robert Kaiser\nXuron – Ian Nott\nIRegained Inc. – Vineet Johnson\nSolved Health.AI – John Kepley\nTrace Femcare – Claire Crunk\, WHNP \nFuture Founders\nMarkify\nHidden Adventures\nWritten by Raya \nGrab your tickets here – https://www.eventbrite.com/e/founders-live-nashville-tickets-830482815457?aff=oddtdtcreator \nFree Parking
URL:https://williamsonchamber.com/member-event/founders-live-nashville/
ATTACH;FMTTYPE=image/png:https://williamsonchamber.com/wp-content/uploads/2024/02/Founders-Live-Logo.png
ORGANIZER;CN="Nxt Level":MAILTO:jaime@nxtlevel.io
END:VEVENT
END:VCALENDAR