BEGIN:VCALENDAR
VERSION:2.0
PRODID:-//Williamson, Inc. - ECPv6.15.18//NONSGML v1.0//EN
CALSCALE:GREGORIAN
METHOD:PUBLISH
X-WR-CALNAME:Williamson, Inc.
X-ORIGINAL-URL:https://williamsonchamber.com
X-WR-CALDESC:Events for Williamson, Inc.
REFRESH-INTERVAL;VALUE=DURATION:PT1H
X-Robots-Tag:noindex
X-PUBLISHED-TTL:PT1H
BEGIN:VTIMEZONE
TZID:America/Chicago
BEGIN:DAYLIGHT
TZOFFSETFROM:-0600
TZOFFSETTO:-0500
TZNAME:CDT
DTSTART:20240310T080000
END:DAYLIGHT
BEGIN:STANDARD
TZOFFSETFROM:-0500
TZOFFSETTO:-0600
TZNAME:CST
DTSTART:20241103T070000
END:STANDARD
BEGIN:DAYLIGHT
TZOFFSETFROM:-0600
TZOFFSETTO:-0500
TZNAME:CDT
DTSTART:20250309T080000
END:DAYLIGHT
BEGIN:STANDARD
TZOFFSETFROM:-0500
TZOFFSETTO:-0600
TZNAME:CST
DTSTART:20251102T070000
END:STANDARD
BEGIN:DAYLIGHT
TZOFFSETFROM:-0600
TZOFFSETTO:-0500
TZNAME:CDT
DTSTART:20260308T080000
END:DAYLIGHT
BEGIN:STANDARD
TZOFFSETFROM:-0500
TZOFFSETTO:-0600
TZNAME:CST
DTSTART:20261101T070000
END:STANDARD
END:VTIMEZONE
BEGIN:VEVENT
DTSTART;TZID=America/Chicago:20250225T100000
DTEND;TZID=America/Chicago:20250225T143000
DTSTAMP:20260421T211558
CREATED:20250116T200322Z
LAST-MODIFIED:20250116T200322Z
UID:10002619-1740477600-1740493800@williamsonchamber.com
SUMMARY:Homeschool Days at Owl's Hill
DESCRIPTION:Tuesday\, February 25\, 2025\nSuitable for Ages 5+\nSession I: Feathered Friends 10-11:30 am\nLearn about the characteristics\, habitats\, adaptations and migrations of birds. \nSession II: Animals in Winter 1-2:30 pm\nObserve cold weather adaptations of native plants and animals and compare cold weather strategies like hibernation and migration. \nTuesday\, March 18\, 2025\nSuitable for Ages 5+\nSession I: Food Webs 10-11:30 am\nThis program promotes the understanding of predators\, the adaptations for catching prey and why predators help maintain the delicate balance of nature. \nSession II: Reptile & Amphibian Discovery 1-2:30 pm\nLearn the differences between reptiles and amphibians. Meet one of our amphibian ambassadors and hit the trail to look for spring frogs and salamanders! \nTuesday\, April 15\, 2025\nOpen to Ages 10+\nOur 10+ program days are designed for older students and cover more advanced material. These programs may also include longer or more challenging hikes.\nSession I: Outdoor Survival 10-11:30 am\nLearn how to prepare for a trip into the woods. Practice building a survival shelter and go for a hike with a compass as your guide.  \nSession II: Butterflies 1-2:30 pm\nAn introduction to the life cycles of butterflies. Learn to identify common butterflies of Middle Tennessee and take an exploratory hike to find caterpillars and their parents.
URL:https://williamsonchamber.com/member-event/homeschool-days-at-owls-hill-2/2025-02-25/
LOCATION:Owl’s Hill Nature Sanctuary\, 545 Beech Creek Rd S\, Brentwood\, TN\, 37027\, United States
ATTACH;FMTTYPE=image/jpeg:https://williamsonchamber.com/wp-content/uploads/2025/01/Homeschool-Days-1.jpg
ORGANIZER;CN="Owl's Hill Nature Sanctuary":MAILTO:info@owlshill.org
END:VEVENT
END:VCALENDAR