BEGIN:VCALENDAR
VERSION:2.0
PRODID:-//Williamson, Inc. - ECPv6.15.18//NONSGML v1.0//EN
CALSCALE:GREGORIAN
METHOD:PUBLISH
X-WR-CALNAME:Williamson, Inc.
X-ORIGINAL-URL:https://williamsonchamber.com
X-WR-CALDESC:Events for Williamson, Inc.
REFRESH-INTERVAL;VALUE=DURATION:PT1H
X-Robots-Tag:noindex
X-PUBLISHED-TTL:PT1H
BEGIN:VTIMEZONE
TZID:America/Chicago
BEGIN:DAYLIGHT
TZOFFSETFROM:-0600
TZOFFSETTO:-0500
TZNAME:CDT
DTSTART:20250309T080000
END:DAYLIGHT
BEGIN:STANDARD
TZOFFSETFROM:-0500
TZOFFSETTO:-0600
TZNAME:CST
DTSTART:20251102T070000
END:STANDARD
BEGIN:DAYLIGHT
TZOFFSETFROM:-0600
TZOFFSETTO:-0500
TZNAME:CDT
DTSTART:20260308T080000
END:DAYLIGHT
BEGIN:STANDARD
TZOFFSETFROM:-0500
TZOFFSETTO:-0600
TZNAME:CST
DTSTART:20261101T070000
END:STANDARD
BEGIN:DAYLIGHT
TZOFFSETFROM:-0600
TZOFFSETTO:-0500
TZNAME:CDT
DTSTART:20270314T080000
END:DAYLIGHT
BEGIN:STANDARD
TZOFFSETFROM:-0500
TZOFFSETTO:-0600
TZNAME:CST
DTSTART:20271107T070000
END:STANDARD
END:VTIMEZONE
BEGIN:VEVENT
DTSTART;TZID=America/Chicago:20260101T173000
DTEND;TZID=America/Chicago:20260101T190000
DTSTAMP:20260425T083636
CREATED:20250417T132907Z
LAST-MODIFIED:20250417T132907Z
UID:10002860-1767288600-1767294000@williamsonchamber.com
SUMMARY:Blacklight Networking Event
DESCRIPTION:See Your Business Potential in a New Light! \nBlacklight Group invites you to connect and grow at our exclusive networking event on May 1st\, 5:30 PM – 7:00 PM at Jonathan’s Grille in Germantown. \nJoin us to:\nExpand Your Network: Meet key business leaders.\nDiscover Synergies: Explore collaboration opportunities.\nGain New Perspectives: Hear from industry professionals.\nStrengthen Ties: Connect with Blacklight. \nBlacklight is fostering a thriving business ecosystem. Don’t miss this chance to illuminate your potential! \nWe look forward to seeing you there! \nThe Blacklight Team
URL:https://williamsonchamber.com/member-event/blacklight-networking-event/2026-01-01/
LOCATION:TN
ATTACH;FMTTYPE=image/png:https://williamsonchamber.com/wp-content/uploads/2025/04/Black-and-Purple-Gradient-Facebook-Event-Cover-3-1-1.png
END:VEVENT
BEGIN:VEVENT
DTSTART;TZID=America/Chicago:20260102T090000
DTEND;TZID=America/Chicago:20260102T130000
DTSTAMP:20260425T083636
CREATED:20250929T154454Z
LAST-MODIFIED:20250929T154454Z
UID:10003107-1767344400-1767358800@williamsonchamber.com
SUMMARY:Marshmallow Hikes at Owl’s Hill
DESCRIPTION:Join us for Marshmallow Hikes!\nNovember 29\nDecember 19\, 20\, 23\, 27\, 30 & 31\nJanuary 2\, 3\, 10 & 17 \nSpecial Noon Year’s Eve Hike:\nDecember 31 – 11 am Hike: Includes a craft and kid-friendly toast at noon. $15 / person ($17 walk-up) \nMarshmallow hikes begin PROMPTLY at 9:30 am\, 11 am & 1 pm.\nPlease arrive at least 10 minutes prior to your departure time. \nRegister online and save – ticket sales close at 8 am for the day’s hikes\nOnline Tickets: $11 / person\nWalk-up Tickets: $13 / person\nChildren 2 and under: Free \nAre you looking for something to do with the family during the holidays or an excuse to get out of the house by yourself? How does a nice hike in the winter woods followed by hot chocolate and roasted marshmallows sound? Come by Owl’s Hill for our annual Marshmallow and Hot Chocolate Hikes. \nHike Types\nEasy: 1/2 mile\, mostly level with one short hill. Time: 30 – 40 min\nModerate: 1 mile with some hills. 150 foot total elevation gain. Time: about 60 min\nBoth hike types follow natural surface trails. No strollers or wagons. \nNote: To protect the wildlife\, we do not permit pets on the Sanctuary grounds.
URL:https://williamsonchamber.com/member-event/marshmallow-hikes-at-owls-hill-2/2026-01-02/
LOCATION:Owl’s Hill Nature Sanctuary\, 545 Beech Creek Rd S\, Brentwood\, TN\, 37027\, United States
ATTACH;FMTTYPE=image/jpeg:https://williamsonchamber.com/wp-content/uploads/2025/09/Marshmallow-Hikes-1.jpg
ORGANIZER;CN="Owl's Hill Nature Sanctuary":MAILTO:info@owlshill.org
END:VEVENT
BEGIN:VEVENT
DTSTART;TZID=America/Chicago:20260103T090000
DTEND;TZID=America/Chicago:20260103T130000
DTSTAMP:20260425T083636
CREATED:20250929T154454Z
LAST-MODIFIED:20250929T154454Z
UID:10003108-1767430800-1767445200@williamsonchamber.com
SUMMARY:Marshmallow Hikes at Owl’s Hill
DESCRIPTION:Join us for Marshmallow Hikes!\nNovember 29\nDecember 19\, 20\, 23\, 27\, 30 & 31\nJanuary 2\, 3\, 10 & 17 \nSpecial Noon Year’s Eve Hike:\nDecember 31 – 11 am Hike: Includes a craft and kid-friendly toast at noon. $15 / person ($17 walk-up) \nMarshmallow hikes begin PROMPTLY at 9:30 am\, 11 am & 1 pm.\nPlease arrive at least 10 minutes prior to your departure time. \nRegister online and save – ticket sales close at 8 am for the day’s hikes\nOnline Tickets: $11 / person\nWalk-up Tickets: $13 / person\nChildren 2 and under: Free \nAre you looking for something to do with the family during the holidays or an excuse to get out of the house by yourself? How does a nice hike in the winter woods followed by hot chocolate and roasted marshmallows sound? Come by Owl’s Hill for our annual Marshmallow and Hot Chocolate Hikes. \nHike Types\nEasy: 1/2 mile\, mostly level with one short hill. Time: 30 – 40 min\nModerate: 1 mile with some hills. 150 foot total elevation gain. Time: about 60 min\nBoth hike types follow natural surface trails. No strollers or wagons. \nNote: To protect the wildlife\, we do not permit pets on the Sanctuary grounds.
URL:https://williamsonchamber.com/member-event/marshmallow-hikes-at-owls-hill-2/2026-01-03/
LOCATION:Owl’s Hill Nature Sanctuary\, 545 Beech Creek Rd S\, Brentwood\, TN\, 37027\, United States
ATTACH;FMTTYPE=image/jpeg:https://williamsonchamber.com/wp-content/uploads/2025/09/Marshmallow-Hikes-1.jpg
ORGANIZER;CN="Owl's Hill Nature Sanctuary":MAILTO:info@owlshill.org
END:VEVENT
BEGIN:VEVENT
DTSTART;TZID=America/Chicago:20260110T090000
DTEND;TZID=America/Chicago:20260110T130000
DTSTAMP:20260425T083636
CREATED:20250929T154454Z
LAST-MODIFIED:20250929T154454Z
UID:10003109-1768035600-1768050000@williamsonchamber.com
SUMMARY:Marshmallow Hikes at Owl’s Hill
DESCRIPTION:Join us for Marshmallow Hikes!\nNovember 29\nDecember 19\, 20\, 23\, 27\, 30 & 31\nJanuary 2\, 3\, 10 & 17 \nSpecial Noon Year’s Eve Hike:\nDecember 31 – 11 am Hike: Includes a craft and kid-friendly toast at noon. $15 / person ($17 walk-up) \nMarshmallow hikes begin PROMPTLY at 9:30 am\, 11 am & 1 pm.\nPlease arrive at least 10 minutes prior to your departure time. \nRegister online and save – ticket sales close at 8 am for the day’s hikes\nOnline Tickets: $11 / person\nWalk-up Tickets: $13 / person\nChildren 2 and under: Free \nAre you looking for something to do with the family during the holidays or an excuse to get out of the house by yourself? How does a nice hike in the winter woods followed by hot chocolate and roasted marshmallows sound? Come by Owl’s Hill for our annual Marshmallow and Hot Chocolate Hikes. \nHike Types\nEasy: 1/2 mile\, mostly level with one short hill. Time: 30 – 40 min\nModerate: 1 mile with some hills. 150 foot total elevation gain. Time: about 60 min\nBoth hike types follow natural surface trails. No strollers or wagons. \nNote: To protect the wildlife\, we do not permit pets on the Sanctuary grounds.
URL:https://williamsonchamber.com/member-event/marshmallow-hikes-at-owls-hill-2/2026-01-10/
LOCATION:Owl’s Hill Nature Sanctuary\, 545 Beech Creek Rd S\, Brentwood\, TN\, 37027\, United States
ATTACH;FMTTYPE=image/jpeg:https://williamsonchamber.com/wp-content/uploads/2025/09/Marshmallow-Hikes-1.jpg
ORGANIZER;CN="Owl's Hill Nature Sanctuary":MAILTO:info@owlshill.org
END:VEVENT
BEGIN:VEVENT
DTSTART;TZID=America/Chicago:20260117T090000
DTEND;TZID=America/Chicago:20260117T130000
DTSTAMP:20260425T083636
CREATED:20250929T154454Z
LAST-MODIFIED:20250929T154454Z
UID:10003110-1768640400-1768654800@williamsonchamber.com
SUMMARY:Marshmallow Hikes at Owl’s Hill
DESCRIPTION:Join us for Marshmallow Hikes!\nNovember 29\nDecember 19\, 20\, 23\, 27\, 30 & 31\nJanuary 2\, 3\, 10 & 17 \nSpecial Noon Year’s Eve Hike:\nDecember 31 – 11 am Hike: Includes a craft and kid-friendly toast at noon. $15 / person ($17 walk-up) \nMarshmallow hikes begin PROMPTLY at 9:30 am\, 11 am & 1 pm.\nPlease arrive at least 10 minutes prior to your departure time. \nRegister online and save – ticket sales close at 8 am for the day’s hikes\nOnline Tickets: $11 / person\nWalk-up Tickets: $13 / person\nChildren 2 and under: Free \nAre you looking for something to do with the family during the holidays or an excuse to get out of the house by yourself? How does a nice hike in the winter woods followed by hot chocolate and roasted marshmallows sound? Come by Owl’s Hill for our annual Marshmallow and Hot Chocolate Hikes. \nHike Types\nEasy: 1/2 mile\, mostly level with one short hill. Time: 30 – 40 min\nModerate: 1 mile with some hills. 150 foot total elevation gain. Time: about 60 min\nBoth hike types follow natural surface trails. No strollers or wagons. \nNote: To protect the wildlife\, we do not permit pets on the Sanctuary grounds.
URL:https://williamsonchamber.com/member-event/marshmallow-hikes-at-owls-hill-2/2026-01-17/
LOCATION:Owl’s Hill Nature Sanctuary\, 545 Beech Creek Rd S\, Brentwood\, TN\, 37027\, United States
ATTACH;FMTTYPE=image/jpeg:https://williamsonchamber.com/wp-content/uploads/2025/09/Marshmallow-Hikes-1.jpg
ORGANIZER;CN="Owl's Hill Nature Sanctuary":MAILTO:info@owlshill.org
END:VEVENT
END:VCALENDAR