BEGIN:VCALENDAR
VERSION:2.0
PRODID:-//Williamson, Inc. - ECPv6.15.18//NONSGML v1.0//EN
CALSCALE:GREGORIAN
METHOD:PUBLISH
X-WR-CALNAME:Williamson, Inc.
X-ORIGINAL-URL:https://williamsonchamber.com
X-WR-CALDESC:Events for Williamson, Inc.
REFRESH-INTERVAL;VALUE=DURATION:PT1H
X-Robots-Tag:noindex
X-PUBLISHED-TTL:PT1H
BEGIN:VTIMEZONE
TZID:America/Chicago
BEGIN:DAYLIGHT
TZOFFSETFROM:-0600
TZOFFSETTO:-0500
TZNAME:CDT
DTSTART:20250309T080000
END:DAYLIGHT
BEGIN:STANDARD
TZOFFSETFROM:-0500
TZOFFSETTO:-0600
TZNAME:CST
DTSTART:20251102T070000
END:STANDARD
BEGIN:DAYLIGHT
TZOFFSETFROM:-0600
TZOFFSETTO:-0500
TZNAME:CDT
DTSTART:20260308T080000
END:DAYLIGHT
BEGIN:STANDARD
TZOFFSETFROM:-0500
TZOFFSETTO:-0600
TZNAME:CST
DTSTART:20261101T070000
END:STANDARD
BEGIN:DAYLIGHT
TZOFFSETFROM:-0600
TZOFFSETTO:-0500
TZNAME:CDT
DTSTART:20270314T080000
END:DAYLIGHT
BEGIN:STANDARD
TZOFFSETFROM:-0500
TZOFFSETTO:-0600
TZNAME:CST
DTSTART:20271107T070000
END:STANDARD
END:VTIMEZONE
BEGIN:VEVENT
DTSTART;TZID=America/Chicago:20260221T093000
DTEND;TZID=America/Chicago:20260221T113000
DTSTAMP:20260425T110604
CREATED:20260126T142402Z
LAST-MODIFIED:20260126T142402Z
UID:10003550-1771666200-1771673400@williamsonchamber.com
SUMMARY:Wild About Fungus
DESCRIPTION:Saturday\, February 21\, 2026\nSession 1: 9:30 am – 12 pm\nSession 2: 1 – 3:30 pm\nThe same program will be presented at the morning and afternoon sessions. \nCost: $40\nIncludes:\n– Up to 2 people per registration\n– One (1) mushroom cultivation kit\n– Guided hike \nPre-registration is required. \nLearn the basics of mushroom cultivation for edible oyster mushrooms\, and a bit about the biology and ecology of fungus. Participants will learn how to get started growing mushrooms at home and will assemble an easy to care for oyster grow kit to take home. The program concludes with a short mushroom identification and appreciation hike. \nThis program is designed with adults and teens in mind. Suitable for ages 7 and up.
URL:https://williamsonchamber.com/member-event/wild-about-fungus-5/
LOCATION:Owl’s Hill Nature Sanctuary\, 545 Beech Creek Rd S\, Brentwood\, TN\, 37027\, United States
ATTACH;FMTTYPE=image/jpeg:https://williamsonchamber.com/wp-content/uploads/2026/01/Wild-About-Fungi-1.jpg
ORGANIZER;CN="Owl's Hill Nature Sanctuary":MAILTO:info@owlshill.org
END:VEVENT
END:VCALENDAR